Workbook

Sheet 읍면동 연령별 현황(내국인)
A1: 읍면동 연령별 인구현황(내국인)
A2: 용인시 | B2: 2026. 4. 30. 기준
A3: 연령별 | B3: 용 인 시 | C3: 처 인 구 | D3: 기 흥 구 | E3: 수 지 구 | F3: 포 곡 읍 | G3: 모 현 읍 | H3: 이 동 읍 | I3: 남 사 읍 | J3: 양 지 읍 | K3: 원 삼 면 | L3: 백 암 면 | M3: 중 앙 동 | N3: 역 북 동 | O3: 삼 가 동 | P3: 유림1동 | Q3: 유림2동 | R3: 동 부 동 | S3: 신 갈 동 | T3: 영덕1동 | U3: 영덕2동 | V3: 구 갈 동 | W3: 상 갈 동 | X3: 보 라 동 | Y3: 기 흥 동 | Z3: 서 농 동 | AA3: 구 성 동 | AB3: 마 북 동 | AC3: 동백1동 | AD3: 동백2동 | AE3: 동백3동 | AF3: 상 하 동 | AG3: 보 정 동 | AH3: 풍 덕 천 1 동 | AI3: 풍 덕 천 2 동 | AJ3: 신 봉 동 | AK3: 죽 전 1 동 | AL3: 죽 전 2 동 | AM3: 죽 전 3 동 | AN3: 동 천 동 | AO3: 상 현 1 동 | AP3: 상 현 2 동 | AQ3: 상 현 3 동 | AR3: 성 복 동
A4: 총 인구수 | B4: =SUM(C4:E4) -> 1090269 | C4: =SUM(C5,C16,C27,C38,C49,C60,C71,C82,C93,C104,C115) -> 285039 | D4: =SUM(D5,D16,D27,D38,D49,D60,D71,D82,D93,D104,D115) -> 434289 | E4: =SUM(E5,E16,E27,E38,E49,E60,E71,E82,E93,E104,E115) -> 370941 | F4: =SUM(F5,F16,F27,F38,F49,F60,F71,F82,F93,F104,F115) -> 30834 | G4: =SUM(G5,G16,G27,G38,G49,G60,G71,G82,G93,G104,G115) -> 34589 | H4: =SUM(H5,H16,H27,H38,H49,H60,H71,H82,H93,H104,H115) -> 18682 | I4: =SUM(I5,I16,I27,I38,I49,I60,I71,I82,I93,I104,I115) -> 23442 | J4: =SUM(J5,J16,J27,J38,J49,J60,J71,J82,J93,J104,J115) -> 21503 | ... BI4: =SUM(BI5,BI16,BI27,BI38,BI49,BI60,BI71,BI82,BI93,BI104,BI115) -> 0
A5: 10대 미만 | B5: =SUM(C5:E5) -> 71129 | C5: =SUM(C6:C15) -> 17616 | D5: =SUM(D6:D15) -> 26370 | E5: =SUM(E6:E15) -> 27143 | F5: =SUM(F6:F15) -> 1146 | G5: =SUM(G6:G15) -> 2341 | H5: =SUM(H6:H15) -> 767 | I5: =SUM(I6:I15) -> 2063 | J5: =SUM(J6:J15) -> 1118 | ... BM5: =SUM(BM6:BM15) -> 0
A6: 0세 | B6: =SUM(C6:E6) -> 6164 | C6: =SUM(F6:R6) -> 1640 | D6: =SUM(S6:AG6) -> 2238 | E6: =SUM(AH6:AR6) -> 2286 | F6: 101 | G6: 217 | H6: 57 | I6: 149 | J6: 114 | K6: 17 | L6: 10 | M6: 135 | N6: 259 | O6: 111 | P6: 98 | Q6: 342 | R6: 30 | S6: 291 | T6: 195 | U6: 165 | V6: 280 | W6: 65 | X6: 126 | Y6: 98 | Z6: 155 | AA6: 146 | AB6: 195 | AC6: 84 | AD6: 54 | AE6: 179 | AF6: 77 | AG6: 128 | AH6: 276 | AI6: 313 | AJ6: 187 | AK6: 161 | AL6: 168 | AM6: 152 | AN6: 330 | AO6: 120 | AP6: 194 | AQ6: 163 | AR6: 222 | AS6: 190 | AT6: 209
A7: 1세 | B7: =SUM(C7:E7) -> 5918 | C7: =SUM(F7:R7) -> 1554 | D7: =SUM(S7:AG7) -> 2249 | E7: =SUM(AH7:AR7) -> 2115 | F7: 83 | G7: 228 | H7: 48 | I7: 157 | J7: 110 | K7: 7 | L7: 6 | M7: 123 | N7: 248 | O7: 99 | P7: 72 | Q7: 343 | R7: 30 | S7: 261 | T7: 214 | U7: 156 | V7: 261 | W7: 54 | X7: 138 | Y7: 72 | Z7: 168 | AA7: 132 | AB7: 186 | AC7: 121 | AD7: 68 | AE7: 198 | AF7: 81 | AG7: 139 | AH7: 177 | AI7: 278 | AJ7: 231 | AK7: 162 | AL7: 134 | AM7: 119 | AN7: 326 | AO7: 104 | AP7: 189 | AQ7: 149 | AR7: 246 | AS7: 212 | AT7: 292
A8: 2세 | B8: =SUM(C8:E8) -> 5569 | C8: =SUM(F8:R8) -> 1479 | D8: =SUM(S8:AG8) -> 2084 | E8: =SUM(AH8:AR8) -> 2006 | F8: 95 | G8: 233 | H8: 46 | I8: 128 | J8: 104 | K8: 11 | L8: 9 | M8: 109 | N8: 228 | O8: 75 | P8: 80 | Q8: 329 | R8: 32 | S8: 194 | T8: 211 | U8: 151 | V8: 234 | W8: 61 | X8: 153 | Y8: 61 | Z8: 142 | AA8: 141 | AB8: 177 | AC8: 108 | AD8: 70 | AE8: 168 | AF8: 80 | AG8: 133 | AH8: 179 | AI8: 253 | AJ8: 198 | AK8: 148 | AL8: 107 | AM8: 96 | AN8: 343 | AO8: 102 | AP8: 199 | AQ8: 131 | AR8: 250 | AS8: 310 | AT8: 311
A9: 3세 | B9: =SUM(C9:E9) -> 6032 | C9: =SUM(F9:R9) -> 1541 | D9: =SUM(S9:AG9) -> 2245 | E9: =SUM(AH9:AR9) -> 2246 | F9: 101 | G9: 231 | H9: 55 | I9: 149 | J9: 108 | K9: 14 | L9: 16 | M9: 129 | N9: 234 | O9: 74 | P9: 67 | Q9: 338 | R9: 25 | S9: 194 | T9: 234 | U9: 127 | V9: 242 | W9: 45 | X9: 143 | Y9: 67 | Z9: 159 | AA9: 158 | AB9: 184 | AC9: 156 | AD9: 73 | AE9: 199 | AF9: 81 | AG9: 183 | AH9: 157 | AI9: 250 | AJ9: 243 | AK9: 161 | AL9: 108 | AM9: 127 | AN9: 369 | AO9: 146 | AP9: 180 | AQ9: 157 | AR9: 348 | AS9: 319 | AT9: 385
A10: 4세 | B10: =SUM(C10:E10) -> 6412 | C10: =SUM(F10:R10) -> 1673 | D10: =SUM(S10:AG10) -> 2339 | E10: =SUM(AH10:AR10) -> 2400 | F10: 80 | G10: 224 | H10: 68 | I10: 202 | J10: 111 | K10: 9 | L10: 11 | M10: 120 | N10: 258 | O10: 85 | P10: 73 | Q10: 391 | R10: 41 | S10: 163 | T10: 230 | U10: 156 | V10: 210 | W10: 52 | X10: 160 | Y10: 102 | Z10: 172 | AA10: 159 | AB10: 172 | AC10: 143 | AD10: 112 | AE10: 221 | AF10: 74 | AG10: 213 | AH10: 179 | AI10: 300 | AJ10: 273 | AK10: 162 | AL10: 101 | AM10: 123 | AN10: 379 | AO10: 147 | AP10: 197 | AQ10: 191 | AR10: 348 | AS10: 351 | AT10: 457
A11: 5세 | B11: =SUM(C11:E11) -> 6766 | C11: =SUM(F11:R11) -> 1689 | D11: =SUM(S11:AG11) -> 2492 | E11: =SUM(AH11:AR11) -> 2585 | F11: 108 | G11: 231 | H11: 82 | I11: 188 | J11: 94 | K11: 16 | L11: 9 | M11: 124 | N11: 241 | O11: 81 | P11: 67 | Q11: 412 | R11: 36 | S11: 194 | T11: 257 | U11: 177 | V11: 236 | W11: 49 | X11: 156 | Y11: 93 | Z11: 150 | AA11: 188 | AB11: 181 | AC11: 167 | AD11: 105 | AE11: 229 | AF11: 90 | AG11: 220 | AH11: 189 | AI11: 355 | AJ11: 289 | AK11: 134 | AL11: 95 | AM11: 135 | AN11: 415 | AO11: 174 | AP11: 223 | AQ11: 178 | AR11: 398 | AS11: 437 | AT11: 530
A12: 6세 | B12: =SUM(C12:E12) -> 7345 | C12: =SUM(F12:R12) -> 1758 | D12: =SUM(S12:AG12) -> 2663 | E12: =SUM(AH12:AR12) -> 2924 | F12: 109 | G12: 230 | H12: 82 | I12: 231 | J12: 99 | K12: 12 | L12: 13 | M12: 128 | N12: 290 | O12: 74 | P12: 81 | Q12: 372 | R12: 37 | S12: 183 | T12: 277 | U12: 191 | V12: 234 | W12: 48 | X12: 166 | Y12: 80 | Z12: 179 | AA12: 174 | AB12: 189 | AC12: 175 | AD12: 142 | AE12: 242 | AF12: 119 | AG12: 264 | AH12: 156 | AI12: 397 | AJ12: 313 | AK12: 184 | AL12: 72 | AM12: 149 | AN12: 447 | AO12: 222 | AP12: 262 | AQ12: 223 | AR12: 499 | AS12: 525 | AT12: 645
A13: 7세 | B13: =SUM(C13:E13) -> 8103 | C13: =SUM(F13:R13) -> 1960 | D13: =SUM(S13:AG13) -> 2971 | E13: =SUM(AH13:AR13) -> 3172 | F13: 143 | G13: 249 | H13: 87 | I13: 251 | J13: 125 | K13: 23 | L13: 17 | M13: 139 | N13: 283 | O13: 72 | P13: 68 | Q13: 444 | R13: 59 | S13: 190 | T13: 256 | U13: 194 | V13: 238 | W13: 51 | X13: 197 | Y13: 102 | Z13: 204 | AA13: 206 | AB13: 178 | AC13: 246 | AD13: 178 | AE13: 291 | AF13: 138 | AG13: 302 | AH13: 175 | AI13: 474 | AJ13: 379 | AK13: 181 | AL13: 74 | AM13: 157 | AN13: 462 | AO13: 174 | AP13: 312 | AQ13: 217 | AR13: 567 | AS13: 542 | AT13: 738
A14: 8세 | B14: =SUM(C14:E14) -> 8847 | C14: =SUM(F14:R14) -> 2094 | D14: =SUM(S14:AG14) -> 3314 | E14: =SUM(AH14:AR14) -> 3439 | F14: 159 | G14: 246 | H14: 100 | I14: 287 | J14: 121 | K14: 33 | L14: 29 | M14: 155 | N14: 331 | O14: 96 | P14: 70 | Q14: 406 | R14: 61 | S14: 198 | T14: 305 | U14: 176 | V14: 268 | W14: 69 | X14: 233 | Y14: 146 | Z14: 235 | AA14: 262 | AB14: 203 | AC14: 287 | AD14: 177 | AE14: 294 | AF14: 130 | AG14: 331 | AH14: 222 | AI14: 511 | AJ14: 345 | AK14: 190 | AL14: 85 | AM14: 209 | AN14: 527 | AO14: 224 | AP14: 317 | AQ14: 250 | AR14: 559 | AS14: 633 | AT14: 741
A15: 9세 | B15: =SUM(C15:E15) -> 9973 | C15: =SUM(F15:R15) -> 2228 | D15: =SUM(S15:AG15) -> 3775 | E15: =SUM(AH15:AR15) -> 3970 | F15: 167 | G15: 252 | H15: 142 | I15: 321 | J15: 132 | K15: 29 | L15: 28 | M15: 181 | N15: 335 | O15: 91 | P15: 82 | Q15: 408 | R15: 60 | S15: 256 | T15: 310 | U15: 185 | V15: 344 | W15: 69 | X15: 271 | Y15: 159 | Z15: 252 | AA15: 305 | AB15: 241 | AC15: 310 | AD15: 253 | AE15: 315 | AF15: 132 | AG15: 373 | AH15: 233 | AI15: 581 | AJ15: 455 | AK15: 254 | AL15: 118 | AM15: 226 | AN15: 559 | AO15: 231 | AP15: 360 | AQ15: 292 | AR15: 661 | AS15: 721 | AT15: 706
A16: 10대 | B16: =SUM(C16:E16) -> 120725 | C16: =SUM(C17:C26) -> 26514 | D16: =SUM(D17:D26) -> 48513 | E16: =SUM(E17:E26) -> 45698 | F16: =SUM(F17:F26) -> 3150 | G16: =SUM(G17:G26) -> 2936 | H16: =SUM(H17:H26) -> 1510 | I16: =SUM(I17:I26) -> 3027 | J16: =SUM(J17:J26) -> 1902 | ... BM16: =SUM(BM17:BM26) -> 0
A17: 10세 | B17: =SUM(C17:E17) -> 11423 | C17: =SUM(F17:R17) -> 2568 | D17: =SUM(S17:AG17) -> 4373 | E17: =SUM(AH17:AR17) -> 4482 | F17: 220 | G17: 318 | H17: 129 | I17: 359 | J17: 141 | K17: 32 | L17: 25 | M17: 186 | N17: 404 | O17: 117 | P17: 81 | Q17: 476 | R17: 80 | S17: 253 | T17: 398 | U17: 196 | V17: 362 | W17: 82 | X17: 333 | Y17: 162 | Z17: 329 | AA17: 333 | AB17: 253 | AC17: 384 | AD17: 315 | AE17: 361 | AF17: 174 | AG17: 438 | AH17: 240 | AI17: 650 | AJ17: 493 | AK17: 289 | AL17: 128 | AM17: 258 | AN17: 668 | AO17: 259 | AP17: 412 | AQ17: 338 | AR17: 747 | AS17: 704 | AT17: 764
A18: 11세 | B18: =SUM(C18:E18) -> 11518 | C18: =SUM(F18:R18) -> 2420 | D18: =SUM(S18:AG18) -> 4434 | E18: =SUM(AH18:AR18) -> 4664 | F18: 234 | G18: 273 | H18: 145 | I18: 338 | J18: 150 | K18: 37 | L18: 20 | M18: 167 | N18: 380 | O18: 125 | P18: 77 | Q18: 418 | R18: 56 | S18: 268 | T18: 347 | U18: 200 | V18: 346 | W18: 72 | X18: 311 | Y18: 175 | Z18: 307 | AA18: 357 | AB18: 274 | AC18: 448 | AD18: 322 | AE18: 387 | AF18: 178 | AG18: 442 | AH18: 274 | AI18: 685 | AJ18: 541 | AK18: 256 | AL18: 112 | AM18: 278 | AN18: 719 | AO18: 262 | AP18: 427 | AQ18: 346 | AR18: 764 | AS18: 784 | AT18: 757
A19: 12세 | B19: =SUM(C19:E19) -> 11459 | C19: =SUM(F19:R19) -> 2427 | D19: =SUM(S19:AG19) -> 4456 | E19: =SUM(AH19:AR19) -> 4576 | F19: 252 | G19: 297 | H19: 146 | I19: 329 | J19: 164 | K19: 37 | L19: 23 | M19: 178 | N19: 320 | O19: 100 | P19: 77 | Q19: 421 | R19: 83 | S19: 285 | T19: 364 | U19: 140 | V19: 350 | W19: 78 | X19: 348 | Y19: 160 | Z19: 293 | AA19: 353 | AB19: 288 | AC19: 422 | AD19: 382 | AE19: 372 | AF19: 217 | AG19: 404 | AH19: 264 | AI19: 645 | AJ19: 538 | AK19: 305 | AL19: 117 | AM19: 266 | AN19: 673 | AO19: 239 | AP19: 435 | AQ19: 321 | AR19: 773 | AS19: 746 | AT19: 751
A20: 13세 | B20: =SUM(C20:E20) -> 12552 | C20: =SUM(F20:R20) -> 2698 | D20: =SUM(S20:AG20) -> 5002 | E20: =SUM(AH20:AR20) -> 4852 | F20: 299 | G20: 302 | H20: 164 | I20: 377 | J20: 179 | K20: 42 | L20: 32 | M20: 201 | N20: 388 | O20: 133 | P20: 80 | Q20: 423 | R20: 78 | S20: 312 | T20: 431 | U20: 148 | V20: 372 | W20: 78 | X20: 408 | Y20: 181 | Z20: 333 | AA20: 432 | AB20: 282 | AC20: 481 | AD20: 439 | AE20: 419 | AF20: 207 | AG20: 479 | AH20: 280 | AI20: 633 | AJ20: 561 | AK20: 355 | AL20: 129 | AM20: 325 | AN20: 680 | AO20: 327 | AP20: 478 | AQ20: 338 | AR20: 746 | AS20: 757 | AT20: 724
A21: 14세 | B21: =SUM(C21:E21) -> 12345 | C21: =SUM(F21:R21) -> 2661 | D21: =SUM(S21:AG21) -> 5096 | E21: =SUM(AH21:AR21) -> 4588 | F21: 326 | G21: 297 | H21: 164 | I21: 337 | J21: 172 | K21: 42 | L21: 25 | M21: 220 | N21: 357 | O21: 145 | P21: 92 | Q21: 407 | R21: 77 | S21: 316 | T21: 426 | U21: 151 | V21: 362 | W21: 89 | X21: 390 | Y21: 190 | Z21: 327 | AA21: 464 | AB21: 317 | AC21: 530 | AD21: 425 | AE21: 403 | AF21: 235 | AG21: 471 | AH21: 317 | AI21: 625 | AJ21: 536 | AK21: 321 | AL21: 113 | AM21: 279 | AN21: 568 | AO21: 268 | AP21: 440 | AQ21: 355 | AR21: 766 | AS21: 742 | AT21: 678
A22: 15세 | B22: =SUM(C22:E22) -> 12696 | C22: =SUM(F22:R22) -> 2758 | D22: =SUM(S22:AG22) -> 5078 | E22: =SUM(AH22:AR22) -> 4860 | F22: 330 | G22: 308 | H22: 171 | I22: 307 | J22: 194 | K22: 44 | L22: 36 | M22: 246 | N22: 353 | O22: 133 | P22: 111 | Q22: 434 | R22: 91 | S22: 350 | T22: 377 | U22: 156 | V22: 311 | W22: 103 | X22: 446 | Y22: 235 | Z22: 298 | AA22: 432 | AB22: 312 | AC22: 521 | AD22: 432 | AE22: 372 | AF22: 228 | AG22: 505 | AH22: 319 | AI22: 633 | AJ22: 621 | AK22: 348 | AL22: 141 | AM22: 307 | AN22: 606 | AO22: 268 | AP22: 456 | AQ22: 352 | AR22: 809 | AS22: 716 | AT22: 747
A23: 16세 | B23: =SUM(C23:E23) -> 11631 | C23: =SUM(F23:R23) -> 2472 | D23: =SUM(S23:AG23) -> 4809 | E23: =SUM(AH23:AR23) -> 4350 | F23: 290 | G23: 281 | H23: 133 | I23: 269 | J23: 181 | K23: 57 | L23: 40 | M23: 204 | N23: 324 | O23: 135 | P23: 78 | Q23: 391 | R23: 89 | S23: 288 | T23: 348 | U23: 92 | V23: 295 | W23: 94 | X23: 396 | Y23: 203 | Z23: 267 | AA23: 467 | AB23: 336 | AC23: 505 | AD23: 453 | AE23: 390 | AF23: 215 | AG23: 460 | AH23: 334 | AI23: 538 | AJ23: 565 | AK23: 343 | AL23: 152 | AM23: 281 | AN23: 513 | AO23: 250 | AP23: 369 | AQ23: 297 | AR23: 708 | AS23: 722 | AT23: 716
A24: 17세 | B24: =SUM(C24:E24) -> 11947 | C24: =SUM(F24:R24) -> 2556 | D24: =SUM(S24:AG24) -> 4885 | E24: =SUM(AH24:AR24) -> 4506 | F24: 334 | G24: 272 | H24: 161 | I24: 270 | J24: 155 | K24: 38 | L24: 42 | M24: 221 | N24: 331 | O24: 133 | P24: 103 | Q24: 414 | R24: 82 | S24: 308 | T24: 379 | U24: 111 | V24: 315 | W24: 106 | X24: 447 | Y24: 177 | Z24: 247 | AA24: 470 | AB24: 277 | AC24: 567 | AD24: 443 | AE24: 347 | AF24: 219 | AG24: 472 | AH24: 320 | AI24: 555 | AJ24: 530 | AK24: 372 | AL24: 138 | AM24: 281 | AN24: 554 | AO24: 277 | AP24: 431 | AQ24: 367 | AR24: 681 | AS24: 704 | AT24: 609
A25: 18세 | B25: =SUM(C25:E25) -> 13122 | C25: =SUM(F25:R25) -> 3063 | D25: =SUM(S25:AG25) -> 5403 | E25: =SUM(AH25:AR25) -> 4656 | F25: 464 | G25: 306 | H25: 151 | I25: 254 | J25: 297 | K25: 77 | L25: 60 | M25: 229 | N25: 390 | O25: 174 | P25: 123 | Q25: 428 | R25: 110 | S25: 366 | T25: 387 | U25: 135 | V25: 352 | W25: 109 | X25: 456 | Y25: 219 | Z25: 263 | AA25: 516 | AB25: 361 | AC25: 580 | AD25: 534 | AE25: 361 | AF25: 275 | AG25: 489 | AH25: 351 | AI25: 540 | AJ25: 627 | AK25: 364 | AL25: 148 | AM25: 395 | AN25: 535 | AO25: 258 | AP25: 392 | AQ25: 322 | AR25: 724 | AS25: 609 | AT25: 630
A26: 19세 | B26: =SUM(C26:E26) -> 12032 | C26: =SUM(F26:R26) -> 2891 | D26: =SUM(S26:AG26) -> 4977 | E26: =SUM(AH26:AR26) -> 4164 | F26: 401 | G26: 282 | H26: 146 | I26: 187 | J26: 269 | K26: 105 | L26: 53 | M26: 240 | N26: 398 | O26: 147 | P26: 113 | Q26: 430 | R26: 120 | S26: 330 | T26: 378 | U26: 142 | V26: 417 | W26: 108 | X26: 403 | Y26: 196 | Z26: 287 | AA26: 482 | AB26: 310 | AC26: 491 | AD26: 387 | AE26: 344 | AF26: 256 | AG26: 446 | AH26: 309 | AI26: 444 | AJ26: 524 | AK26: 333 | AL26: 139 | AM26: 363 | AN26: 475 | AO26: 231 | AP26: 361 | AQ26: 324 | AR26: 661 | AS26: 588 | AT26: 598
A27: 20대 | B27: =SUM(C27:E27) -> 125680 | C27: =SUM(C28:C37) -> 32053 | D27: =SUM(D28:D37) -> 52594 | E27: =SUM(E28:E37) -> 41033 | F27: =SUM(F28:F37) -> 3974 | G27: =SUM(G28:G37) -> 3713 | H27: =SUM(H28:H37) -> 1687 | I27: =SUM(I28:I37) -> 1335 | J27: =SUM(J28:J37) -> 2053 | ... BM27: =SUM(BM28:BM37) -> 0
A28: 20세 | B28: =SUM(C28:E28) -> 10900 | C28: =SUM(F28:R28) -> 2679 | D28: =SUM(S28:AG28) -> 4532 | E28: =SUM(AH28:AR28) -> 3689 | F28: 351 | G28: 311 | H28: 139 | I28: 137 | J28: 160 | K28: 48 | L28: 43 | M28: 306 | N28: 438 | O28: 152 | P28: 151 | Q28: 346 | R28: 97 | S28: 274 | T28: 356 | U28: 145 | V28: 356 | W28: 87 | X28: 391 | Y28: 161 | Z28: 307 | AA28: 430 | AB28: 301 | AC28: 393 | AD28: 355 | AE28: 297 | AF28: 240 | AG28: 439 | AH28: 282 | AI28: 355 | AJ28: 420 | AK28: 349 | AL28: 129 | AM28: 352 | AN28: 467 | AO28: 210 | AP28: 322 | AQ28: 277 | AR28: 526 | AS28: 598 | AT28: 561
A29: 21세 | B29: =SUM(C29:E29) -> 11199 | C29: =SUM(F29:R29) -> 2655 | D29: =SUM(S29:AG29) -> 4780 | E29: =SUM(AH29:AR29) -> 3764 | F29: 302 | G29: 315 | H29: 138 | I29: 105 | J29: 143 | K29: 44 | L29: 36 | M29: 338 | N29: 478 | O29: 180 | P29: 117 | Q29: 339 | R29: 120 | S29: 346 | T29: 344 | U29: 121 | V29: 422 | W29: 134 | X29: 370 | Y29: 171 | Z29: 428 | AA29: 434 | AB29: 348 | AC29: 408 | AD29: 356 | AE29: 241 | AF29: 264 | AG29: 393 | AH29: 320 | AI29: 369 | AJ29: 421 | AK29: 334 | AL29: 150 | AM29: 423 | AN29: 435 | AO29: 206 | AP29: 319 | AQ29: 240 | AR29: 547 | AS29: 514 | AT29: 599
A30: 22세 | B30: =SUM(C30:E30) -> 11812 | C30: =SUM(F30:R30) -> 2858 | D30: =SUM(S30:AG30) -> 5030 | E30: =SUM(AH30:AR30) -> 3924 | F30: 329 | G30: 371 | H30: 132 | I30: 93 | J30: 152 | K30: 42 | L30: 29 | M30: 404 | N30: 570 | O30: 181 | P30: 119 | Q30: 319 | R30: 117 | S30: 360 | T30: 323 | U30: 151 | V30: 511 | W30: 126 | X30: 406 | Y30: 189 | Z30: 460 | AA30: 406 | AB30: 341 | AC30: 412 | AD30: 369 | AE30: 270 | AF30: 262 | AG30: 444 | AH30: 323 | AI30: 387 | AJ30: 460 | AK30: 383 | AL30: 160 | AM30: 479 | AN30: 406 | AO30: 214 | AP30: 344 | AQ30: 245 | AR30: 523 | AS30: 581 | AT30: 650
A31: 23세 | B31: =SUM(C31:E31) -> 11426 | C31: =SUM(F31:R31) -> 3016 | D31: =SUM(S31:AG31) -> 4624 | E31: =SUM(AH31:AR31) -> 3786 | F31: 352 | G31: 369 | H31: 157 | I31: 70 | J31: 174 | K31: 45 | L31: 52 | M31: 413 | N31: 578 | O31: 199 | P31: 128 | Q31: 367 | R31: 112 | S31: 308 | T31: 340 | U31: 146 | V31: 499 | W31: 140 | X31: 327 | Y31: 167 | Z31: 443 | AA31: 364 | AB31: 341 | AC31: 369 | AD31: 297 | AE31: 229 | AF31: 262 | AG31: 392 | AH31: 349 | AI31: 366 | AJ31: 404 | AK31: 333 | AL31: 182 | AM31: 490 | AN31: 440 | AO31: 194 | AP31: 284 | AQ31: 275 | AR31: 469 | AS31: 644 | AT31: 583
A32: 24세 | B32: =SUM(C32:E32) -> 12394 | C32: =SUM(F32:R32) -> 3112 | D32: =SUM(S32:AG32) -> 5194 | E32: =SUM(AH32:AR32) -> 4088 | F32: 393 | G32: 378 | H32: 144 | I32: 112 | J32: 176 | K32: 44 | L32: 40 | M32: 420 | N32: 582 | O32: 217 | P32: 141 | Q32: 347 | R32: 118 | S32: 412 | T32: 381 | U32: 193 | V32: 527 | W32: 126 | X32: 391 | Y32: 220 | Z32: 465 | AA32: 413 | AB32: 362 | AC32: 367 | AD32: 366 | AE32: 260 | AF32: 273 | AG32: 438 | AH32: 370 | AI32: 382 | AJ32: 399 | AK32: 332 | AL32: 226 | AM32: 485 | AN32: 492 | AO32: 209 | AP32: 341 | AQ32: 315 | AR32: 537 | AS32: 573 | AT32: 589
A33: 25세 | B33: =SUM(C33:E33) -> 13943 | C33: =SUM(F33:R33) -> 3500 | D33: =SUM(S33:AG33) -> 5945 | E33: =SUM(AH33:AR33) -> 4498 | F33: 475 | G33: 411 | H33: 203 | I33: 130 | J33: 227 | K33: 47 | L33: 58 | M33: 442 | N33: 583 | O33: 201 | P33: 155 | Q33: 402 | R33: 166 | S33: 427 | T33: 431 | U33: 242 | V33: 665 | W33: 202 | X33: 444 | Y33: 253 | Z33: 510 | AA33: 472 | AB33: 406 | AC33: 421 | AD33: 382 | AE33: 280 | AF33: 329 | AG33: 481 | AH33: 447 | AI33: 457 | AJ33: 423 | AK33: 409 | AL33: 236 | AM33: 466 | AN33: 544 | AO33: 224 | AP33: 322 | AQ33: 368 | AR33: 602 | AS33: 591 | AT33: 569
A34: 26세 | B34: =SUM(C34:E34) -> 13469 | C34: =SUM(F34:R34) -> 3559 | D34: =SUM(S34:AG34) -> 5660 | E34: =SUM(AH34:AR34) -> 4250 | F34: 466 | G34: 391 | H34: 184 | I34: 140 | J34: 223 | K34: 54 | L34: 57 | M34: 477 | N34: 550 | O34: 258 | P34: 184 | Q34: 411 | R34: 164 | S34: 458 | T34: 445 | U34: 221 | V34: 660 | W34: 202 | X34: 410 | Y34: 264 | Z34: 428 | AA34: 439 | AB34: 481 | AC34: 326 | AD34: 356 | AE34: 269 | AF34: 295 | AG34: 406 | AH34: 432 | AI34: 446 | AJ34: 420 | AK34: 343 | AL34: 235 | AM34: 383 | AN34: 569 | AO34: 211 | AP34: 333 | AQ34: 380 | AR34: 498 | AS34: 527 | AT34: 563
A35: 27세 | B35: =SUM(C35:E35) -> 13251 | C35: =SUM(F35:R35) -> 3451 | D35: =SUM(S35:AG35) -> 5527 | E35: =SUM(AH35:AR35) -> 4273 | F35: 421 | G35: 391 | H35: 185 | I35: 169 | J35: 239 | K35: 60 | L35: 60 | M35: 425 | N35: 549 | O35: 262 | P35: 156 | Q35: 402 | R35: 132 | S35: 494 | T35: 416 | U35: 253 | V35: 684 | W35: 203 | X35: 389 | Y35: 260 | Z35: 370 | AA35: 417 | AB35: 422 | AC35: 308 | AD35: 334 | AE35: 279 | AF35: 311 | AG35: 387 | AH35: 483 | AI35: 448 | AJ35: 354 | AK35: 365 | AL35: 243 | AM35: 358 | AN35: 555 | AO35: 179 | AP35: 338 | AQ35: 416 | AR35: 534 | AS35: 526 | AT35: 518
A36: 28세 | B36: =SUM(C36:E36) -> 13879 | C36: =SUM(F36:R36) -> 3665 | D36: =SUM(S36:AG36) -> 5751 | E36: =SUM(AH36:AR36) -> 4463 | F36: 466 | G36: 400 | H36: 225 | I36: 179 | J36: 259 | K36: 64 | L36: 60 | M36: 401 | N36: 530 | O36: 299 | P36: 170 | Q36: 435 | R36: 177 | S36: 538 | T36: 453 | U36: 269 | V36: 735 | W36: 209 | X36: 395 | Y36: 271 | Z36: 378 | AA36: 423 | AB36: 442 | AC36: 335 | AD36: 342 | AE36: 285 | AF36: 308 | AG36: 368 | AH36: 542 | AI36: 503 | AJ36: 416 | AK36: 326 | AL36: 259 | AM36: 313 | AN36: 598 | AO36: 179 | AP36: 344 | AQ36: 476 | AR36: 507 | AS36: 505 | AT36: 494
A37: 29세 | B37: =SUM(C37:E37) -> 13407 | C37: =SUM(F37:R37) -> 3558 | D37: =SUM(S37:AG37) -> 5551 | E37: =SUM(AH37:AR37) -> 4298 | F37: 419 | G37: 376 | H37: 180 | I37: 200 | J37: 300 | K37: 74 | L37: 55 | M37: 441 | N37: 490 | O37: 251 | P37: 176 | Q37: 427 | R37: 169 | S37: 584 | T37: 462 | U37: 247 | V37: 733 | W37: 224 | X37: 340 | Y37: 301 | Z37: 350 | AA37: 378 | AB37: 437 | AC37: 274 | AD37: 296 | AE37: 275 | AF37: 283 | AG37: 367 | AH37: 538 | AI37: 498 | AJ37: 391 | AK37: 357 | AL37: 279 | AM37: 299 | AN37: 587 | AO37: 194 | AP37: 311 | AQ37: 384 | AR37: 460 | AS37: 467 | AT37: 467
A38: 30대 | B38: =SUM(C38:E38) -> 138288 | C38: =SUM(C39:C48) -> 37745 | D38: =SUM(D39:D48) -> 52512 | E38: =SUM(E39:E48) -> 48031 | F38: =SUM(F39:F48) -> 3268 | G38: =SUM(G39:G48) -> 4763 | H38: =SUM(H39:H48) -> 1887 | I38: =SUM(I39:I48) -> 2808 | J38: =SUM(J39:J48) -> 2942 | ... BM38: =SUM(BM39:BM48) -> 0
A39: 30세 | B39: =SUM(C39:E39) -> 13874 | C39: =SUM(F39:R39) -> 3772 | D39: =SUM(S39:AG39) -> 5586 | E39: =SUM(AH39:AR39) -> 4516 | F39: 432 | G39: 443 | H39: 199 | I39: 208 | J39: 274 | K39: 45 | L39: 64 | M39: 394 | N39: 560 | O39: 259 | P39: 212 | Q39: 514 | R39: 168 | S39: 580 | T39: 470 | U39: 289 | V39: 710 | W39: 226 | X39: 371 | Y39: 290 | Z39: 382 | AA39: 392 | AB39: 453 | AC39: 250 | AD39: 226 | AE39: 298 | AF39: 299 | AG39: 350 | AH39: 595 | AI39: 536 | AJ39: 385 | AK39: 314 | AL39: 328 | AM39: 305 | AN39: 568 | AO39: 215 | AP39: 351 | AQ39: 441 | AR39: 478 | AS39: 470 | AT39: 449
A40: 31세 | B40: =SUM(C40:E40) -> 14012 | C40: =SUM(F40:R40) -> 3814 | D40: =SUM(S40:AG40) -> 5634 | E40: =SUM(AH40:AR40) -> 4564 | F40: 395 | G40: 415 | H40: 201 | I40: 242 | J40: 316 | K40: 71 | L40: 62 | M40: 417 | N40: 595 | O40: 274 | P40: 194 | Q40: 474 | R40: 158 | S40: 638 | T40: 437 | U40: 332 | V40: 719 | W40: 256 | X40: 340 | Y40: 261 | Z40: 352 | AA40: 409 | AB40: 497 | AC40: 264 | AD40: 208 | AE40: 308 | AF40: 262 | AG40: 351 | AH40: 617 | AI40: 550 | AJ40: 379 | AK40: 361 | AL40: 324 | AM40: 338 | AN40: 669 | AO40: 182 | AP40: 328 | AQ40: 422 | AR40: 394 | AS40: 430 | AT40: 485
...

Sheet 연령별 증감 비교(내국인)
A1: 연령별 인구 증감 비교(내국인)
A3: 연령별 | B3: 2026.3.31. | D3: 2026.4.30. | F3: 전월대비 증감현황 | H3: 비고
B4: 계 | C4: 구성비(%) | D4: 계 | E4: 구성비(%) | F4: 계 | G4: 증감율(%)
A5: 합 계 | B5: 1090420 | C5: 100 | D5: =D6+D7+D8+D9+D10+D11+D12+D13+D14 -> 1090269 | E5: 100 | F5: =SUM(F6:F14) -> -151 | G5: =(F5/B5)*100 -> -0.013847875
A6: 10대 미만 | B6: 71443 | C6: 6.5518791 | D6: ='읍면동 연령별 현황(내국인)'!B5 -> 71129 | E6: =D6/$D$5*100 -> 6.5239863 | F6: =D6-B6 -> -314 | G6: =(F6/B6)*100 -> -0.43951122
A7: 10대 | B7: 120418 | C7: 11.043268 | D7: ='읍면동 연령별 현황(내국인)'!B16 -> 120725 | E7: =D7/$D$5*100 -> 11.072955 | F7: =D7-B7 -> 307 | G7: =(F7/B7)*100 -> 0.25494527
A8: 20대 | B8: 126068 | C8: 11.561417 | D8: ='읍면동 연령별 현황(내국인)'!B27 -> 125680 | E8: =D8/$D$5*100 -> 11.52743 | F8: =D8-B8 -> -388 | G8: =(F8/B8)*100 -> -0.30777041
A9: 30대 | B9: 138025 | C9: 12.657967 | D9: ='읍면동 연령별 현황(내국인)'!B38 -> 138288 | E9: =D9/$D$5*100 -> 12.683842 | F9: =D9-B9 -> 263 | G9: =(F9/B9)*100 -> 0.19054519
A10: 40대 | B10: 179349 | C10: 16.447699 | D10: ='읍면동 연령별 현황(내국인)'!B49 -> 178846 | E10: =D10/$D$5*100 -> 16.403842 | F10: =D10-B10 -> -503 | G10: =(F10/B10)*100 -> -0.28045877
A11: 50대 | B11: 192995 | C11: 17.699143 | D11: ='읍면동 연령별 현황(내국인)'!B60 -> 192990 | E11: =D11/$D$5*100 -> 17.701136 | F11: =D11-B11 -> -5 | G11: =(F11/B11)*100 -> -0.0025907407
A12: 60대 | B12: 134872 | C12: 12.368812 | D12: ='읍면동 연령별 현황(내국인)'!B71 -> 135017 | E12: =D12/$D$5*100 -> 12.383825 | F12: =D12-B12 -> 145 | G12: =(F12/B12)*100 -> 0.10750934
A13: 70대 | B13: 80189 | C13: 7.3539554 | D13: ='읍면동 연령별 현황(내국인)'!B82 -> 80453 | E13: =D13/$D$5*100 -> 7.3791881 | F13: =D13-B13 -> 264 | G13: =(F13/B13)*100 -> 0.32922221
A14: 80대 이상 | B14: 47061 | C14: 4.3158599 | D14: ='읍면동 연령별 현황(내국인)'!B93+'읍면동 연령별 현황(내국인)'!B104+'읍면동 연령별 현황(내국인)'!B115 -> 47141 | E14: =D14/$D$5*100 -> 4.3237953 | F14: =D14-B14 -> 80 | G14: =(F14/B14)*100 -> 0.16999214

Sheet 읍면동연령구간현황(내국인)
A1: 내국인
F2: 2026. 4. 30.
A3: 구분 | B3: 읍면동 | C3: 합계 | D3: 0~14세 | E3: 15~64세 | F3: 65세 이상
A4: 용인시 | B4: 합계 | C4: =SUM(C5,C19,C35) -> 1090269 | D4: =SUM(D5,D19,D35) -> 130426 | E4: =SUM(E5,E19,E35) -> 770181 | F4: =SUM(F5,F19,F35) -> 189662
A5: 처인구 | B5: 처인구 | C5: =SUM(C6:C18) -> 285039 | D5: =SUM(D6:D18) -> 30390 | E5: =SUM(E6:E18) -> 200433 | F5: =SUM(F6:F18) -> 54216
B6: 포곡읍 | C6: =SUM(D6:F6) -> 30834 | D6: =SUM('읍면동 연령별 현황(내국인)'!F$5,'읍면동 연령별 현황(내국인)'!F$17,'읍면동 연령별 현황(내국인)'!F$18,'읍면동 연령별 현황(내국인)'!F$19,'읍면동 연령별 현황(내국인)'!F$20,'읍면동 연령별 현황(내국인)'!F$21) -> 2477 | E6: =SUM('읍면동 연령별 현황(내국인)'!F$22:F$27,'읍면동 연령별 현황(내국인)'!F$38,'읍면동 연령별 현황(내국인)'!F$49,'읍면동 연령별 현황(내국인)'!F$60,'읍면동 연령별 현황(내국인)'!F$72:F$76) -> 22374 | F6: =SUM('읍면동 연령별 현황(내국인)'!F$77:F$82,'읍면동 연령별 현황(내국인)'!F$93,'읍면동 연령별 현황(내국인)'!F$104,'읍면동 연령별 현황(내국인)'!F$115,'읍면동 연령별 현황(내국인)'!F$116) -> 5983
B7: 모현읍 | C7: =SUM(D7:F7) -> 34589 | D7: =SUM('읍면동 연령별 현황(내국인)'!G$5,'읍면동 연령별 현황(내국인)'!G$17,'읍면동 연령별 현황(내국인)'!G$18,'읍면동 연령별 현황(내국인)'!G$19,'읍면동 연령별 현황(내국인)'!G$20,'읍면동 연령별 현황(내국인)'!G$21) -> 3828 | E7: =SUM('읍면동 연령별 현황(내국인)'!G$22:G$27,'읍면동 연령별 현황(내국인)'!G$38,'읍면동 연령별 현황(내국인)'!G$49,'읍면동 연령별 현황(내국인)'!G$60,'읍면동 연령별 현황(내국인)'!G$72:G$76) -> 24193 | F7: =SUM('읍면동 연령별 현황(내국인)'!G$77:G$82,'읍면동 연령별 현황(내국인)'!G$93,'읍면동 연령별 현황(내국인)'!G$104,'읍면동 연령별 현황(내국인)'!G$115,'읍면동 연령별 현황(내국인)'!G$116) -> 6568
B8: 이동읍 | C8: =SUM(D8:F8) -> 18682 | D8: =SUM('읍면동 연령별 현황(내국인)'!H$5,'읍면동 연령별 현황(내국인)'!H$17,'읍면동 연령별 현황(내국인)'!H$18,'읍면동 연령별 현황(내국인)'!H$19,'읍면동 연령별 현황(내국인)'!H$20,'읍면동 연령별 현황(내국인)'!H$21) -> 1515 | E8: =SUM('읍면동 연령별 현황(내국인)'!H$22:H$27,'읍면동 연령별 현황(내국인)'!H$38,'읍면동 연령별 현황(내국인)'!H$49,'읍면동 연령별 현황(내국인)'!H$60,'읍면동 연령별 현황(내국인)'!H$72:H$76) -> 12451 | F8: =SUM('읍면동 연령별 현황(내국인)'!H$77:H$82,'읍면동 연령별 현황(내국인)'!H$93,'읍면동 연령별 현황(내국인)'!H$104,'읍면동 연령별 현황(내국인)'!H$115,'읍면동 연령별 현황(내국인)'!H$116) -> 4716
B9: 남사읍 | C9: =SUM(D9:F9) -> 23442 | D9: =SUM('읍면동 연령별 현황(내국인)'!I$5,'읍면동 연령별 현황(내국인)'!I$17,'읍면동 연령별 현황(내국인)'!I$18,'읍면동 연령별 현황(내국인)'!I$19,'읍면동 연령별 현황(내국인)'!I$20,'읍면동 연령별 현황(내국인)'!I$21) -> 3803 | E9: =SUM('읍면동 연령별 현황(내국인)'!I$22:I$27,'읍면동 연령별 현황(내국인)'!I$38,'읍면동 연령별 현황(내국인)'!I$49,'읍면동 연령별 현황(내국인)'!I$60,'읍면동 연령별 현황(내국인)'!I$72:I$76) -> 15029 | F9: =SUM('읍면동 연령별 현황(내국인)'!I$77:I$82,'읍면동 연령별 현황(내국인)'!I$93,'읍면동 연령별 현황(내국인)'!I$104,'읍면동 연령별 현황(내국인)'!I$115,'읍면동 연령별 현황(내국인)'!I$116) -> 4610
B10: 양지읍 | C10: =SUM(D10:F10) -> 21503 | D10: =SUM('읍면동 연령별 현황(내국인)'!J5,'읍면동 연령별 현황(내국인)'!J17:J21) -> 1924 | E10: =SUM('읍면동 연령별 현황(내국인)'!J22:J26,'읍면동 연령별 현황(내국인)'!J27,'읍면동 연령별 현황(내국인)'!J38,'읍면동 연령별 현황(내국인)'!J49,'읍면동 연령별 현황(내국인)'!J60,'읍면동 연령별 현황(내국인)'!J72:J76) -> 15144 | F10: =SUM('읍면동 연령별 현황(내국인)'!J77:J81,'읍면동 연령별 현황(내국인)'!J82,'읍면동 연령별 현황(내국인)'!J93,'읍면동 연령별 현황(내국인)'!J104,'읍면동 연령별 현황(내국인)'!J115) -> 4435
B11: 원삼면 | C11: =SUM(D11:F11) -> 7475 | D11: =SUM('읍면동 연령별 현황(내국인)'!K$5,'읍면동 연령별 현황(내국인)'!K$17,'읍면동 연령별 현황(내국인)'!K$18,'읍면동 연령별 현황(내국인)'!K$19,'읍면동 연령별 현황(내국인)'!K$20,'읍면동 연령별 현황(내국인)'!K$21) -> 361 | E11: =SUM('읍면동 연령별 현황(내국인)'!K$22:K$27,'읍면동 연령별 현황(내국인)'!K$38,'읍면동 연령별 현황(내국인)'!K$49,'읍면동 연령별 현황(내국인)'!K$60,'읍면동 연령별 현황(내국인)'!K$72:K$76) -> 4432 | F11: =SUM('읍면동 연령별 현황(내국인)'!K$77:K$82,'읍면동 연령별 현황(내국인)'!K$93,'읍면동 연령별 현황(내국인)'!K$104,'읍면동 연령별 현황(내국인)'!K$115,'읍면동 연령별 현황(내국인)'!K$116) -> 2682
B12: 백암면 | C12: =SUM(D12:F12) -> 7533 | D12: =SUM('읍면동 연령별 현황(내국인)'!L$5,'읍면동 연령별 현황(내국인)'!L$17,'읍면동 연령별 현황(내국인)'!L$18,'읍면동 연령별 현황(내국인)'!L$19,'읍면동 연령별 현황(내국인)'!L$20,'읍면동 연령별 현황(내국인)'!L$21) -> 273 | E12: =SUM('읍면동 연령별 현황(내국인)'!L$22:L$27,'읍면동 연령별 현황(내국인)'!L$38,'읍면동 연령별 현황(내국인)'!L$49,'읍면동 연령별 현황(내국인)'!L$60,'읍면동 연령별 현황(내국인)'!L$72:L$76) -> 4303 | F12: =SUM('읍면동 연령별 현황(내국인)'!L$77:L$82,'읍면동 연령별 현황(내국인)'!L$93,'읍면동 연령별 현황(내국인)'!L$104,'읍면동 연령별 현황(내국인)'!L$115,'읍면동 연령별 현황(내국인)'!L$116) -> 2957
B13: 중앙동 | C13: =SUM(D13:F13) -> 26716 | D13: =SUM('읍면동 연령별 현황(내국인)'!M$5,'읍면동 연령별 현황(내국인)'!M$17,'읍면동 연령별 현황(내국인)'!M$18,'읍면동 연령별 현황(내국인)'!M$19,'읍면동 연령별 현황(내국인)'!M$20,'읍면동 연령별 현황(내국인)'!M$21) -> 2295 | E13: =SUM('읍면동 연령별 현황(내국인)'!M$22:M$27,'읍면동 연령별 현황(내국인)'!M$38,'읍면동 연령별 현황(내국인)'!M$49,'읍면동 연령별 현황(내국인)'!M$60,'읍면동 연령별 현황(내국인)'!M$72:M$76) -> 19213 | F13: =SUM('읍면동 연령별 현황(내국인)'!M$77:M$82,'읍면동 연령별 현황(내국인)'!M$93,'읍면동 연령별 현황(내국인)'!M$104,'읍면동 연령별 현황(내국인)'!M$115,'읍면동 연령별 현황(내국인)'!M$116) -> 5208
B14: 역북동 | C14: =SUM(D14:F14) -> 34650 | D14: =SUM('읍면동 연령별 현황(내국인)'!N$5,'읍면동 연령별 현황(내국인)'!N$17,'읍면동 연령별 현황(내국인)'!N$18,'읍면동 연령별 현황(내국인)'!N$19,'읍면동 연령별 현황(내국인)'!N$20,'읍면동 연령별 현황(내국인)'!N$21) -> 4556 | E14: =SUM('읍면동 연령별 현황(내국인)'!N$22:N$27,'읍면동 연령별 현황(내국인)'!N$38,'읍면동 연령별 현황(내국인)'!N$49,'읍면동 연령별 현황(내국인)'!N$60,'읍면동 연령별 현황(내국인)'!N$72:N$76) -> 25718 | F14: =SUM('읍면동 연령별 현황(내국인)'!N$77:N$82,'읍면동 연령별 현황(내국인)'!N$93,'읍면동 연령별 현황(내국인)'!N$104,'읍면동 연령별 현황(내국인)'!N$115,'읍면동 연령별 현황(내국인)'!N$116) -> 4376
B15: 삼가동 | C15: =SUM(D15:F15) -> 15775 | D15: =SUM('읍면동 연령별 현황(내국인)'!O$5,'읍면동 연령별 현황(내국인)'!O$17,'읍면동 연령별 현황(내국인)'!O$18,'읍면동 연령별 현황(내국인)'!O$19,'읍면동 연령별 현황(내국인)'!O$20,'읍면동 연령별 현황(내국인)'!O$21) -> 1478 | E15: =SUM('읍면동 연령별 현황(내국인)'!O$22:O$27,'읍면동 연령별 현황(내국인)'!O$38,'읍면동 연령별 현황(내국인)'!O$49,'읍면동 연령별 현황(내국인)'!O$60,'읍면동 연령별 현황(내국인)'!O$72:O$76) -> 11716 | F15: =SUM('읍면동 연령별 현황(내국인)'!O$77:O$82,'읍면동 연령별 현황(내국인)'!O$93,'읍면동 연령별 현황(내국인)'!O$104,'읍면동 연령별 현황(내국인)'!O$115,'읍면동 연령별 현황(내국인)'!O$116) -> 2581
B16: 유림1동 | C16: =SUM(D16:F16) -> 13382 | D16: =SUM('읍면동 연령별 현황(내국인)'!P$5,'읍면동 연령별 현황(내국인)'!P$17,'읍면동 연령별 현황(내국인)'!P$18,'읍면동 연령별 현황(내국인)'!P$19,'읍면동 연령별 현황(내국인)'!P$20,'읍면동 연령별 현황(내국인)'!P$21) -> 1165 | E16: =SUM('읍면동 연령별 현황(내국인)'!P$22:P$27,'읍면동 연령별 현황(내국인)'!P$38,'읍면동 연령별 현황(내국인)'!P$49,'읍면동 연령별 현황(내국인)'!P$60,'읍면동 연령별 현황(내국인)'!P$72:P$76) -> 9726 | F16: =SUM('읍면동 연령별 현황(내국인)'!P$77:P$82,'읍면동 연령별 현황(내국인)'!P$93,'읍면동 연령별 현황(내국인)'!P$104,'읍면동 연령별 현황(내국인)'!P$115,'읍면동 연령별 현황(내국인)'!P$116) -> 2491
B17: 유림2동 | C17: =SUM(D17:F17) -> 38192 | D17: =SUM('읍면동 연령별 현황(내국인)'!Q$5,'읍면동 연령별 현황(내국인)'!Q$17,'읍면동 연령별 현황(내국인)'!Q$18,'읍면동 연령별 현황(내국인)'!Q$19,'읍면동 연령별 현황(내국인)'!Q$20,'읍면동 연령별 현황(내국인)'!Q$21) -> 5930 | E17: =SUM('읍면동 연령별 현황(내국인)'!Q$22:Q$27,'읍면동 연령별 현황(내국인)'!Q$38,'읍면동 연령별 현황(내국인)'!Q$49,'읍면동 연령별 현황(내국인)'!Q$60,'읍면동 연령별 현황(내국인)'!Q$72:Q$76) -> 27799 | F17: =SUM('읍면동 연령별 현황(내국인)'!Q$77:Q$82,'읍면동 연령별 현황(내국인)'!Q$93,'읍면동 연령별 현황(내국인)'!Q$104,'읍면동 연령별 현황(내국인)'!Q$115,'읍면동 연령별 현황(내국인)'!Q$116) -> 4463
B18: 동부동 | C18: =SUM(D18:F18) -> 12266 | D18: =SUM('읍면동 연령별 현황(내국인)'!R$5,'읍면동 연령별 현황(내국인)'!R$17,'읍면동 연령별 현황(내국인)'!R$18,'읍면동 연령별 현황(내국인)'!R$19,'읍면동 연령별 현황(내국인)'!R$20,'읍면동 연령별 현황(내국인)'!R$21) -> 785 | E18: =SUM('읍면동 연령별 현황(내국인)'!R$22:R$27,'읍면동 연령별 현황(내국인)'!R$38,'읍면동 연령별 현황(내국인)'!R$49,'읍면동 연령별 현황(내국인)'!R$60,'읍면동 연령별 현황(내국인)'!R$72:R$76) -> 8335 | F18: =SUM('읍면동 연령별 현황(내국인)'!R$77:R$82,'읍면동 연령별 현황(내국인)'!R$93,'읍면동 연령별 현황(내국인)'!R$104,'읍면동 연령별 현황(내국인)'!R$115,'읍면동 연령별 현황(내국인)'!R$116) -> 3146
A19: 기흥구 | B19: 기흥구 | C19: =SUM(C20:C34) -> 434289 | D19: =SUM(D20:D34) -> 49731 | E19: =SUM(E20:E34) -> 308949 | F19: =SUM(F20:F34) -> 75609
B20: 신갈동 | C20: =SUM(D20:F20) -> 35975 | D20: =SUM('읍면동 연령별 현황(내국인)'!S5,'읍면동 연령별 현황(내국인)'!S17:S21) -> 3558 | E20: =SUM('읍면동 연령별 현황(내국인)'!S22:S26,'읍면동 연령별 현황(내국인)'!S27,'읍면동 연령별 현황(내국인)'!S38,'읍면동 연령별 현황(내국인)'!S49,'읍면동 연령별 현황(내국인)'!S60,'읍면동 연령별 현황(내국인)'!S72:S76) -> 25758 | F20: =SUM('읍면동 연령별 현황(내국인)'!S77:S82,'읍면동 연령별 현황(내국인)'!S93,'읍면동 연령별 현황(내국인)'!S104,'읍면동 연령별 현황(내국인)'!S115) -> 6659
B21: 영덕1동 | C21: =SUM(D21:F21) -> 34172 | D21: =SUM('읍면동 연령별 현황(내국인)'!T5,'읍면동 연령별 현황(내국인)'!T17:T18,'읍면동 연령별 현황(내국인)'!T19,'읍면동 연령별 현황(내국인)'!T20,'읍면동 연령별 현황(내국인)'!T21) -> 4455 | E21: =SUM('읍면동 연령별 현황(내국인)'!T22:T27,'읍면동 연령별 현황(내국인)'!T38,'읍면동 연령별 현황(내국인)'!T49,'읍면동 연령별 현황(내국인)'!T60,'읍면동 연령별 현황(내국인)'!T72:T76) -> 25244 | F21: =SUM('읍면동 연령별 현황(내국인)'!T77:T82,'읍면동 연령별 현황(내국인)'!T93,'읍면동 연령별 현황(내국인)'!T104,'읍면동 연령별 현황(내국인)'!T115) -> 4473
B22: 영덕2동 | C22: =SUM(D22:F22) -> 19112 | D22: =SUM('읍면동 연령별 현황(내국인)'!U5,'읍면동 연령별 현황(내국인)'!U17:U21) -> 2513 | E22: =SUM('읍면동 연령별 현황(내국인)'!U22:U27,'읍면동 연령별 현황(내국인)'!U38,'읍면동 연령별 현황(내국인)'!U49,'읍면동 연령별 현황(내국인)'!U60,'읍면동 연령별 현황(내국인)'!U72:U76) -> 13566 | F22: =SUM('읍면동 연령별 현황(내국인)'!U77:U82,'읍면동 연령별 현황(내국인)'!U93,'읍면동 연령별 현황(내국인)'!U104,'읍면동 연령별 현황(내국인)'!U115) -> 3033
B23: 구갈동 | C23: =SUM(D23:F23) -> 39842 | D23: =SUM('읍면동 연령별 현황(내국인)'!V5,'읍면동 연령별 현황(내국인)'!V17:V21) -> 4339 | E23: =SUM('읍면동 연령별 현황(내국인)'!V22:V27,'읍면동 연령별 현황(내국인)'!V38,'읍면동 연령별 현황(내국인)'!V49,'읍면동 연령별 현황(내국인)'!V60,'읍면동 연령별 현황(내국인)'!V72:V73,'읍면동 연령별 현황(내국인)'!V74,'읍면동 연령별 현황(내국인)'!V75,'읍면동 연령별 현황(내국인)'!V76) -> 29927 | F23: =SUM('읍면동 연령별 현황(내국인)'!V77:V82,'읍면동 연령별 현황(내국인)'!V93,'읍면동 연령별 현황(내국인)'!V104,'읍면동 연령별 현황(내국인)'!V115) -> 5576
B24: 상갈동 | C24: =SUM(D24:F24) -> 12460 | D24: =SUM('읍면동 연령별 현황(내국인)'!W5,'읍면동 연령별 현황(내국인)'!W17:W21) -> 962 | E24: =SUM('읍면동 연령별 현황(내국인)'!W22:W27,'읍면동 연령별 현황(내국인)'!W38,'읍면동 연령별 현황(내국인)'!W49,'읍면동 연령별 현황(내국인)'!W60,'읍면동 연령별 현황(내국인)'!W72:W76) -> 9065 | F24: =SUM('읍면동 연령별 현황(내국인)'!W77:W82,'읍면동 연령별 현황(내국인)'!W93,'읍면동 연령별 현황(내국인)'!W104,'읍면동 연령별 현황(내국인)'!W115) -> 2433
B25: 보라동 | C25: =SUM(D25:F25) -> 32396 | D25: =SUM('읍면동 연령별 현황(내국인)'!X5,'읍면동 연령별 현황(내국인)'!X17:X21) -> 3533 | E25: =SUM('읍면동 연령별 현황(내국인)'!X22:X27,'읍면동 연령별 현황(내국인)'!X38,'읍면동 연령별 현황(내국인)'!X49,'읍면동 연령별 현황(내국인)'!X60,'읍면동 연령별 현황(내국인)'!X72:X76) -> 22767 | F25: =SUM('읍면동 연령별 현황(내국인)'!X77:X82,'읍면동 연령별 현황(내국인)'!X93,'읍면동 연령별 현황(내국인)'!X104,'읍면동 연령별 현황(내국인)'!X115) -> 6096
B26: 기흥동 | C26: =SUM(D26:F26) -> 20644 | D26: =SUM('읍면동 연령별 현황(내국인)'!Y5,'읍면동 연령별 현황(내국인)'!Y17:Y21) -> 1848 | E26: =SUM('읍면동 연령별 현황(내국인)'!Y22:Y27,'읍면동 연령별 현황(내국인)'!Y38,'읍면동 연령별 현황(내국인)'!Y49,'읍면동 연령별 현황(내국인)'!Y60,'읍면동 연령별 현황(내국인)'!Y72:Y76) -> 14317 | F26: =SUM('읍면동 연령별 현황(내국인)'!Y77:Y82,'읍면동 연령별 현황(내국인)'!Y93,'읍면동 연령별 현황(내국인)'!Y104,'읍면동 연령별 현황(내국인)'!Y115) -> 4479
B27: 서농동 | C27: =SUM(D27:F27) -> 24515 | D27: =SUM('읍면동 연령별 현황(내국인)'!Z5,'읍면동 연령별 현황(내국인)'!Z17:Z21) -> 3405 | E27: =SUM('읍면동 연령별 현황(내국인)'!Z22:Z27,'읍면동 연령별 현황(내국인)'!Z38,'읍면동 연령별 현황(내국인)'!Z49,'읍면동 연령별 현황(내국인)'!Z60,'읍면동 연령별 현황(내국인)'!Z72:Z76) -> 18215 | F27: =SUM('읍면동 연령별 현황(내국인)'!Z77:Z82,'읍면동 연령별 현황(내국인)'!Z93,'읍면동 연령별 현황(내국인)'!Z104,'읍면동 연령별 현황(내국인)'!Z115) -> 2895
B28: 구성동 | C28: =SUM(D28:F28) -> 38274 | D28: =SUM('읍면동 연령별 현황(내국인)'!AA5,'읍면동 연령별 현황(내국인)'!AA17:AA21) -> 3810 | E28: =SUM('읍면동 연령별 현황(내국인)'!AA22:AA27,'읍면동 연령별 현황(내국인)'!AA38,'읍면동 연령별 현황(내국인)'!AA49,'읍면동 연령별 현황(내국인)'!AA60,'읍면동 연령별 현황(내국인)'!AA72:AA76) -> 25768 | F28: =SUM('읍면동 연령별 현황(내국인)'!AA77:AA82,'읍면동 연령별 현황(내국인)'!AA93,'읍면동 연령별 현황(내국인)'!AA104,'읍면동 연령별 현황(내국인)'!AA115) -> 8696
B29: 마북동 | C29: =SUM(D29:F29) -> 33520 | D29: =SUM('읍면동 연령별 현황(내국인)'!AB5,'읍면동 연령별 현황(내국인)'!AB17:AB21) -> 3320 | E29: =SUM('읍면동 연령별 현황(내국인)'!AB22:AB27,'읍면동 연령별 현황(내국인)'!AB38,'읍면동 연령별 현황(내국인)'!AB49,'읍면동 연령별 현황(내국인)'!AB60,'읍면동 연령별 현황(내국인)'!AB72:AB76) -> 23005 | F29: =SUM('읍면동 연령별 현황(내국인)'!AB77:AB81,'읍면동 연령별 현황(내국인)'!AB82,'읍면동 연령별 현황(내국인)'!AB93,'읍면동 연령별 현황(내국인)'!AB104,'읍면동 연령별 현황(내국인)'!AB115) -> 7195
B30: 동백1동 | C30: =SUM(D30:F30) -> 30772 | D30: =SUM('읍면동 연령별 현황(내국인)'!AC5,'읍면동 연령별 현황(내국인)'!AC17:AC21) -> 4062 | E30: =SUM('읍면동 연령별 현황(내국인)'!AC22:AC27,'읍면동 연령별 현황(내국인)'!AC38,'읍면동 연령별 현황(내국인)'!AC49,'읍면동 연령별 현황(내국인)'!AC60,'읍면동 연령별 현황(내국인)'!AC72:AC76) -> 22401 | F30: =SUM('읍면동 연령별 현황(내국인)'!AC77:AC81,'읍면동 연령별 현황(내국인)'!AC82,'읍면동 연령별 현황(내국인)'!AC93,'읍면동 연령별 현황(내국인)'!AC104,'읍면동 연령별 현황(내국인)'!AC115) -> 4309
B31: 동백2동 | C31: =SUM(D31:F31) -> 25996 | D31: =SUM('읍면동 연령별 현황(내국인)'!AD5,'읍면동 연령별 현황(내국인)'!AD17:AD21) -> 3115 | E31: =SUM('읍면동 연령별 현황(내국인)'!AD22:AD27,'읍면동 연령별 현황(내국인)'!AD38,'읍면동 연령별 현황(내국인)'!AD49,'읍면동 연령별 현황(내국인)'!AD60,'읍면동 연령별 현황(내국인)'!AD72:AD76) -> 19102 | F31: =SUM('읍면동 연령별 현황(내국인)'!AD77:AD82,'읍면동 연령별 현황(내국인)'!AD93,'읍면동 연령별 현황(내국인)'!AD104,'읍면동 연령별 현황(내국인)'!AD115) -> 3779
B32: 동백3동 | C32: =SUM(D32:F32) -> 27615 | D32: =SUM('읍면동 연령별 현황(내국인)'!AE5,'읍면동 연령별 현황(내국인)'!AE17:AE21) -> 4278 | E32: =SUM('읍면동 연령별 현황(내국인)'!AE22:AE27,'읍면동 연령별 현황(내국인)'!AE38,'읍면동 연령별 현황(내국인)'!AE49,'읍면동 연령별 현황(내국인)'!AE60,'읍면동 연령별 현황(내국인)'!AE72:AE76) -> 18552 | F32: =SUM('읍면동 연령별 현황(내국인)'!AE77:AE82,'읍면동 연령별 현황(내국인)'!AE93,'읍면동 연령별 현황(내국인)'!AE104,'읍면동 연령별 현황(내국인)'!AE115) -> 4785
B33: 상하동 | C33: =SUM(D33:F33) -> 22802 | D33: =SUM('읍면동 연령별 현황(내국인)'!AF5,'읍면동 연령별 현황(내국인)'!AF17,'읍면동 연령별 현황(내국인)'!AF18,'읍면동 연령별 현황(내국인)'!AF19,'읍면동 연령별 현황(내국인)'!AF20,'읍면동 연령별 현황(내국인)'!AF21) -> 2013 | E33: =SUM('읍면동 연령별 현황(내국인)'!AF22:AF27,'읍면동 연령별 현황(내국인)'!AF38,'읍면동 연령별 현황(내국인)'!AF49,'읍면동 연령별 현황(내국인)'!AF60,'읍면동 연령별 현황(내국인)'!AF72:AF76) -> 15961 | F33: =SUM('읍면동 연령별 현황(내국인)'!AF77:AF82,'읍면동 연령별 현황(내국인)'!AF93,'읍면동 연령별 현황(내국인)'!AF104,'읍면동 연령별 현황(내국인)'!AF115) -> 4828
B34: 보정동 | C34: =SUM(D34:F34) -> 36194 | D34: =SUM('읍면동 연령별 현황(내국인)'!AG5,'읍면동 연령별 현황(내국인)'!AG17:AG21) -> 4520 | E34: =SUM('읍면동 연령별 현황(내국인)'!AG22:AG27,'읍면동 연령별 현황(내국인)'!AG38,'읍면동 연령별 현황(내국인)'!AG49,'읍면동 연령별 현황(내국인)'!AG60,'읍면동 연령별 현황(내국인)'!AG72:AG73,'읍면동 연령별 현황(내국인)'!AG74:AG76) -> 25301 | F34: =SUM('읍면동 연령별 현황(내국인)'!AG77:AG82,'읍면동 연령별 현황(내국인)'!AG93,'읍면동 연령별 현황(내국인)'!AG104,'읍면동 연령별 현황(내국인)'!AG115) -> 6373
A35: 수지구 | B35: 수지구 | C35: =SUM(C36:C46) -> 370941 | D35: =SUM(D36:D46) -> 50305 | E35: =SUM(E36:E46) -> 260799 | F35: =SUM(F36:F46) -> 59837
B36: 풍덕천1동 | C36: =SUM(D36:F36) -> 31820 | D36: =SUM('읍면동 연령별 현황(내국인)'!AH$5,'읍면동 연령별 현황(내국인)'!AH$17:AH$21) -> 3318 | E36: =SUM('읍면동 연령별 현황(내국인)'!AH$22:AH$26,'읍면동 연령별 현황(내국인)'!AH$27,'읍면동 연령별 현황(내국인)'!AH$38,'읍면동 연령별 현황(내국인)'!AH$49,'읍면동 연령별 현황(내국인)'!AH$60,'읍면동 연령별 현황(내국인)'!AH$72:AH$76) -> 23122 | F36: =SUM('읍면동 연령별 현황(내국인)'!AH$77:AH$82,'읍면동 연령별 현황(내국인)'!AH$93,'읍면동 연령별 현황(내국인)'!AH$104,'읍면동 연령별 현황(내국인)'!AH$115) -> 5380
B37: 풍덕천2동 | C37: =SUM(D37:F37) -> 41239 | D37: =SUM('읍면동 연령별 현황(내국인)'!AI$5,'읍면동 연령별 현황(내국인)'!AI$17:AI$21) -> 6950 | E37: =SUM('읍면동 연령별 현황(내국인)'!AI$22:AI$26,'읍면동 연령별 현황(내국인)'!AI$27,'읍면동 연령별 현황(내국인)'!AI$38,'읍면동 연령별 현황(내국인)'!AI$49,'읍면동 연령별 현황(내국인)'!AI$60,'읍면동 연령별 현황(내국인)'!AI72:AI$76) -> 29929 | F37: =SUM('읍면동 연령별 현황(내국인)'!AI$77:AI$82,'읍면동 연령별 현황(내국인)'!AI$93,'읍면동 연령별 현황(내국인)'!AI$104,'읍면동 연령별 현황(내국인)'!AI$115) -> 4360
B38: 신봉동 | C38: =SUM(D38:F38) -> 41012 | D38: =SUM('읍면동 연령별 현황(내국인)'!AJ$5,'읍면동 연령별 현황(내국인)'!AJ$17:AJ$21) -> 5582 | E38: =SUM('읍면동 연령별 현황(내국인)'!AJ$22:AJ$26,'읍면동 연령별 현황(내국인)'!AJ$27,'읍면동 연령별 현황(내국인)'!AJ$38,'읍면동 연령별 현황(내국인)'!AJ$49,'읍면동 연령별 현황(내국인)'!AJ$60,'읍면동 연령별 현황(내국인)'!AJ$72:AJ$76) -> 28513 | F38: =SUM('읍면동 연령별 현황(내국인)'!AJ$77:AJ$82,'읍면동 연령별 현황(내국인)'!AJ$93,'읍면동 연령별 현황(내국인)'!AJ$104,'읍면동 연령별 현황(내국인)'!AJ$115) -> 6917
B39: 죽전1동 | C39: =SUM(D39:F39) -> 28944 | D39: =SUM('읍면동 연령별 현황(내국인)'!AK$5,'읍면동 연령별 현황(내국인)'!AK$17:AK$21) -> 3263 | E39: =SUM('읍면동 연령별 현황(내국인)'!AK$22:AK$26,'읍면동 연령별 현황(내국인)'!AK$27,'읍면동 연령별 현황(내국인)'!AK$38,'읍면동 연령별 현황(내국인)'!AK$49,'읍면동 연령별 현황(내국인)'!AK$60,'읍면동 연령별 현황(내국인)'!AK$72:AK$76) -> 20399 | F39: =SUM('읍면동 연령별 현황(내국인)'!AK$77:AK$82,'읍면동 연령별 현황(내국인)'!AK$93,'읍면동 연령별 현황(내국인)'!AK$104,'읍면동 연령별 현황(내국인)'!AK$115) -> 5282
B40: 죽전2동 | C40: =SUM(D40:F40) -> 17010 | D40: =SUM('읍면동 연령별 현황(내국인)'!AL$5,'읍면동 연령별 현황(내국인)'!AL$17:AL$21) -> 1661 | E40: =SUM('읍면동 연령별 현황(내국인)'!AL$22:AL$26,'읍면동 연령별 현황(내국인)'!AL$27,'읍면동 연령별 현황(내국인)'!AL$38,'읍면동 연령별 현황(내국인)'!AL$49,'읍면동 연령별 현황(내국인)'!AL$60,'읍면동 연령별 현황(내국인)'!AL$72:AL$76) -> 12417 | F40: =SUM('읍면동 연령별 현황(내국인)'!AL$77:AL$82,'읍면동 연령별 현황(내국인)'!AL$93,'읍면동 연령별 현황(내국인)'!AL$104,'읍면동 연령별 현황(내국인)'!AL$115) -> 2932
...

Sheet 읍면동 연령별 현황(외국인)
A1: 읍면동 연령별 인구현황(외국인)
A2: 용인시 | B2: 206. 4. 30. 기준
A3: 연령별 | B3: 용 인 시 | C3: 처 인 구 | D3: 기 흥 구 | E3: 수 지 구 | F3: 포 곡 읍 | G3: 모 현 읍 | H3: 이 동 읍 | I3: 남 사 읍 | J3: 양 지 읍 | K3: 원 삼 면 | L3: 백 암 면 | M3: 중 앙 동 | N3: 역 북 동 | O3: 삼 가 동 | P3: 유림1동 | Q3: 유림2동 | R3: 동 부 동 | S3: 신 갈 동 | T3: 영덕1동 | U3: 영덕2동 | V3: 구 갈 동 | W3: 상 갈 동 | X3: 보 라 동 | Y3: 기 흥 동 | Z3: 서 농 동 | AA3: 구 성 동 | AB3: 마 북 동 | AC3: 동백1동 | AD3: 동백2동 | AE3: 동백3동 | AF3: 상 하 동 | AG3: 보 정 동 | AH3: 풍 덕 천 1 동 | AI3: 풍 덕 천 2 동 | AJ3: 신 봉 동 | AK3: 죽 전 1 동 | AL3: 죽 전 2 동 | AM3: 죽 전 3 동 | AN3: 동 천 동 | AO3: 상 현 1 동 | AP3: 상 현 2 동 | AQ3: 상 현 3 동 | AR3: 성 복 동
A4: 합 계 | B4: =SUM(C4:E4) -> 21508 | C4: =SUM(C5,C8,C11,C14,C17,C20,C23,C26,C29,C32,C35) -> 12449 | D4: =SUM(D5,D8,D11,D14,D17,D20,D23,D26,D29,D32,D35) -> 5783 | E4: =SUM(E5,E8,E11,E14,E17,E20,E23,E26,E29,E32,E35) -> 3276 | F4: =SUM(F5,F8,F11,F14,F17,F20,F23,F26,F29,F32,F35) -> 918 | G4: =SUM(G5,G8,G11,G14,G17,G20,G23,G26,G29,G32,G35) -> 1790 | H4: =SUM(H5,H8,H11,H14,H17,H20,H23,H26,H29,H32,H35) -> 1698 | I4: =SUM(I5,I8,I11,I14,I17,I20,I23,I26,I29,I32,I35) -> 1145 | J4: =SUM(J5,J8,J11,J14,J17,J20,J23,J26,J29,J32,J35) -> 696 | ... AR4: =SUM(AR5,AR8,AR11,AR14,AR17,AR20,AR23,AR26,AR29,AR32,AR35) -> 211
A5: 10대 미만 | B5: =SUM(C5:E5) -> 633 | C5: =SUM(C6:C7) -> 402 | D5: =SUM(D6:D7) -> 155 | E5: =SUM(E6:E7) -> 76 | F5: =SUM(F6:F7) -> 30 | G5: =SUM(G6:G7) -> 55 | H5: =SUM(H6:H7) -> 60 | I5: =SUM(I6:I7) -> 34 | J5: =SUM(J6:J7) -> 17 | ... AR5: =SUM(AR6:AR7) -> 6
A6: 0세 ~ 4세 | B6: =SUM(C6:E6) -> 302 | C6: =SUM(F6:R6) -> 205 | D6: =SUM(S6:AG6) -> 63 | E6: =SUM(AH6:AR6) -> 34 | F6: 15 | G6: 26 | H6: 30 | I6: 17 | J6: 7 | K6: 3 | L6: 10 | M6: 46 | N6: 9 | O6: 1 | P6: 18 | Q6: 10 | R6: 13 | S6: 12 | T6: 5 | U6: 3 | V6: 12 | W6: 3 | X6: 1 | Y6: 6 | Z6: 5 | AA6: 3 | AB6: 3 | AC6: 3 | AD6: 2 | AE6: 4 | AF6: 1 | AG6: 0 | AH6: 4 | AI6: 7 | AJ6: 1 | AK6: 4 | AL6: 2 | AM6: 2 | AN6: 10 | AO6: 1 | AP6: 0 | AQ6: 0 | AR6: 3
A7: 5세 ~ 9세 | B7: =SUM(C7:E7) -> 331 | C7: =SUM(F7:R7) -> 197 | D7: =SUM(S7:AG7) -> 92 | E7: =SUM(AH7:AR7) -> 42 | F7: 15 | G7: 29 | H7: 30 | I7: 17 | J7: 10 | K7: 7 | L7: 6 | M7: 38 | N7: 14 | O7: 1 | P7: 4 | Q7: 15 | R7: 11 | S7: 12 | T7: 7 | U7: 6 | V7: 13 | W7: 6 | X7: 7 | Y7: 8 | Z7: 12 | AA7: 1 | AB7: 1 | AC7: 2 | AD7: 2 | AE7: 7 | AF7: 6 | AG7: 2 | AH7: 8 | AI7: 6 | AJ7: 1 | AK7: 3 | AL7: 0 | AM7: 1 | AN7: 16 | AO7: 0 | AP7: 2 | AQ7: 2 | AR7: 3
A8: 10대 | B8: =SUM(C8:E8) -> 746 | C8: =SUM(C9:C10) -> 363 | D8: =SUM(D9:D10) -> 182 | E8: =SUM(E9:E10) -> 201 | F8: =SUM(F9:F10) -> 18 | G8: =SUM(G9:G10) -> 36 | H8: =SUM(H9:H10) -> 36 | I8: =SUM(I9:I10) -> 6 | J8: =SUM(J9:J10) -> 10 | ... AR8: =SUM(AR9:AR10) -> 7
A9: 10세 ~ 14세 | B9: =SUM(C9:E9) -> 260 | C9: =SUM(F9:R9) -> 131 | D9: =SUM(S9:AG9) -> 72 | E9: =SUM(AH9:AR9) -> 57 | F9: 6 | G9: 20 | H9: 19 | I9: 5 | J9: 8 | K9: 1 | L9: 5 | M9: 24 | N9: 13 | O9: 4 | P9: 3 | Q9: 11 | R9: 12 | S9: 7 | T9: 14 | U9: 4 | V9: 7 | W9: 7 | X9: 7 | Y9: 3 | Z9: 6 | AA9: 4 | AB9: 0 | AC9: 0 | AD9: 1 | AE9: 3 | AF9: 6 | AG9: 3 | AH9: 8 | AI9: 8 | AJ9: 5 | AK9: 3 | AL9: 1 | AM9: 3 | AN9: 23 | AO9: 0 | AP9: 1 | AQ9: 2 | AR9: 3
A10: 15세 ~ 19세 | B10: =SUM(C10:E10) -> 486 | C10: =SUM(F10:R10) -> 232 | D10: =SUM(S10:AG10) -> 110 | E10: =SUM(AH10:AR10) -> 144 | F10: 12 | G10: 16 | H10: 17 | I10: 1 | J10: 2 | K10: 1 | L10: 6 | M10: 85 | N10: 22 | O10: 2 | P10: 2 | Q10: 7 | R10: 59 | S10: 13 | T10: 6 | U10: 0 | V10: 41 | W10: 14 | X10: 4 | Y10: 6 | Z10: 16 | AA10: 3 | AB10: 3 | AC10: 0 | AD10: 2 | AE10: 0 | AF10: 1 | AG10: 1 | AH10: 29 | AI10: 8 | AJ10: 2 | AK10: 1 | AL10: 0 | AM10: 80 | AN10: 18 | AO10: 0 | AP10: 1 | AQ10: 1 | AR10: 4
A11: 20대 | B11: =SUM(C11:E11) -> 7590 | C11: =SUM(C12:C13) -> 3808 | D11: =SUM(D12:D13) -> 2450 | E11: =SUM(E12:E13) -> 1332 | F11: =SUM(F12:F13) -> 311 | G11: =SUM(G12:G13) -> 594 | H11: =SUM(H12:H13) -> 481 | I11: =SUM(I12:I13) -> 333 | J11: =SUM(J12:J13) -> 165 | ... AR11: =SUM(AR12:AR13) -> 18
A12: 20세 ~ 24세 | B12: =SUM(C12:E12) -> 3832 | C12: =SUM(F12:R12) -> 1510 | D12: =SUM(S12:AG12) -> 1491 | E12: =SUM(AH12:AR12) -> 831 | F12: 121 | G12: 202 | H12: 158 | I12: 81 | J12: 48 | K12: 39 | L12: 66 | M12: 408 | N12: 163 | O12: 7 | P12: 24 | Q12: 27 | R12: 166 | S12: 65 | T12: 8 | U12: 12 | V12: 676 | W12: 76 | X12: 11 | Y12: 28 | Z12: 476 | AA12: 7 | AB12: 65 | AC12: 7 | AD12: 11 | AE12: 10 | AF12: 8 | AG12: 31 | AH12: 135 | AI12: 11 | AJ12: 4 | AK12: 27 | AL12: 7 | AM12: 621 | AN12: 8 | AO12: 2 | AP12: 7 | AQ12: 3 | AR12: 6
A13: 25세 ~ 29세 | B13: =SUM(C13:E13) -> 3758 | C13: =SUM(F13:R13) -> 2298 | D13: =SUM(S13:AG13) -> 959 | E13: =SUM(AH13:AR13) -> 501 | F13: 190 | G13: 392 | H13: 323 | I13: 252 | J13: 117 | K13: 130 | L13: 204 | M13: 361 | N13: 135 | O13: 6 | P13: 45 | Q13: 49 | R13: 94 | S13: 71 | T13: 22 | U13: 22 | V13: 233 | W13: 47 | X13: 29 | Y13: 40 | Z13: 323 | AA13: 15 | AB13: 41 | AC13: 10 | AD13: 15 | AE13: 8 | AF13: 34 | AG13: 49 | AH13: 59 | AI13: 42 | AJ13: 15 | AK13: 22 | AL13: 17 | AM13: 270 | AN13: 21 | AO13: 2 | AP13: 7 | AQ13: 34 | AR13: 12
A14: 30대 | B14: =SUM(C14:E14) -> 6040 | C14: =SUM(C15:C16) -> 4257 | D14: =SUM(D15:D16) -> 1160 | E14: =SUM(E15:E16) -> 623 | F14: =SUM(F15:F16) -> 291 | G14: =SUM(G15:G16) -> 691 | H14: =SUM(H15:H16) -> 744 | I14: =SUM(I15:I16) -> 516 | J14: =SUM(J15:J16) -> 281 | ... AR14: =SUM(AR15:AR16) -> 57
A15: 30세 ~ 34세 | B15: =SUM(C15:E15) -> 3283 | C15: =SUM(F15:R15) -> 2360 | D15: =SUM(S15:AG15) -> 599 | E15: =SUM(AH15:AR15) -> 324 | F15: 175 | G15: 427 | H15: 408 | I15: 264 | J15: 148 | K15: 204 | L15: 277 | M15: 212 | N15: 77 | O15: 6 | P15: 33 | Q15: 65 | R15: 64 | S15: 60 | T15: 25 | U15: 28 | V15: 104 | W15: 30 | X15: 36 | Y15: 48 | Z15: 119 | AA15: 26 | AB15: 18 | AC15: 16 | AD15: 19 | AE15: 8 | AF15: 42 | AG15: 20 | AH15: 47 | AI15: 36 | AJ15: 22 | AK15: 13 | AL15: 18 | AM15: 78 | AN15: 40 | AO15: 6 | AP15: 10 | AQ15: 30 | AR15: 24
A16: 35세 ~ 39세 | B16: =SUM(C16:E16) -> 2757 | C16: =SUM(F16:R16) -> 1897 | D16: =SUM(S16:AG16) -> 561 | E16: =SUM(AH16:AR16) -> 299 | F16: 116 | G16: 264 | H16: 336 | I16: 252 | J16: 133 | K16: 168 | L16: 193 | M16: 180 | N16: 63 | O16: 16 | P16: 49 | Q16: 71 | R16: 56 | S16: 70 | T16: 45 | U16: 24 | V16: 82 | W16: 32 | X16: 37 | Y16: 43 | Z16: 67 | AA16: 30 | AB16: 23 | AC16: 22 | AD16: 5 | AE16: 27 | AF16: 38 | AG16: 16 | AH16: 50 | AI16: 25 | AJ16: 23 | AK16: 23 | AL16: 10 | AM16: 43 | AN16: 54 | AO16: 6 | AP16: 12 | AQ16: 20 | AR16: 33
A17: 40대 | B17: =SUM(C17:E17) -> 3176 | C17: =SUM(C18:C19) -> 1830 | D17: =SUM(D18:D19) -> 807 | E17: =SUM(E18:E19) -> 539 | F17: =SUM(F18:F19) -> 137 | G17: =SUM(G18:G19) -> 242 | H17: =SUM(H18:H19) -> 229 | I17: =SUM(I18:I19) -> 178 | J17: =SUM(J18:J19) -> 125 | ... AR17: =SUM(AR18:AR19) -> 61
A18: 40세 ~ 44세 | B18: =SUM(C18:E18) -> 1948 | C18: =SUM(F18:R18) -> 1148 | D18: =SUM(S18:AG18) -> 468 | E18: =SUM(AH18:AR18) -> 332 | F18: 85 | G18: 160 | H18: 153 | I18: 117 | J18: 74 | K18: 78 | L18: 124 | M18: 140 | N18: 55 | O18: 9 | P18: 42 | Q18: 69 | R18: 42 | S18: 68 | T18: 41 | U18: 17 | V18: 60 | W18: 19 | X18: 35 | Y18: 40 | Z18: 52 | AA18: 19 | AB18: 23 | AC18: 16 | AD18: 10 | AE18: 19 | AF18: 27 | AG18: 22 | AH18: 68 | AI18: 36 | AJ18: 23 | AK18: 21 | AL18: 10 | AM18: 24 | AN18: 74 | AO18: 12 | AP18: 10 | AQ18: 17 | AR18: 37
A19: 45세 ~ 49세 | B19: =SUM(C19:E19) -> 1228 | C19: =SUM(F19:R19) -> 682 | D19: =SUM(S19:AG19) -> 339 | E19: =SUM(AH19:AR19) -> 207 | F19: 52 | G19: 82 | H19: 76 | I19: 61 | J19: 51 | K19: 29 | L19: 50 | M19: 115 | N19: 31 | O19: 11 | P19: 28 | Q19: 41 | R19: 55 | S19: 71 | T19: 30 | U19: 7 | V19: 36 | W19: 15 | X19: 19 | Y19: 24 | Z19: 18 | AA19: 18 | AB19: 12 | AC19: 10 | AD19: 12 | AE19: 17 | AF19: 26 | AG19: 24 | AH19: 39 | AI19: 21 | AJ19: 18 | AK19: 13 | AL19: 7 | AM19: 15 | AN19: 50 | AO19: 5 | AP19: 10 | AQ19: 5 | AR19: 24
A20: 50대 | B20: =SUM(C20:E20) -> 1985 | C20: =SUM(C21:C22) -> 1087 | D20: =SUM(D21:D22) -> 590 | E20: =SUM(E21:E22) -> 308 | F20: =SUM(F21:F22) -> 78 | G20: =SUM(G21:G22) -> 118 | H20: =SUM(H21:H22) -> 101 | I20: =SUM(I21:I22) -> 60 | J20: =SUM(J21:J22) -> 65 | ... AR20: =SUM(AR21:AR22) -> 34
A21: 50세 ~ 54세 | B21: =SUM(C21:E21) -> 984 | C21: =SUM(F21:R21) -> 539 | D21: =SUM(S21:AG21) -> 288 | E21: =SUM(AH21:AR21) -> 157 | F21: 37 | G21: 65 | H21: 50 | I21: 38 | J21: 27 | K21: 9 | L21: 25 | M21: 125 | N21: 35 | O21: 9 | P21: 20 | Q21: 43 | R21: 56 | S21: 63 | T21: 18 | U21: 11 | V21: 40 | W21: 18 | X21: 20 | Y21: 14 | Z21: 20 | AA21: 13 | AB21: 14 | AC21: 7 | AD21: 9 | AE21: 13 | AF21: 13 | AG21: 15 | AH21: 30 | AI21: 23 | AJ21: 13 | AK21: 11 | AL21: 3 | AM21: 19 | AN21: 25 | AO21: 4 | AP21: 7 | AQ21: 4 | AR21: 18
A22: 55세 ~ 59세 | B22: =SUM(C22:E22) -> 1001 | C22: =SUM(F22:R22) -> 548 | D22: =SUM(S22:AG22) -> 302 | E22: =SUM(AH22:AR22) -> 151 | F22: 41 | G22: 53 | H22: 51 | I22: 22 | J22: 38 | K22: 13 | L22: 27 | M22: 124 | N22: 32 | O22: 11 | P22: 24 | Q22: 42 | R22: 70 | S22: 93 | T22: 22 | U22: 3 | V22: 44 | W22: 34 | X22: 24 | Y22: 13 | Z22: 4 | AA22: 11 | AB22: 16 | AC22: 7 | AD22: 7 | AE22: 5 | AF22: 14 | AG22: 5 | AH22: 45 | AI22: 12 | AJ22: 5 | AK22: 10 | AL22: 5 | AM22: 13 | AN22: 23 | AO22: 8 | AP22: 9 | AQ22: 5 | AR22: 16
A23: 60대 | B23: =SUM(C23:E23) -> 1069 | C23: =SUM(C24:C25) -> 578 | D23: =SUM(D24:D25) -> 347 | E23: =SUM(E24:E25) -> 144 | F23: =SUM(F24:F25) -> 46 | G23: =SUM(G24:G25) -> 47 | H23: =SUM(H24:H25) -> 43 | I23: =SUM(I24:I25) -> 14 | J23: =SUM(J24:J25) -> 30 | ... AR23: =SUM(AR24:AR25) -> 16
A24: 60세 ~ 64세 | B24: =SUM(C24:E24) -> 748 | C24: =SUM(F24:R24) -> 418 | D24: =SUM(S24:AG24) -> 235 | E24: =SUM(AH24:AR24) -> 95 | F24: 31 | G24: 30 | H24: 37 | I24: 12 | J24: 21 | K24: 4 | L24: 10 | M24: 113 | N24: 33 | O24: 5 | P24: 19 | Q24: 27 | R24: 76 | S24: 77 | T24: 8 | U24: 7 | V24: 30 | W24: 24 | X24: 12 | Y24: 11 | Z24: 9 | AA24: 8 | AB24: 6 | AC24: 9 | AD24: 4 | AE24: 7 | AF24: 18 | AG24: 5 | AH24: 25 | AI24: 6 | AJ24: 6 | AK24: 10 | AL24: 5 | AM24: 5 | AN24: 14 | AO24: 5 | AP24: 4 | AQ24: 2 | AR24: 13
A25: 65세 ~ 69세 | B25: =SUM(C25:E25) -> 321 | C25: =SUM(F25:R25) -> 160 | D25: =SUM(S25:AG25) -> 112 | E25: =SUM(AH25:AR25) -> 49 | F25: 15 | G25: 17 | H25: 6 | I25: 2 | J25: 9 | K25: 2 | L25: 2 | M25: 60 | N25: 16 | O25: 3 | P25: 0 | Q25: 7 | R25: 21 | S25: 35 | T25: 2 | U25: 4 | V25: 17 | W25: 8 | X25: 7 | Y25: 6 | Z25: 4 | AA25: 3 | AB25: 9 | AC25: 4 | AD25: 2 | AE25: 3 | AF25: 5 | AG25: 3 | AH25: 18 | AI25: 2 | AJ25: 4 | AK25: 5 | AL25: 0 | AM25: 4 | AN25: 8 | AO25: 2 | AP25: 1 | AQ25: 2 | AR25: 3
A26: 70대 | B26: =SUM(C26:E26) -> 239 | C26: =SUM(C27:C28) -> 116 | D26: =SUM(D27:D28) -> 75 | E26: =SUM(E27:E28) -> 48 | F26: =SUM(F27:F28) -> 6 | G26: =SUM(G27:G28) -> 7 | H26: =SUM(H27:H28) -> 4 | I26: =SUM(I27:I28) -> 4 | J26: =SUM(J27:J28) -> 2 | ... AR26: =SUM(AR27:AR28) -> 12
A27: 70세 ~ 74세 | B27: =SUM(C27:E27) -> 168 | C27: =SUM(F27:R27) -> 81 | D27: =SUM(S27:AG27) -> 48 | E27: =SUM(AH27:AR27) -> 39 | F27: 5 | G27: 5 | H27: 4 | I27: 1 | J27: 2 | K27: 2 | L27: 2 | M27: 31 | N27: 6 | O27: 1 | P27: 2 | Q27: 6 | R27: 14 | S27: 17 | T27: 1 | U27: 2 | V27: 8 | W27: 1 | X27: 1 | Y27: 4 | Z27: 0 | AA27: 2 | AB27: 2 | AC27: 1 | AD27: 0 | AE27: 0 | AF27: 4 | AG27: 5 | AH27: 8 | AI27: 2 | AJ27: 2 | AK27: 1 | AL27: 0 | AM27: 1 | AN27: 10 | AO27: 2 | AP27: 2 | AQ27: 1 | AR27: 10
A28: 75세 ~ 79세 | B28: =SUM(C28:E28) -> 71 | C28: =SUM(F28:R28) -> 35 | D28: =SUM(S28:AG28) -> 27 | E28: =SUM(AH28:AR28) -> 9 | F28: 1 | G28: 2 | H28: 0 | I28: 3 | J28: 0 | K28: 1 | L28: 0 | M28: 13 | N28: 4 | O28: 1 | P28: 1 | Q28: 2 | R28: 7 | S28: 5 | T28: 1 | U28: 0 | V28: 4 | W28: 2 | X28: 1 | Y28: 2 | Z28: 0 | AA28: 2 | AB28: 0 | AC28: 3 | AD28: 1 | AE28: 2 | AF28: 3 | AG28: 1 | AH28: 5 | AI28: 0 | AJ28: 2 | AK28: 0 | AL28: 0 | AM28: 0 | AN28: 0 | AO28: 0 | AP28: 0 | AQ28: 0 | AR28: 2
A29: 80대 | B29: =SUM(C29:E29) -> 25 | C29: =SUM(C30:C31) -> 5 | D29: =SUM(D30:D31) -> 15 | E29: =SUM(E30:E31) -> 5 | F29: =SUM(F30:F31) -> 1 | G29: =SUM(G30:G31) -> 0 | H29: =SUM(H30:H31) -> 0 | I29: =SUM(I30:I31) -> 0 | J29: =SUM(J30:J31) -> 1 | ... AR29: =SUM(AR30:AR31) -> 0
A30: 80세 ~ 84세 | B30: =SUM(C30:E30) -> 18 | C30: =SUM(F30:R30) -> 4 | D30: =SUM(S30:AG30) -> 10 | E30: =SUM(AH30:AR30) -> 4 | F30: 1 | G30: 0 | H30: 0 | I30: 0 | J30: 1 | K30: 0 | L30: 0 | M30: 0 | N30: 0 | O30: 0 | P30: 0 | Q30: 1 | R30: 1 | S30: 1 | T30: 0 | U30: 0 | V30: 3 | W30: 0 | X30: 0 | Y30: 1 | Z30: 0 | AA30: 1 | AB30: 1 | AC30: 1 | AD30: 0 | AE30: 1 | AF30: 0 | AG30: 1 | AH30: 0 | AI30: 0 | AJ30: 0 | AK30: 0 | AL30: 0 | AM30: 0 | AN30: 1 | AO30: 1 | AP30: 2 | AQ30: 0 | AR30: 0
A31: 85세 ~ 89세 | B31: =SUM(C31:E31) -> 7 | C31: =SUM(F31:R31) -> 1 | D31: =SUM(S31:AG31) -> 5 | E31: =SUM(AH31:AR31) -> 1 | F31: 0 | G31: 0 | H31: 0 | I31: 0 | J31: 0 | K31: 0 | L31: 0 | M31: 0 | N31: 1 | O31: 0 | P31: 0 | Q31: 0 | R31: 0 | S31: 1 | T31: 0 | U31: 0 | V31: 0 | W31: 0 | X31: 0 | Y31: 0 | Z31: 0 | AA31: 0 | AB31: 0 | AC31: 1 | AD31: 1 | AE31: 1 | AF31: 0 | AG31: 1 | AH31: 0 | AI31: 0 | AJ31: 0 | AK31: 0 | AL31: 0 | AM31: 0 | AN31: 1 | AO31: 0 | AP31: 0 | AQ31: 0 | AR31: 0
A32: 90대 | B32: =SUM(C32:E32) -> 5 | C32: =SUM(C33:C34) -> 3 | D32: =SUM(D33:D34) -> 2 | E32: =SUM(E33:E34) -> 0 | F32: =SUM(F33:F34) -> 0 | G32: =SUM(G33:G34) -> 0 | H32: =SUM(H33:H34) -> 0 | I32: =SUM(I33:I34) -> 0 | J32: =SUM(J33:J34) -> 0 | ... AR32: =SUM(AR33:AR34) -> 0
A33: 90세 ~ 94세 | B33: =SUM(C33:E33) -> 3 | C33: =SUM(F33:R33) -> 3 | D33: =SUM(S33:AG33) -> 0 | E33: =SUM(AH33:AR33) -> 0 | F33: 0 | G33: 0 | H33: 0 | I33: 0 | J33: 0 | K33: 0 | L33: 0 | M33: 3 | N33: 0 | O33: 0 | P33: 0 | Q33: 0 | R33: 0 | S33: 0 | T33: 0 | U33: 0 | V33: 0 | W33: 0 | X33: 0 | Y33: 0 | Z33: 0 | AA33: 0 | AB33: 0 | AC33: 0 | AD33: 0 | AE33: 0 | AF33: 0 | AG33: 0 | AH33: 0 | AI33: 0 | AJ33: 0 | AK33: 0 | AL33: 0 | AM33: 0 | AN33: 0 | AO33: 0 | AP33: 0 | AQ33: 0 | AR33: 0
A34: 95세 ~ 99세 | B34: =SUM(C34:E34) -> 2 | C34: =SUM(F34:R34) -> 0 | D34: =SUM(S34:AG34) -> 2 | E34: =SUM(AH34:AR34) -> 0 | F34: 0 | G34: 0 | H34: 0 | I34: 0 | J34: 0 | K34: 0 | L34: 0 | M34: 0 | N34: 0 | O34: 0 | P34: 0 | Q34: 0 | R34: 0 | S34: 2 | T34: 0 | U34: 0 | V34: 0 | W34: 0 | X34: 0 | Y34: 0 | Z34: 0 | AA34: 0 | AB34: 0 | AC34: 0 | AD34: 0 | AE34: 0 | AF34: 0 | AG34: 0 | AH34: 0 | AI34: 0 | AJ34: 0 | AK34: 0 | AL34: 0 | AM34: 0 | AN34: 0 | AO34: 0 | AP34: 0 | AQ34: 0 | AR34: 0
A35: 100세 이상 | B35: =SUM(C35:E35) -> 0 | C35: 0 | D35: 0 | E35: 0 | F35: 0 | G35: 0 | H35: 0 | I35: 0 | J35: 0 | K35: 0 | L35: 0 | M35: 0 | N35: 0 | O35: 0 | P35: 0 | Q35: 0 | R35: 0 | S35: 0 | T35: 0 | U35: 0 | V35: 0 | W35: 0 | X35: 0 | Y35: 0 | Z35: 0 | AA35: 0 | AB35: 0 | AC35: 0 | AD35: 0 | AE35: 0 | AF35: 0 | AG35: 0 | AH35: 0 | AI35: 0 | AJ35: 0 | AK35: 0 | AL35: 0 | AM35: 0 | AN35: 0 | AO35: 0 | AP35: 0 | AQ35: 0 | AR35: 0
A38: 구분 | B38: 용인시 | C38: 처인구 | D38: 기흥구 | E38: 수지구
A39: 총계 | B39: =B4 -> 21508 | C39: =C4 -> 12449 | D39: =D4 -> 5783 | E39: =E4 -> 3276
A40: 0-14세 | B40: =SUM(B6:B7,B9) -> 893 | C40: =SUM(C6:C7,C9) -> 533 | D40: =SUM(D6:D7,D9) -> 227 | E40: =SUM(E6:E7,E9) -> 133
A41: 15-64세 | B41: =B39-B40-B42 -> 20025 | C41: =C39-C40-C42 -> 11632 | D41: =D39-D40-D42 -> 5352 | E41: =E39-E40-E42 -> 3041
A42: 65세 이상 | B42: =SUM(B25,B27:B28,B30:B31,B33:B35) -> 590 | C42: =SUM(C25,C27:C28,C30:C31,C33:C35) -> 284 | D42: =SUM(D25,D27:D28,D30:D31,D33:D35) -> 204 | E42: =SUM(E25,E27:E28,E30:E31,E33:E35) -> 102

Sheet 연령별 증감 비교(외국인)
A1: 연령별 인구 증감 비교(외국인)
A3: 연령별 | B3: 2026. 3. 31. | D3: 2026. 4. 30. | F3: 전월대비 증감현황 | H3: 비고
B4: 계 | C4: 구성비(%) | D4: 계 | E4: 구성비(%) | F4: 계 | G4: 증감률(%)
A5: 합 계 | B5: 21710 | C5: 100 | D5: =SUM(D6,D9,D12:D16,D19:D20) -> 21508 | E5: =SUM(E6,E9,E12:E16,E19:E20) -> 100 | F5: =F6+F9+F12+F13+F14+F15+F16+F19+F20 -> -202 | G5: =(F5/B5)*100 -> -0.9304468
A6: 10대 미만 | B6: 627 | C6: 2.88807 | D6: ='읍면동 연령별 현황(외국인)'!B5 -> 633 | E6: =D6/$D$5*100 -> 2.9430909 | F6: =D6-B6 -> 6 | G6: =(F6/B6)*100 -> 0.9569378
A7: 0세 ~ 4세 | B7: 291 | C7: 1.3403961 | D7: ='읍면동 연령별 현황(외국인)'!B6 -> 302 | E7: =D7/$D$5*100 -> 1.4041287 | F7: =D7-B7 -> 11 | G7: =(F7/B7)*100 -> 3.7800687
A8: 5세 ~ 9세 | B8: 336 | C8: 1.5476739 | D8: ='읍면동 연령별 현황(외국인)'!B7 -> 331 | E8: =D8/$D$5*100 -> 1.5389622 | F8: =D8-B8 -> -5 | G8: =(F8/B8)*100 -> -1.4880952
A9: 10대 | B9: 707 | C9: 3.2565638 | D9: ='읍면동 연령별 현황(외국인)'!B8 -> 746 | E9: =D9/$D$5*100 -> 3.4684768 | F9: =D9-B9 -> 39 | G9: =(F9/B9)*100 -> 5.5162659
A10: 10세 ~ 14세 | B10: 259 | C10: 1.1929986 | D10: ='읍면동 연령별 현황(외국인)'!B9 -> 260 | E10: =D10/$D$5*100 -> 1.2088525 | F10: =D10-B10 -> 1 | G10: =(F10/B10)*100 -> 0.38610039
A11: 15세 ~ 19세 | B11: 448 | C11: 2.0635652 | D11: ='읍면동 연령별 현황(외국인)'!B10 -> 486 | E11: =D11/$D$5*100 -> 2.2596243 | F11: =D11-B11 -> 38 | G11: =(F11/B11)*100 -> 8.4821429
A12: 20대 | B12: 7732 | C12: 35.614924 | D12: ='읍면동 연령별 현황(외국인)'!B11 -> 7590 | E12: =D12/$D$5*100 -> 35.289195 | F12: =D12-B12 -> -142 | G12: =(F12/B12)*100 -> -1.8365235
A13: 30대 | B13: 6071 | C13: 27.964072 | D13: ='읍면동 연령별 현황(외국인)'!B14 -> 6040 | E13: =D13/$D$5*100 -> 28.082574 | F13: =D13-B13 -> -31 | G13: =(F13/B13)*100 -> -0.51062428
A14: 40대 | B14: 3202 | C14: 14.748964 | D14: ='읍면동 연령별 현황(외국인)'!B17 -> 3176 | E14: =D14/$D$5*100 -> 14.766598 | F14: =D14-B14 -> -26 | G14: =(F14/B14)*100 -> -0.8119925
A15: 50대 | B15: 2019 | C15: 9.2998618 | D15: ='읍면동 연령별 현황(외국인)'!B20 -> 1985 | E15: =D15/$D$5*100 -> 9.229124 | F15: =D15-B15 -> -34 | G15: =(F15/B15)*100 -> -1.684002
A16: 60대 | B16: 1088 | C16: 5.0115154 | D16: ='읍면동 연령별 현황(외국인)'!B23 -> 1069 | E16: =D16/$D$5*100 -> 4.9702436 | F16: =D16-B16 -> -19 | G16: =(F16/B16)*100 -> -1.7463235
A17: 60세 ~ 64세 | B17: 767 | C17: 3.5329341 | D17: ='읍면동 연령별 현황(외국인)'!B24 -> 748 | E17: =D17/$D$5*100 -> 3.4777757 | F17: =D17-B17 -> -19 | G17: =(F17/B17)*100 -> -2.4771838
A18: 65세 ~ 69세 | B18: 321 | C18: 1.4785813 | D18: ='읍면동 연령별 현황(외국인)'!B25 -> 321 | E18: =D18/$D$5*100 -> 1.4924679 | F18: =D18-B18 -> 0 | G18: =(F18/B18)*100 -> 0
A19: 70대 | B19: 234 | C19: 1.0778443 | D19: ='읍면동 연령별 현황(외국인)'!B26 -> 239 | E19: =D19/$D$5*100 -> 1.1112144 | F19: =D19-B19 -> 5 | G19: =(F19/B19)*100 -> 2.1367521
A20: 80대 이상 | B20: 30 | C20: 0.13818517 | D20: ='읍면동 연령별 현황(외국인)'!B29+'읍면동 연령별 현황(외국인)'!B32+'읍면동 연령별 현황(외국인)'!B35 -> 30 | E20: =D20/$D$5*100 -> 0.13948298 | F20: =D20-B20 -> 0 | G20: =(F20/B20)*100 -> 0
