Workbook

Sheet 읍면동 연령별 현황(내국인)
A1: 읍면동 연령별 인구현황(내국인)
A2: 용인시 | B2: 2026. 4. 30. 기준
A3: 연령별 | B3: 용 인 시 | C3: 처 인 구 | D3: 기 흥 구 | E3: 수 지 구 | F3: 포 곡 읍 | G3: 모 현 읍 | H3: 이 동 읍 | I3: 남 사 읍 | J3: 양 지 읍 | K3: 원 삼 면 | L3: 백 암 면 | M3: 중 앙 동 | N3: 역 북 동 | O3: 삼 가 동 | P3: 유림1동 | Q3: 유림2동 | R3: 동 부 동 | S3: 신 갈 동 | T3: 영덕1동 | U3: 영덕2동 | V3: 구 갈 동 | W3: 상 갈 동 | X3: 보 라 동 | Y3: 기 흥 동 | Z3: 서 농 동 | AA3: 구 성 동 | AB3: 마 북 동 | AC3: 동백1동 | AD3: 동백2동 | AE3: 동백3동 | AF3: 상 하 동 | AG3: 보 정 동 | AH3: 풍 덕 천 1 동 | AI3: 풍 덕 천 2 동 | AJ3: 신 봉 동 | AK3: 죽 전 1 동 | AL3: 죽 전 2 동 | AM3: 죽 전 3 동 | AN3: 동 천 동 | AO3: 상 현 1 동 | AP3: 상 현 2 동 | AQ3: 상 현 3 동 | AR3: 성 복 동
A4: 총 인구수 | B4: =SUM(C4:E4) -> 1090269 | C4: =SUM(C5,C16,C27,C38,C49,C60,C71,C82,C93,C104,C115) -> 285039 | D4: =SUM(D5,D16,D27,D38,D49,D60,D71,D82,D93,D104,D115) -> 434289 | E4: =SUM(E5,E16,E27,E38,E49,E60,E71,E82,E93,E104,E115) -> 370941 | F4: =SUM(F5,F16,F27,F38,F49,F60,F71,F82,F93,F104,F115) -> 30834 | G4: =SUM(G5,G16,G27,G38,G49,G60,G71,G82,G93,G104,G115) -> 34589 | H4: =SUM(H5,H16,H27,H38,H49,H60,H71,H82,H93,H104,H115) -> 18682 | I4: =SUM(I5,I16,I27,I38,I49,I60,I71,I82,I93,I104,I115) -> 23442 | J4: =SUM(J5,J16,J27,J38,J49,J60,J71,J82,J93,J104,J115) -> 21503 | ... BI4: =SUM(BI5,BI16,BI27,BI38,BI49,BI60,BI71,BI82,BI93,BI104,BI115) -> 0
A5: 10대 미만 | B5: =SUM(C5:E5) -> 71129 | C5: =SUM(C6:C15) -> 17616 | D5: =SUM(D6:D15) -> 26370 | E5: =SUM(E6:E15) -> 27143 | F5: =SUM(F6:F15) -> 1146 | G5: =SUM(G6:G15) -> 2341 | H5: =SUM(H6:H15) -> 767 | I5: =SUM(I6:I15) -> 2063 | J5: =SUM(J6:J15) -> 1118 | ... BM5: =SUM(BM6:BM15) -> 0
A6: 0세 | B6: =SUM(C6:E6) -> 6164 | C6: =SUM(F6:R6) -> 1640 | D6: =SUM(S6:AG6) -> 2238 | E6: =SUM(AH6:AR6) -> 2286 | F6: 101 | G6: 217 | H6: 57 | I6: 149 | J6: 114 | K6: 17 | L6: 10 | M6: 135 | N6: 259 | O6: 111 | P6: 98 | Q6: 342 | R6: 30 | S6: 291 | T6: 195 | U6: 165 | V6: 280 | W6: 65 | X6: 126 | Y6: 98 | Z6: 155 | AA6: 146 | AB6: 195 | AC6: 84 | AD6: 54 | AE6: 179 | AF6: 77 | AG6: 128 | AH6: 276 | AI6: 313 | AJ6: 187 | AK6: 161 | AL6: 168 | AM6: 152 | AN6: 330 | AO6: 120 | AP6: 194 | AQ6: 163 | AR6: 222 | AS6: 190 | AT6: 209
A7: 1세 | B7: =SUM(C7:E7) -> 5918 | C7: =SUM(F7:R7) -> 1554 | D7: =SUM(S7:AG7) -> 2249 | E7: =SUM(AH7:AR7) -> 2115 | F7: 83 | G7: 228 | H7: 48 | I7: 157 | J7: 110 | K7: 7 | L7: 6 | M7: 123 | N7: 248 | O7: 99 | P7: 72 | Q7: 343 | R7: 30 | S7: 261 | T7: 214 | U7: 156 | V7: 261 | W7: 54 | X7: 138 | Y7: 72 | Z7: 168 | AA7: 132 | AB7: 186 | AC7: 121 | AD7: 68 | AE7: 198 | AF7: 81 | AG7: 139 | AH7: 177 | AI7: 278 | AJ7: 231 | AK7: 162 | AL7: 134 | AM7: 119 | AN7: 326 | AO7: 104 | AP7: 189 | AQ7: 149 | AR7: 246 | AS7: 212 | AT7: 292
A8: 2세 | B8: =SUM(C8:E8) -> 5569 | C8: =SUM(F8:R8) -> 1479 | D8: =SUM(S8:AG8) -> 2084 | E8: =SUM(AH8:AR8) -> 2006 | F8: 95 | G8: 233 | H8: 46 | I8: 128 | J8: 104 | K8: 11 | L8: 9 | M8: 109 | N8: 228 | O8: 75 | P8: 80 | Q8: 329 | R8: 32 | S8: 194 | T8: 211 | U8: 151 | V8: 234 | W8: 61 | X8: 153 | Y8: 61 | Z8: 142 | AA8: 141 | AB8: 177 | AC8: 108 | AD8: 70 | AE8: 168 | AF8: 80 | AG8: 133 | AH8: 179 | AI8: 253 | AJ8: 198 | AK8: 148 | AL8: 107 | AM8: 96 | AN8: 343 | AO8: 102 | AP8: 199 | AQ8: 131 | AR8: 250 | AS8: 310 | AT8: 311
A9: 3세 | B9: =SUM(C9:E9) -> 6032 | C9: =SUM(F9:R9) -> 1541 | D9: =SUM(S9:AG9) -> 2245 | E9: =SUM(AH9:AR9) -> 2246 | F9: 101 | G9: 231 | H9: 55 | I9: 149 | J9: 108 | K9: 14 | L9: 16 | M9: 129 | N9: 234 | O9: 74 | P9: 67 | Q9: 338 | R9: 25 | S9: 194 | T9: 234 | U9: 127 | V9: 242 | W9: 45 | X9: 143 | Y9: 67 | Z9: 159 | AA9: 158 | AB9: 184 | AC9: 156 | AD9: 73 | AE9: 199 | AF9: 81 | AG9: 183 | AH9: 157 | AI9: 250 | AJ9: 243 | AK9: 161 | AL9: 108 | AM9: 127 | AN9: 369 | AO9: 146 | AP9: 180 | AQ9: 157 | AR9: 348 | AS9: 319 | AT9: 385
A10: 4세 | B10: =SUM(C10:E10) -> 6412 | C10: =SUM(F10:R10) -> 1673 | D10: =SUM(S10:AG10) -> 2339 | E10: =SUM(AH10:AR10) -> 2400 | F10: 80 | G10: 224 | H10: 68 | I10: 202 | J10: 111 | K10: 9 | L10: 11 | M10: 120 | N10: 258 | O10: 85 | P10: 73 | Q10: 391 | R10: 41 | S10: 163 | T10: 230 | U10: 156 | V10: 210 | W10: 52 | X10: 160 | Y10: 102 | Z10: 172 | AA10: 159 | AB10: 172 | AC10: 143 | AD10: 112 | AE10: 221 | AF10: 74 | AG10: 213 | AH10: 179 | AI10: 300 | AJ10: 273 | AK10: 162 | AL10: 101 | AM10: 123 | AN10: 379 | AO10: 147 | AP10: 197 | AQ10: 191 | AR10: 348 | AS10: 351 | AT10: 457
A11: 5세 | B11: =SUM(C11:E11) -> 6766 | C11: =SUM(F11:R11) -> 1689 | D11: =SUM(S11:AG11) -> 2492 | E11: =SUM(AH11:AR11) -> 2585 | F11: 108 | G11: 231 | H11: 82 | I11: 188 | J11: 94 | K11: 16 | L11: 9 | M11: 124 | N11: 241 | O11: 81 | P11: 67 | Q11: 412 | R11: 36 | S11: 194 | T11: 257 | U11: 177 | V11: 236 | W11: 49 | X11: 156 | Y11: 93 | Z11: 150 | AA11: 188 | AB11: 181 | AC11: 167 | AD11: 105 | AE11: 229 | AF11: 90 | AG11: 220 | AH11: 189 | AI11: 355 | AJ11: 289 | AK11: 134 | AL11: 95 | AM11: 135 | AN11: 415 | AO11: 174 | AP11: 223 | AQ11: 178 | AR11: 398 | AS11: 437 | AT11: 530
A12: 6세 | B12: =SUM(C12:E12) -> 7345 | C12: =SUM(F12:R12) -> 1758 | D12: =SUM(S12:AG12) -> 2663 | E12: =SUM(AH12:AR12) -> 2924 | F12: 109 | G12: 230 | H12: 82 | I12: 231 | J12: 99 | K12: 12 | L12: 13 | M12: 128 | N12: 290 | O12: 74 | P12: 81 | Q12: 372 | R12: 37 | S12: 183 | T12: 277 | U12: 191 | V12: 234 | W12: 48 | X12: 166 | Y12: 80 | Z12: 179 | AA12: 174 | AB12: 189 | AC12: 175 | AD12: 142 | AE12: 242 | AF12: 119 | AG12: 264 | AH12: 156 | AI12: 397 | AJ12: 313 | AK12: 184 | AL12: 72 | AM12: 149 | AN12: 447 | AO12: 222 | AP12: 262 | AQ12: 223 | AR12: 499 | AS12: 525 | AT12: 645
A13: 7세 | B13: =SUM(C13:E13) -> 8103 | C13: =SUM(F13:R13) -> 1960 | D13: =SUM(S13:AG13) -> 2971 | E13: =SUM(AH13:AR13) -> 3172 | F13: 143 | G13: 249 | H13: 87 | I13: 251 | J13: 125 | K13: 23 | L13: 17 | M13: 139 | N13: 283 | O13: 72 | P13: 68 | Q13: 444 | R13: 59 | S13: 190 | T13: 256 | U13: 194 | V13: 238 | W13: 51 | X13: 197 | Y13: 102 | Z13: 204 | AA13: 206 | AB13: 178 | AC13: 246 | AD13: 178 | AE13: 291 | AF13: 138 | AG13: 302 | AH13: 175 | AI13: 474 | AJ13: 379 | AK13: 181 | AL13: 74 | AM13: 157 | AN13: 462 | AO13: 174 | AP13: 312 | AQ13: 217 | AR13: 567 | AS13: 542 | AT13: 738
A14: 8세 | B14: =SUM(C14:E14) -> 8847 | C14: =SUM(F14:R14) -> 2094 | D14: =SUM(S14:AG14) -> 3314 | E14: =SUM(AH14:AR14) -> 3439 | F14: 159 | G14: 246 | H14: 100 | I14: 287 | J14: 121 | K14: 33 | L14: 29 | M14: 155 | N14: 331 | O14: 96 | P14: 70 | Q14: 406 | R14: 61 | S14: 198 | T14: 305 | U14: 176 | V14: 268 | W14: 69 | X14: 233 | Y14: 146 | Z14: 235 | AA14: 262 | AB14: 203 | AC14: 287 | AD14: 177 | AE14: 294 | AF14: 130 | AG14: 331 | AH14: 222 | AI14: 511 | AJ14: 345 | AK14: 190 | AL14: 85 | AM14: 209 | AN14: 527 | AO14: 224 | AP14: 317 | AQ14: 250 | AR14: 559 | AS14: 633 | AT14: 741
A15: 9세 | B15: =SUM(C15:E15) -> 9973 | C15: =SUM(F15:R15) -> 2228 | D15: =SUM(S15:AG15) -> 3775 | E15: =SUM(AH15:AR15) -> 3970 | F15: 167 | G15: 252 | H15: 142 | I15: 321 | J15: 132 | K15: 29 | L15: 28 | M15: 181 | N15: 335 | O15: 91 | P15: 82 | Q15: 408 | R15: 60 | S15: 256 | T15: 310 | U15: 185 | V15: 344 | W15: 69 | X15: 271 | Y15: 159 | Z15: 252 | AA15: 305 | AB15: 241 | AC15: 310 | AD15: 253 | AE15: 315 | AF15: 132 | AG15: 373 | AH15: 233 | AI15: 581 | AJ15: 455 | AK15: 254 | AL15: 118 | AM15: 226 | AN15: 559 | AO15: 231 | AP15: 360 | AQ15: 292 | AR15: 661 | AS15: 721 | AT15: 706
A16: 10대 | B16: =SUM(C16:E16) -> 120725 | C16: =SUM(C17:C26) -> 26514 | D16: =SUM(D17:D26) -> 48513 | E16: =SUM(E17:E26) -> 45698 | F16: =SUM(F17:F26) -> 3150 | G16: =SUM(G17:G26) -> 2936 | H16: =SUM(H17:H26) -> 1510 | I16: =SUM(I17:I26) -> 3027 | J16: =SUM(J17:J26) -> 1902 | ... BM16: =SUM(BM17:BM26) -> 0
A17: 10세 | B17: =SUM(C17:E17) -> 11423 | C17: =SUM(F17:R17) -> 2568 | D17: =SUM(S17:AG17) -> 4373 | E17: =SUM(AH17:AR17) -> 4482 | F17: 220 | G17: 318 | H17: 129 | I17: 359 | J17: 141 | K17: 32 | L17: 25 | M17: 186 | N17: 404 | O17: 117 | P17: 81 | Q17: 476 | R17: 80 | S17: 253 | T17: 398 | U17: 196 | V17: 362 | W17: 82 | X17: 333 | Y17: 162 | Z17: 329 | AA17: 333 | AB17: 253 | AC17: 384 | AD17: 315 | AE17: 361 | AF17: 174 | AG17: 438 | AH17: 240 | AI17: 650 | AJ17: 493 | AK17: 289 | AL17: 128 | AM17: 258 | AN17: 668 | AO17: 259 | AP17: 412 | AQ17: 338 | AR17: 747 | AS17: 704 | AT17: 764
A18: 11세 | B18: =SUM(C18:E18) -> 11518 | C18: =SUM(F18:R18) -> 2420 | D18: =SUM(S18:AG18) -> 4434 | E18: =SUM(AH18:AR18) -> 4664 | F18: 234 | G18: 273 | H18: 145 | I18: 338 | J18: 150 | K18: 37 | L18: 20 | M18: 167 | N18: 380 | O18: 125 | P18: 77 | Q18: 418 | R18: 56 | S18: 268 | T18: 347 | U18: 200 | V18: 346 | W18: 72 | X18: 311 | Y18: 175 | Z18: 307 | AA18: 357 | AB18: 274 | AC18: 448 | AD18: 322 | AE18: 387 | AF18: 178 | AG18: 442 | AH18: 274 | AI18: 685 | AJ18: 541 | AK18: 256 | AL18: 112 | AM18: 278 | AN18: 719 | AO18: 262 | AP18: 427 | AQ18: 346 | AR18: 764 | AS18: 784 | AT18: 757
A19: 12세 | B19: =SUM(C19:E19) -> 11459 | C19: =SUM(F19:R19) -> 2427 | D19: =SUM(S19:AG19) -> 4456 | E19: =SUM(AH19:AR19) -> 4576 | F19: 252 | G19: 297 | H19: 146 | I19: 329 | J19: 164 | K19: 37 | L19: 23 | M19: 178 | N19: 320 | O19: 100 | P19: 77 | Q19: 421 | R19: 83 | S19: 285 | T19: 364 | U19: 140 | V19: 350 | W19: 78 | X19: 348 | Y19: 160 | Z19: 293 | AA19: 353 | AB19: 288 | AC19: 422 | AD19: 382 | AE19: 372 | AF19: 217 | AG19: 404 | AH19: 264 | AI19: 645 | AJ19: 538 | AK19: 305 | AL19: 117 | AM19: 266 | AN19: 673 | AO19: 239 | AP19: 435 | AQ19: 321 | AR19: 773 | AS19: 746 | AT19: 751
A20: 13세 | B20: =SUM(C20:E20) -> 12552 | C20: =SUM(F20:R20) -> 2698 | D20: =SUM(S20:AG20) -> 5002 | E20: =SUM(AH20:AR20) -> 4852 | F20: 299 | G20: 302 | H20: 164 | I20: 377 | J20: 179 | K20: 42 | L20: 32 | M20: 201 | N20: 388 | O20: 133 | P20: 80 | Q20: 423 | R20: 78 | S20: 312 | T20: 431 | U20: 148 | V20: 372 | W20: 78 | X20: 408 | Y20: 181 | Z20: 333 | AA20: 432 | AB20: 282 | AC20: 481 | AD20: 439 | AE20: 419 | AF20: 207 | AG20: 479 | AH20: 280 | AI20: 633 | AJ20: 561 | AK20: 355 | AL20: 129 | AM20: 325 | AN20: 680 | AO20: 327 | AP20: 478 | AQ20: 338 | AR20: 746 | AS20: 757 | AT20: 724
A21: 14세 | B21: =SUM(C21:E21) -> 12345 | C21: =SUM(F21:R21) -> 2661 | D21: =SUM(S21:AG21) -> 5096 | E21: =SUM(AH21:AR21) -> 4588 | F21: 326 | G21: 297 | H21: 164 | I21: 337 | J21: 172 | K21: 42 | L21: 25 | M21: 220 | N21: 357 | O21: 145 | P21: 92 | Q21: 407 | R21: 77 | S21: 316 | T21: 426 | U21: 151 | V21: 362 | W21: 89 | X21: 390 | Y21: 190 | Z21: 327 | AA21: 464 | AB21: 317 | AC21: 530 | AD21: 425 | AE21: 403 | AF21: 235 | AG21: 471 | AH21: 317 | AI21: 625 | AJ21: 536 | AK21: 321 | AL21: 113 | AM21: 279 | AN21: 568 | AO21: 268 | AP21: 440 | AQ21: 355 | AR21: 766 | AS21: 742 | AT21: 678
A22: 15세 | B22: =SUM(C22:E22) -> 12696 | C22: =SUM(F22:R22) -> 2758 | D22: =SUM(S22:AG22) -> 5078 | E22: =SUM(AH22:AR22) -> 4860 | F22: 330 | G22: 308 | H22: 171 | I22: 307 | J22: 194 | K22: 44 | L22: 36 | M22: 246 | N22: 353 | O22: 133 | P22: 111 | Q22: 434 | R22: 91 | S22: 350 | T22: 377 | U22: 156 | V22: 311 | W22: 103 | X22: 446 | Y22: 235 | Z22: 298 | AA22: 432 | AB22: 312 | AC22: 521 | AD22: 432 | AE22: 372 | AF22: 228 | AG22: 505 | AH22: 319 | AI22: 633 | AJ22: 621 | AK22: 348 | AL22: 141 | AM22: 307 | AN22: 606 | AO22: 268 | AP22: 456 | AQ22: 352 | AR22: 809 | AS22: 716 | AT22: 747
A23: 16세 | B23: =SUM(C23:E23) -> 11631 | C23: =SUM(F23:R23) -> 2472 | D23: =SUM(S23:AG23) -> 4809 | E23: =SUM(AH23:AR23) -> 4350 | F23: 290 | G23: 281 | H23: 133 | I23: 269 | J23: 181 | K23: 57 | L23: 40 | M23: 204 | N23: 324 | O23: 135 | P23: 78 | Q23: 391 | R23: 89 | S23: 288 | T23: 348 | U23: 92 | V23: 295 | W23: 94 | X23: 396 | Y23: 203 | Z23: 267 | AA23: 467 | AB23: 336 | AC23: 505 | AD23: 453 | AE23: 390 | AF23: 215 | AG23: 460 | AH23: 334 | AI23: 538 | AJ23: 565 | AK23: 343 | AL23: 152 | AM23: 281 | AN23: 513 | AO23: 250 | AP23: 369 | AQ23: 297 | AR23: 708 | AS23: 722 | AT23: 716
A24: 17세 | B24: =SUM(C24:E24) -> 11947 | C24: =SUM(F24:R24) -> 2556 | D24: =SUM(S24:AG24) -> 4885 | E24: =SUM(AH24:AR24) -> 4506 | F24: 334 | G24: 272 | H24: 161 | I24: 270 | J24: 155 | K24: 38 | L24: 42 | M24: 221 | N24: 331 | O24: 133 | P24: 103 | Q24: 414 | R24: 82 | S24: 308 | T24: 379 | U24: 111 | V24: 315 | W24: 106 | X24: 447 | Y24: 177 | Z24: 247 | AA24: 470 | AB24: 277 | AC24: 567 | AD24: 443 | AE24: 347 | AF24: 219 | AG24: 472 | AH24: 320 | AI24: 555 | AJ24: 530 | AK24: 372 | AL24: 138 | AM24: 281 | AN24: 554 | AO24: 277 | AP24: 431 | AQ24: 367 | AR24: 681 | AS24: 704 | AT24: 609
A25: 18세 | B25: =SUM(C25:E25) -> 13122 | C25: =SUM(F25:R25) -> 3063 | D25: =SUM(S25:AG25) -> 5403 | E25: =SUM(AH25:AR25) -> 4656 | F25: 464 | G25: 306 | H25: 151 | I25: 254 | J25: 297 | K25: 77 | L25: 60 | M25: 229 | N25: 390 | O25: 174 | P25: 123 | Q25: 428 | R25: 110 | S25: 366 | T25: 387 | U25: 135 | V25: 352 | W25: 109 | X25: 456 | Y25: 219 | Z25: 263 | AA25: 516 | AB25: 361 | AC25: 580 | AD25: 534 | AE25: 361 | AF25: 275 | AG25: 489 | AH25: 351 | AI25: 540 | AJ25: 627 | AK25: 364 | AL25: 148 | AM25: 395 | AN25: 535 | AO25: 258 | AP25: 392 | AQ25: 322 | AR25: 724 | AS25: 609 | AT25: 630
A26: 19세 | B26: =SUM(C26:E26) -> 12032 | C26: =SUM(F26:R26) -> 2891 | D26: =SUM(S26:AG26) -> 4977 | E26: =SUM(AH26:AR26) -> 4164 | F26: 401 | G26: 282 | H26: 146 | I26: 187 | J26: 269 | K26: 105 | L26: 53 | M26: 240 | N26: 398 | O26: 147 | P26: 113 | Q26: 430 | R26: 120 | S26: 330 | T26: 378 | U26: 142 | V26: 417 | W26: 108 | X26: 403 | Y26: 196 | Z26: 287 | AA26: 482 | AB26: 310 | AC26: 491 | AD26: 387 | AE26: 344 | AF26: 256 | AG26: 446 | AH26: 309 | AI26: 444 | AJ26: 524 | AK26: 333 | AL26: 139 | AM26: 363 | AN26: 475 | AO26: 231 | AP26: 361 | AQ26: 324 | AR26: 661 | AS26: 588 | AT26: 598
A27: 20대 | B27: =SUM(C27:E27) -> 125680 | C27: =SUM(C28:C37) -> 32053 | D27: =SUM(D28:D37) -> 52594 | E27: =SUM(E28:E37) -> 41033 | F27: =SUM(F28:F37) -> 3974 | G27: =SUM(G28:G37) -> 3713 | H27: =SUM(H28:H37) -> 1687 | I27: =SUM(I28:I37) -> 1335 | J27: =SUM(J28:J37) -> 2053 | ... BM27: =SUM(BM28:BM37) -> 0
A28: 20세 | B28: =SUM(C28:E28) -> 10900 | C28: =SUM(F28:R28) -> 2679 | D28: =SUM(S28:AG28) -> 4532 | E28: =SUM(AH28:AR28) -> 3689 | F28: 351 | G28: 311 | H28: 139 | I28: 137 | J28: 160 | K28: 48 | L28: 43 | M28: 306 | N28: 438 | O28: 152 | P28: 151 | Q28: 346 | R28: 97 | S28: 274 | T28: 356 | U28: 145 | V28: 356 | W28: 87 | X28: 391 | Y28: 161 | Z28: 307 | AA28: 430 | AB28: 301 | AC28: 393 | AD28: 355 | AE28: 297 | AF28: 240 | AG28: 439 | AH28: 282 | AI28: 355 | AJ28: 420 | AK28: 349 | AL28: 129 | AM28: 352 | AN28: 467 | AO28: 210 | AP28: 322 | AQ28: 277 | AR28: 526 | AS28: 598 | AT28: 561
A29: 21세 | B29: =SUM(C29:E29) -> 11199 | C29: =SUM(F29:R29) -> 2655 | D29: =SUM(S29:AG29) -> 4780 | E29: =SUM(AH29:AR29) -> 3764 | F29: 302 | G29: 315 | H29: 138 | I29: 105 | J29: 143 | K29: 44 | L29: 36 | M29: 338 | N29: 478 | O29: 180 | P29: 117 | Q29: 339 | R29: 120 | S29: 346 | T29: 344 | U29: 121 | V29: 422 | W29: 134 | X29: 370 | Y29: 171 | Z29: 428 | AA29: 434 | AB29: 348 | AC29: 408 | AD29: 356 | AE29: 241 | AF29: 264 | AG29: 393 | AH29: 320 | AI29: 369 | AJ29: 421 | AK29: 334 | AL29: 150 | AM29: 423 | AN29: 435 | AO29: 206 | AP29: 319 | AQ29: 240 | AR29: 547 | AS29: 514 | AT29: 599
A30: 22세 | B30: =SUM(C30:E30) -> 11812 | C30: =SUM(F30:R30) -> 2858 | D30: =SUM(S30:AG30) -> 5030 | E30: =SUM(AH30:AR30) -> 3924 | F30: 329 | G30: 371 | H30: 132 | I30: 93 | J30: 152 | K30: 42 | L30: 29 | M30: 404 | N30: 570 | O30: 181 | P30: 119 | Q30: 319 | R30: 117 | S30: 360 | T30: 323 | U30: 151 | V30: 511 | W30: 126 | X30: 406 | Y30: 189 | Z30: 460 | AA30: 406 | AB30: 341 | AC30: 412 | AD30: 369 | AE30: 270 | AF30: 262 | AG30: 444 | AH30: 323 | AI30: 387 | AJ30: 460 | AK30: 383 | AL30: 160 | AM30: 479 | AN30: 406 | AO30: 214 | AP30: 344 | AQ30: 245 | AR30: 523 | AS30: 581 | AT30: 650
A31: 23세 | B31: =SUM(C31:E31) -> 11426 | C31: =SUM(F31:R31) -> 3016 | D31: =SUM(S31:AG31) -> 4624 | E31: =SUM(AH31:AR31) -> 3786 | F31: 352 | G31: 369 | H31: 157 | I31: 70 | J31: 174 | K31: 45 | L31: 52 | M31: 413 | N31: 578 | O31: 199 | P31: 128 | Q31: 367 | R31: 112 | S31: 308 | T31: 340 | U31: 146 | V31: 499 | W31: 140 | X31: 327 | Y31: 167 | Z31: 443 | AA31: 364 | AB31: 341 | AC31: 369 | AD31: 297 | AE31: 229 | AF31: 262 | AG31: 392 | AH31: 349 | AI31: 366 | AJ31: 404 | AK31: 333 | AL31: 182 | AM31: 490 | AN31: 440 | AO31: 194 | AP31: 284 | AQ31: 275 | AR31: 469 | AS31: 644 | AT31: 583
A32: 24세 | B32: =SUM(C32:E32) -> 12394 | C32: =SUM(F32:R32) -> 3112 | D32: =SUM(S32:AG32) -> 5194 | E32: =SUM(AH32:AR32) -> 4088 | F32: 393 | G32: 378 | H32: 144 | I32: 112 | J32: 176 | K32: 44 | L32: 40 | M32: 420 | N32: 582 | O32: 217 | P32: 141 | Q32: 347 | R32: 118 | S32: 412 | T32: 381 | U32: 193 | V32: 527 | W32: 126 | X32: 391 | Y32: 220 | Z32: 465 | AA32: 413 | AB32: 362 | AC32: 367 | AD32: 366 | AE32: 260 | AF32: 273 | AG32: 438 | AH32: 370 | AI32: 382 | AJ32: 399 | AK32: 332 | AL32: 226 | AM32: 485 | AN32: 492 | AO32: 209 | AP32: 341 | AQ32: 315 | AR32: 537 | AS32: 573 | AT32: 589
A33: 25세 | B33: =SUM(C33:E33) -> 13943 | C33: =SUM(F33:R33) -> 3500 | D33: =SUM(S33:AG33) -> 5945 | E33: =SUM(AH33:AR33) -> 4498 | F33: 475 | G33: 411 | H33: 203 | I33: 130 | J33: 227 | K33: 47 | L33: 58 | M33: 442 | N33: 583 | O33: 201 | P33: 155 | Q33: 402 | R33: 166 | S33: 427 | T33: 431 | U33: 242 | V33: 665 | W33: 202 | X33: 444 | Y33: 253 | Z33: 510 | AA33: 472 | AB33: 406 | AC33: 421 | AD33: 382 | AE33: 280 | AF33: 329 | AG33: 481 | AH33: 447 | AI33: 457 | AJ33: 423 | AK33: 409 | AL33: 236 | AM33: 466 | AN33: 544 | AO33: 224 | AP33: 322 | AQ33: 368 | AR33: 602 | AS33: 591 | AT33: 569
A34: 26세 | B34: =SUM(C34:E34) -> 13469 | C34: =SUM(F34:R34) -> 3559 | D34: =SUM(S34:AG34) -> 5660 | E34: =SUM(AH34:AR34) -> 4250 | F34: 466 | G34: 391 | H34: 184 | I34: 140 | J34: 223 | K34: 54 | L34: 57 | M34: 477 | N34: 550 | O34: 258 | P34: 184 | Q34: 411 | R34: 164 | S34: 458 | T34: 445 | U34: 221 | V34: 660 | W34: 202 | X34: 410 | Y34: 264 | Z34: 428 | AA34: 439 | AB34: 481 | AC34: 326 | AD34: 356 | AE34: 269 | AF34: 295 | AG34: 406 | AH34: 432 | AI34: 446 | AJ34: 420 | AK34: 343 | AL34: 235 | AM34: 383 | AN34: 569 | AO34: 211 | AP34: 333 | AQ34: 380 | AR34: 498 | AS34: 527 | AT34: 563
A35: 27세 | B35: =SUM(C35:E35) -> 13251 | C35: =SUM(F35:R35) -> 3451 | D35: =SUM(S35:AG35) -> 5527 | E35: =SUM(AH35:AR35) -> 4273 | F35: 421 | G35: 391 | H35: 185 | I35: 169 | J35: 239 | K35: 60 | L35: 60 | M35: 425 | N35: 549 | O35: 262 | P35: 156 | Q35: 402 | R35: 132 | S35: 494 | T35: 416 | U35: 253 | V35: 684 | W35: 203 | X35: 389 | Y35: 260 | Z35: 370 | AA35: 417 | AB35: 422 | AC35: 308 | AD35: 334 | AE35: 279 | AF35: 311 | AG35: 387 | AH35: 483 | AI35: 448 | AJ35: 354 | AK35: 365 | AL35: 243 | AM35: 358 | AN35: 555 | AO35: 179 | AP35: 338 | AQ35: 416 | AR35: 534 | AS35: 526 | AT35: 518
A36: 28세 | B36: =SUM(C36:E36) -> 13879 | C36: =SUM(F36:R36) -> 3665 | D36: =SUM(S36:AG36) -> 5751 | E36: =SUM(AH36:AR36) -> 4463 | F36: 466 | G36: 400 | H36: 225 | I36: 179 | J36: 259 | K36: 64 | L36: 60 | M36: 401 | N36: 530 | O36: 299 | P36: 170 | Q36: 435 | R36: 177 | S36: 538 | T36: 453 | U36: 269 | V36: 735 | W36: 209 | X36: 395 | Y36: 271 | Z36: 378 | AA36: 423 | AB36: 442 | AC36: 335 | AD36: 342 | AE36: 285 | AF36: 308 | AG36: 368 | AH36: 542 | AI36: 503 | AJ36: 416 | AK36: 326 | AL36: 259 | AM36: 313 | AN36: 598 | AO36: 179 | AP36: 344 | AQ36: 476 | AR36: 507 | AS36: 505 | AT36: 494
A37: 29세 | B37: =SUM(C37:E37) -> 13407 | C37: =SUM(F37:R37) -> 3558 | D37: =SUM(S37:AG37) -> 5551 | E37: =SUM(AH37:AR37) -> 4298 | F37: 419 | G37: 376 | H37: 180 | I37: 200 | J37: 300 | K37: 74 | L37: 55 | M37: 441 | N37: 490 | O37: 251 | P37: 176 | Q37: 427 | R37: 169 | S37: 584 | T37: 462 | U37: 247 | V37: 733 | W37: 224 | X37: 340 | Y37: 301 | Z37: 350 | AA37: 378 | AB37: 437 | AC37: 274 | AD37: 296 | AE37: 275 | AF37: 283 | AG37: 367 | AH37: 538 | AI37: 498 | AJ37: 391 | AK37: 357 | AL37: 279 | AM37: 299 | AN37: 587 | AO37: 194 | AP37: 311 | AQ37: 384 | AR37: 460 | AS37: 467 | AT37: 467
A38: 30대 | B38: =SUM(C38:E38) -> 138288 | C38: =SUM(C39:C48) -> 37745 | D38: =SUM(D39:D48) -> 52512 | E38: =SUM(E39:E48) -> 48031 | F38: =SUM(F39:F48) -> 3268 | G38: =SUM(G39:G48) -> 4763 | H38: =SUM(H39:H48) -> 1887 | I38: =SUM(I39:I48) -> 2808 | J38: =SUM(J39:J48) -> 2942 | ... BM38: =SUM(BM39:BM48) -> 0
A39: 30세 | B39: =SUM(C39:E39) -> 13874 | C39: =SUM(F39:R39) -> 3772 | D39: =SUM(S39:AG39) -> 5586 | E39: =SUM(AH39:AR39) -> 4516 | F39: 432 | G39: 443 | H39: 199 | I39: 208 | J39: 274 | K39: 45 | L39: 64 | M39: 394 | N39: 560 | O39: 259 | P39: 212 | Q39: 514 | R39: 168 | S39: 580 | T39: 470 | U39: 289 | V39: 710 | W39: 226 | X39: 371 | Y39: 290 | Z39: 382 | AA39: 392 | AB39: 453 | AC39: 250 | AD39: 226 | AE39: 298 | AF39: 299 | AG39: 350 | AH39: 595 | AI39: 536 | AJ39: 385 | AK39: 314 | AL39: 328 | AM39: 305 | AN39: 568 | AO39: 215 | AP39: 351 | AQ39: 441 | AR39: 478 | AS39: 470 | AT39: 449
A40: 31세 | B40: =SUM(C40:E40) -> 14012 | C40: =SUM(F40:R40) -> 3814 | D40: =SUM(S40:AG40) -> 5634 | E40: =SUM(AH40:AR40) -> 4564 | F40: 395 | G40: 415 | H40: 201 | I40: 242 | J40: 316 | K40: 71 | L40: 62 | M40: 417 | N40: 595 | O40: 274 | P40: 194 | Q40: 474 | R40: 158 | S40: 638 | T40: 437 | U40: 332 | V40: 719 | W40: 256 | X40: 340 | Y40: 261 | Z40: 352 | AA40: 409 | AB40: 497 | AC40: 264 | AD40: 208 | AE40: 308 | AF40: 262 | AG40: 351 | AH40: 617 | AI40: 550 | AJ40: 379 | AK40: 361 | AL40: 324 | AM40: 338 | AN40: 669 | AO40: 182 | AP40: 328 | AQ40: 422 | AR40: 394 | AS40: 430 | AT40: 485
A41: 32세 | B41: =SUM(C41:E41) -> 13988 | C41: =SUM(F41:R41) -> 3896 | D41: =SUM(S41:AG41) -> 5452 | E41: =SUM(AH41:AR41) -> 4640 | F41: 366 | G41: 495 | H41: 185 | I41: 250 | J41: 314 | K41: 70 | L41: 66 | M41: 421 | N41: 579 | O41: 261 | P41: 203 | Q41: 551 | R41: 135 | S41: 647 | T41: 462 | U41: 322 | V41: 698 | W41: 218 | X41: 333 | Y41: 250 | Z41: 352 | AA41: 383 | AB41: 429 | AC41: 258 | AD41: 201 | AE41: 297 | AF41: 269 | AG41: 333 | AH41: 649 | AI41: 619 | AJ41: 381 | AK41: 291 | AL41: 326 | AM41: 305 | AN41: 618 | AO41: 200 | AP41: 387 | AQ41: 433 | AR41: 431 | AS41: 476 | AT41: 387
A42: 33세 | B42: =SUM(C42:E42) -> 14557 | C42: =SUM(F42:R42) -> 4060 | D42: =SUM(S42:AG42) -> 5482 | E42: =SUM(AH42:AR42) -> 5015 | F42: 373 | G42: 506 | H42: 189 | I42: 311 | J42: 341 | K42: 57 | L42: 63 | M42: 424 | N42: 570 | O42: 283 | P42: 230 | Q42: 583 | R42: 130 | S42: 672 | T42: 452 | U42: 311 | V42: 705 | W42: 207 | X42: 327 | Y42: 282 | Z42: 314 | AA42: 366 | AB42: 463 | AC42: 237 | AD42: 205 | AE42: 331 | AF42: 261 | AG42: 349 | AH42: 713 | AI42: 684 | AJ42: 403 | AK42: 354 | AL42: 371 | AM42: 362 | AN42: 701 | AO42: 235 | AP42: 338 | AQ42: 414 | AR42: 440 | AS42: 419 | AT42: 415
A43: 34세 | B43: =SUM(C43:E43) -> 14388 | C43: =SUM(F43:R43) -> 4017 | D43: =SUM(S43:AG43) -> 5319 | E43: =SUM(AH43:AR43) -> 5052 | F43: 340 | G43: 510 | H43: 214 | I43: 297 | J43: 322 | K43: 54 | L43: 66 | M43: 406 | N43: 527 | O43: 239 | P43: 218 | Q43: 678 | R43: 146 | S43: 583 | T43: 471 | U43: 367 | V43: 673 | W43: 210 | X43: 295 | Y43: 259 | Z43: 355 | AA43: 326 | AB43: 436 | AC43: 252 | AD43: 185 | AE43: 322 | AF43: 246 | AG43: 339 | AH43: 627 | AI43: 669 | AJ43: 483 | AK43: 353 | AL43: 372 | AM43: 346 | AN43: 709 | AO43: 212 | AP43: 404 | AQ43: 383 | AR43: 494 | AS43: 436 | AT43: 471
A44: 35세 | B44: =SUM(C44:E44) -> 13580 | C44: =SUM(F44:R44) -> 3792 | D44: =SUM(S44:AG44) -> 5137 | E44: =SUM(AH44:AR44) -> 4651 | F44: 276 | G44: 535 | H44: 179 | I44: 290 | J44: 283 | K44: 47 | L44: 68 | M44: 353 | N44: 563 | O44: 206 | P44: 202 | Q44: 667 | R44: 123 | S44: 606 | T44: 436 | U44: 332 | V44: 609 | W44: 185 | X44: 300 | Y44: 259 | Z44: 344 | AA44: 328 | AB44: 403 | AC44: 258 | AD44: 164 | AE44: 319 | AF44: 239 | AG44: 355 | AH44: 564 | AI44: 582 | AJ44: 436 | AK44: 317 | AL44: 325 | AM44: 310 | AN44: 640 | AO44: 241 | AP44: 366 | AQ44: 411 | AR44: 459 | AS44: 517 | AT44: 489
A45: 36세 | B45: =SUM(C45:E45) -> 13280 | C45: =SUM(F45:R45) -> 3639 | D45: =SUM(S45:AG45) -> 4900 | E45: =SUM(AH45:AR45) -> 4741 | F45: 281 | G45: 465 | H45: 190 | I45: 276 | J45: 275 | K45: 46 | L45: 54 | M45: 339 | N45: 517 | O45: 217 | P45: 195 | Q45: 674 | R45: 110 | S45: 527 | T45: 492 | U45: 324 | V45: 550 | W45: 160 | X45: 297 | Y45: 208 | Z45: 331 | AA45: 341 | AB45: 384 | AC45: 245 | AD45: 155 | AE45: 324 | AF45: 222 | AG45: 340 | AH45: 561 | AI45: 676 | AJ45: 409 | AK45: 358 | AL45: 272 | AM45: 306 | AN45: 686 | AO45: 221 | AP45: 395 | AQ45: 381 | AR45: 476 | AS45: 519 | AT45: 575
A46: 37세 | B46: =SUM(C46:E46) -> 13755 | C46: =SUM(F46:R46) -> 3682 | D46: =SUM(S46:AG46) -> 5052 | E46: =SUM(AH46:AR46) -> 5021 | F46: 260 | G46: 498 | H46: 193 | I46: 300 | J46: 262 | K46: 53 | L46: 51 | M46: 318 | N46: 585 | O46: 203 | P46: 181 | Q46: 656 | R46: 122 | S46: 529 | T46: 441 | U46: 381 | V46: 603 | W46: 188 | X46: 279 | Y46: 217 | Z46: 328 | AA46: 333 | AB46: 410 | AC46: 262 | AD46: 167 | AE46: 329 | AF46: 201 | AG46: 384 | AH46: 523 | AI46: 643 | AJ46: 512 | AK46: 352 | AL46: 293 | AM46: 287 | AN46: 767 | AO46: 246 | AP46: 442 | AQ46: 387 | AR46: 569 | AS46: 575 | AT46: 607
A47: 38세 | B47: =SUM(C47:E47) -> 13085 | C47: =SUM(F47:R47) -> 3494 | D47: =SUM(S47:AG47) -> 4935 | E47: =SUM(AH47:AR47) -> 4656 | F47: 273 | G47: 461 | H47: 164 | I47: 308 | J47: 278 | K47: 50 | L47: 69 | M47: 319 | N47: 478 | O47: 198 | P47: 180 | Q47: 619 | R47: 97 | S47: 506 | T47: 448 | U47: 319 | V47: 603 | W47: 136 | X47: 265 | Y47: 234 | Z47: 354 | AA47: 330 | AB47: 371 | AC47: 251 | AD47: 198 | AE47: 351 | AF47: 195 | AG47: 374 | AH47: 406 | AI47: 639 | AJ47: 447 | AK47: 310 | AL47: 251 | AM47: 300 | AN47: 747 | AO47: 256 | AP47: 385 | AQ47: 364 | AR47: 551 | AS47: 646 | AT47: 681
A48: 39세 | B48: =SUM(C48:E48) -> 13769 | C48: =SUM(F48:R48) -> 3579 | D48: =SUM(S48:AG48) -> 5015 | E48: =SUM(AH48:AR48) -> 5175 | F48: 272 | G48: 435 | H48: 173 | I48: 326 | J48: 277 | K48: 56 | L48: 49 | M48: 326 | N48: 540 | O48: 164 | P48: 184 | Q48: 672 | R48: 105 | S48: 465 | T48: 457 | U48: 317 | V48: 538 | W48: 152 | X48: 342 | Y48: 212 | Z48: 344 | AA48: 341 | AB48: 356 | AC48: 312 | AD48: 216 | AE48: 365 | AF48: 187 | AG48: 411 | AH48: 450 | AI48: 695 | AJ48: 537 | AK48: 347 | AL48: 226 | AM48: 342 | AN48: 803 | AO48: 249 | AP48: 455 | AQ48: 379 | AR48: 692 | AS48: 761 | AT48: 841
A49: 40대 | B49: =SUM(C49:E49) -> 178846 | C49: =SUM(C50:C59) -> 44200 | D49: =SUM(D50:D59) -> 69771 | E49: =SUM(E50:E59) -> 64875 | F49: =SUM(F50:F59) -> 4469 | G49: =SUM(G50:G59) -> 5458 | H49: =SUM(H50:H59) -> 2570 | I49: =SUM(I50:I59) -> 4744 | J49: =SUM(J50:J59) -> 3198 | ... BM49: =SUM(BM50:BM59) -> 0
A50: 40세 | B50: =SUM(C50:E50) -> 14278 | C50: =SUM(F50:R50) -> 3735 | D50: =SUM(S50:AG50) -> 5295 | E50: =SUM(AH50:AR50) -> 5248 | F50: 304 | G50: 494 | H50: 190 | I50: 376 | J50: 264 | K50: 44 | L50: 43 | M50: 331 | N50: 524 | O50: 149 | P50: 181 | Q50: 713 | R50: 122 | S50: 447 | T50: 487 | U50: 331 | V50: 540 | W50: 123 | X50: 362 | Y50: 218 | Z50: 371 | AA50: 402 | AB50: 375 | AC50: 296 | AD50: 240 | AE50: 403 | AF50: 237 | AG50: 463 | AH50: 421 | AI50: 705 | AJ50: 530 | AK50: 347 | AL50: 249 | AM50: 322 | AN50: 816 | AO50: 322 | AP50: 481 | AQ50: 391 | AR50: 664 | AS50: 839
A51: 41세 | B51: =SUM(C51:E51) -> 14679 | C51: =SUM(F51:R51) -> 3814 | D51: =SUM(S51:AG51) -> 5439 | E51: =SUM(AH51:AR51) -> 5426 | F51: 318 | G51: 484 | H51: 210 | I51: 405 | J51: 253 | K51: 52 | L51: 59 | M51: 294 | N51: 544 | O51: 179 | P51: 178 | Q51: 715 | R51: 123 | S51: 470 | T51: 514 | U51: 336 | V51: 612 | W51: 155 | X51: 345 | Y51: 215 | Z51: 356 | AA51: 391 | AB51: 343 | AC51: 367 | AD51: 270 | AE51: 375 | AF51: 224 | AG51: 466 | AH51: 451 | AI51: 707 | AJ51: 581 | AK51: 354 | AL51: 216 | AM51: 317 | AN51: 849 | AO51: 282 | AP51: 468 | AQ51: 418 | AR51: 783 | AS51: 1000
A52: 42세 | B52: =SUM(C52:E52) -> 16530 | C52: =SUM(F52:R52) -> 4202 | D52: =SUM(S52:AG52) -> 6156 | E52: =SUM(AH52:AR52) -> 6172 | F52: 391 | G52: 523 | H52: 235 | I52: 466 | J52: 309 | K52: 62 | L52: 76 | M52: 349 | N52: 593 | O52: 180 | P52: 179 | Q52: 736 | R52: 103 | S52: 491 | T52: 550 | U52: 360 | V52: 591 | W52: 153 | X52: 434 | Y52: 244 | Z52: 362 | AA52: 469 | AB52: 425 | AC52: 414 | AD52: 305 | AE52: 472 | AF52: 283 | AG52: 603 | AH52: 472 | AI52: 815 | AJ52: 652 | AK52: 358 | AL52: 222 | AM52: 369 | AN52: 999 | AO52: 368 | AP52: 558 | AQ52: 458 | AR52: 901 | AS52: 1076
A53: 43세 | B53: =SUM(C53:E53) -> 18416 | C53: =SUM(F53:R53) -> 4758 | D53: =SUM(S53:AG53) -> 7067 | E53: =SUM(AH53:AR53) -> 6591 | F53: 398 | G53: 589 | H53: 270 | I53: 580 | J53: 345 | K53: 81 | L53: 74 | M53: 351 | N53: 640 | O53: 212 | P53: 220 | Q53: 845 | R53: 153 | S53: 572 | T53: 620 | U53: 350 | V53: 751 | W53: 159 | X53: 486 | Y53: 298 | Z53: 456 | AA53: 526 | AB53: 496 | AC53: 535 | AD53: 384 | AE53: 533 | AF53: 296 | AG53: 605 | AH53: 483 | AI53: 858 | AJ53: 691 | AK53: 448 | AL53: 234 | AM53: 402 | AN53: 1006 | AO53: 383 | AP53: 608 | AQ53: 491 | AR53: 987 | AS53: 1061
A54: 44세 | B54: =SUM(C54:E54) -> 19805 | C54: =SUM(F54:R54) -> 4965 | D54: =SUM(S54:AG54) -> 7617 | E54: =SUM(AH54:AR54) -> 7223 | F54: 524 | G54: 671 | H54: 273 | I54: 552 | J54: 328 | K54: 93 | L54: 79 | M54: 403 | N54: 662 | O54: 207 | P54: 221 | Q54: 794 | R54: 158 | S54: 533 | T54: 660 | U54: 350 | V54: 742 | W54: 163 | X54: 589 | Y54: 359 | Z54: 506 | AA54: 564 | AB54: 521 | AC54: 596 | AD54: 457 | AE54: 606 | AF54: 315 | AG54: 656 | AH54: 461 | AI54: 969 | AJ54: 782 | AK54: 450 | AL54: 263 | AM54: 419 | AN54: 1065 | AO54: 433 | AP54: 693 | AQ54: 565 | AR54: 1123 | AS54: 1141
A55: 45세 | B55: =SUM(C55:E55) -> 19916 | C55: =SUM(F55:R55) -> 4818 | D55: =SUM(S55:AG55) -> 7912 | E55: =SUM(AH55:AR55) -> 7186 | F55: 466 | G55: 581 | H55: 266 | I55: 559 | J55: 337 | K55: 93 | L55: 74 | M55: 373 | N55: 672 | O55: 222 | P55: 215 | Q55: 791 | R55: 169 | S55: 577 | T55: 632 | U55: 340 | V55: 739 | W55: 189 | X55: 567 | Y55: 350 | Z55: 466 | AA55: 666 | AB55: 571 | AC55: 658 | AD55: 537 | AE55: 580 | AF55: 328 | AG55: 712 | AH55: 481 | AI55: 945 | AJ55: 778 | AK55: 528 | AL55: 243 | AM55: 483 | AN55: 1008 | AO55: 387 | AP55: 675 | AQ55: 553 | AR55: 1105 | AS55: 987
A56: 46세 | B56: =SUM(C56:E56) -> 20316 | C56: =SUM(F56:R56) -> 4867 | D56: =SUM(S56:AG56) -> 8189 | E56: =SUM(AH56:AR56) -> 7260 | F56: 521 | G56: 583 | H56: 302 | I56: 522 | J56: 385 | K56: 95 | L56: 80 | M56: 400 | N56: 620 | O56: 207 | P56: 197 | Q56: 780 | R56: 175 | S56: 587 | T56: 707 | U56: 316 | V56: 701 | W56: 184 | X56: 604 | Y56: 373 | Z56: 491 | AA56: 672 | AB56: 540 | AC56: 725 | AD56: 548 | AE56: 587 | AF56: 363 | AG56: 791 | AH56: 523 | AI56: 947 | AJ56: 797 | AK56: 509 | AL56: 270 | AM56: 446 | AN56: 1061 | AO56: 399 | AP56: 639 | AQ56: 533 | AR56: 1136 | AS56: 1063
A57: 47세 | B57: =SUM(C57:E57) -> 18251 | C57: =SUM(F57:R57) -> 4361 | D57: =SUM(S57:AG57) -> 7215 | E57: =SUM(AH57:AR57) -> 6675 | F57: 488 | G57: 516 | H57: 276 | I57: 454 | J57: 311 | K57: 88 | L57: 85 | M57: 357 | N57: 563 | O57: 225 | P57: 200 | Q57: 648 | R57: 150 | S57: 514 | T57: 575 | U57: 282 | V57: 629 | W57: 172 | X57: 553 | Y57: 323 | Z57: 414 | AA57: 638 | AB57: 476 | AC57: 653 | AD57: 530 | AE57: 509 | AF57: 288 | AG57: 659 | AH57: 466 | AI57: 845 | AJ57: 774 | AK57: 449 | AL57: 242 | AM57: 456 | AN57: 923 | AO57: 354 | AP57: 617 | AQ57: 475 | AR57: 1074 | AS57: 1063
A58: 48세 | B58: =SUM(C58:E58) -> 18267 | C58: =SUM(F58:R58) -> 4345 | D58: =SUM(S58:AG58) -> 7459 | E58: =SUM(AH58:AR58) -> 6463 | F58: 551 | G58: 521 | H58: 278 | I58: 420 | J58: 326 | K58: 80 | L58: 89 | M58: 384 | N58: 510 | O58: 228 | P58: 192 | Q58: 619 | R58: 147 | S58: 553 | T58: 576 | U58: 260 | V58: 645 | W58: 181 | X58: 553 | Y58: 311 | Z58: 435 | AA58: 633 | AB58: 502 | AC58: 705 | AD58: 575 | AE58: 549 | AF58: 323 | AG58: 658 | AH58: 483 | AI58: 759 | AJ58: 735 | AK58: 475 | AL58: 251 | AM58: 470 | AN58: 908 | AO58: 344 | AP58: 542 | AQ58: 473 | AR58: 1023 | AS58: 1045
A59: 49세 | B59: =SUM(C59:E59) -> 18388 | C59: =SUM(F59:R59) -> 4335 | D59: =SUM(S59:AG59) -> 7422 | E59: =SUM(AH59:AR59) -> 6631 | F59: 508 | G59: 496 | H59: 270 | I59: 410 | J59: 340 | K59: 91 | L59: 95 | M59: 372 | N59: 526 | O59: 215 | P59: 211 | Q59: 617 | R59: 184 | S59: 545 | T59: 594 | U59: 259 | V59: 600 | W59: 190 | X59: 571 | Y59: 356 | Z59: 421 | AA59: 674 | AB59: 466 | AC59: 667 | AD59: 565 | AE59: 509 | AF59: 332 | AG59: 673 | AH59: 482 | AI59: 792 | AJ59: 832 | AK59: 517 | AL59: 250 | AM59: 436 | AN59: 906 | AO59: 348 | AP59: 590 | AQ59: 439 | AR59: 1039 | AS59: 1066
A60: 50대 | B60: =SUM(C60:E60) -> 192990 | C60: =SUM(C61:C70) -> 49795 | D60: =SUM(D61:D70) -> 80271 | E60: =SUM(E61:E70) -> 62924 | F60: =SUM(F61:F70) -> 6209 | G60: =SUM(G61:G70) -> 6101 | H60: =SUM(H61:H70) -> 3556 | I60: =SUM(I61:I70) -> 3254 | J60: =SUM(J61:J70) -> 3824 | ... BM60: =SUM(BM61:BM70) -> 0
A61: 50세 | B61: =SUM(C61:E61) -> 18968 | C61: =SUM(F61:R61) -> 4531 | D61: =SUM(S61:AG61) -> 7797 | E61: =SUM(AH61:AR61) -> 6640 | F61: 540 | G61: 567 | H61: 289 | I61: 371 | J61: 317 | K61: 89 | L61: 91 | M61: 409 | N61: 562 | O61: 263 | P61: 244 | Q61: 626 | R61: 163 | S61: 584 | T61: 607 | U61: 269 | V61: 609 | W61: 215 | X61: 613 | Y61: 319 | Z61: 416 | AA61: 727 | AB61: 547 | AC61: 667 | AD61: 578 | AE61: 508 | AF61: 402 | AG61: 736 | AH61: 496 | AI61: 826 | AJ61: 841 | AK61: 529 | AL61: 259 | AM61: 424 | AN61: 843 | AO61: 320 | AP61: 592 | AQ61: 486 | AR61: 1024 | AS61: 1081 | AT61: 1139
A62: 51세 | B62: =SUM(C62:E62) -> 19758 | C62: =SUM(F62:R62) -> 4803 | D62: =SUM(S62:AG62) -> 8131 | E62: =SUM(AH62:AR62) -> 6824 | F62: 638 | G62: 568 | H62: 311 | I62: 353 | J62: 354 | K62: 97 | L62: 107 | M62: 439 | N62: 546 | O62: 281 | P62: 223 | Q62: 667 | R62: 219 | S62: 588 | T62: 593 | U62: 268 | V62: 688 | W62: 209 | X62: 689 | Y62: 377 | Z62: 383 | AA62: 783 | AB62: 527 | AC62: 764 | AD62: 632 | AE62: 528 | AF62: 381 | AG62: 721 | AH62: 555 | AI62: 800 | AJ62: 871 | AK62: 601 | AL62: 263 | AM62: 467 | AN62: 856 | AO62: 384 | AP62: 558 | AQ62: 473 | AR62: 996 | AS62: 1127 | AT62: 1121
A63: 52세 | B63: =SUM(C63:E63) -> 21114 | C63: =SUM(F63:R63) -> 5196 | D63: =SUM(S63:AG63) -> 8818 | E63: =SUM(AH63:AR63) -> 7100 | F63: 645 | G63: 612 | H63: 386 | I63: 350 | J63: 347 | K63: 136 | L63: 115 | M63: 466 | N63: 618 | O63: 334 | P63: 252 | Q63: 679 | R63: 256 | S63: 693 | T63: 657 | U63: 304 | V63: 685 | W63: 255 | X63: 677 | Y63: 440 | Z63: 402 | AA63: 893 | AB63: 659 | AC63: 764 | AD63: 614 | AE63: 576 | AF63: 452 | AG63: 747 | AH63: 563 | AI63: 760 | AJ63: 886 | AK63: 560 | AL63: 295 | AM63: 542 | AN63: 971 | AO63: 383 | AP63: 587 | AQ63: 475 | AR63: 1078 | AS63: 1144 | AT63: 1076
A64: 53세 | B64: =SUM(C64:E64) -> 20383 | C64: =SUM(F64:R64) -> 5150 | D64: =SUM(S64:AG64) -> 8630 | E64: =SUM(AH64:AR64) -> 6603 | F64: 622 | G64: 653 | H64: 370 | I64: 351 | J64: 394 | K64: 130 | L64: 114 | M64: 458 | N64: 516 | O64: 330 | P64: 264 | Q64: 708 | R64: 240 | S64: 660 | T64: 651 | U64: 323 | V64: 749 | W64: 244 | X64: 688 | Y64: 359 | Z64: 393 | AA64: 828 | AB64: 696 | AC64: 681 | AD64: 571 | AE64: 504 | AF64: 491 | AG64: 792 | AH64: 528 | AI64: 686 | AJ64: 792 | AK64: 523 | AL64: 312 | AM64: 507 | AN64: 853 | AO64: 360 | AP64: 584 | AQ64: 443 | AR64: 1015 | AS64: 1035 | AT64: 958
A65: 54세 | B65: =SUM(C65:E65) -> 20792 | C65: =SUM(F65:R65) -> 5115 | D65: =SUM(S65:AG65) -> 8728 | E65: =SUM(AH65:AR65) -> 6949 | F65: 634 | G65: 636 | H65: 351 | I65: 299 | J65: 400 | K65: 129 | L65: 133 | M65: 466 | N65: 523 | O65: 345 | P65: 266 | Q65: 683 | R65: 250 | S65: 640 | T65: 729 | U65: 309 | V65: 749 | W65: 243 | X65: 667 | Y65: 397 | Z65: 381 | AA65: 848 | AB65: 657 | AC65: 691 | AD65: 648 | AE65: 504 | AF65: 544 | AG65: 721 | AH65: 562 | AI65: 689 | AJ65: 843 | AK65: 635 | AL65: 295 | AM65: 532 | AN65: 885 | AO65: 363 | AP65: 554 | AQ65: 507 | AR65: 1084 | AS65: 922 | AT65: 855
A66: 55세 | B66: =SUM(C66:E66) -> 20824 | C66: =SUM(F66:R66) -> 5294 | D66: =SUM(S66:AG66) -> 8793 | E66: =SUM(AH66:AR66) -> 6737 | F66: 704 | G66: 602 | H66: 390 | I66: 291 | J66: 401 | K66: 144 | L66: 142 | M66: 483 | N66: 530 | O66: 359 | P66: 297 | Q66: 670 | R66: 281 | S66: 714 | T66: 751 | U66: 351 | V66: 747 | W66: 229 | X66: 709 | Y66: 398 | Z66: 352 | AA66: 803 | AB66: 690 | AC66: 671 | AD66: 653 | AE66: 449 | AF66: 538 | AG66: 738 | AH66: 543 | AI66: 663 | AJ66: 746 | AK66: 553 | AL66: 328 | AM66: 527 | AN66: 903 | AO66: 325 | AP66: 618 | AQ66: 497 | AR66: 1034 | AS66: 847 | AT66: 823
A67: 56세 | B67: =SUM(C67:E67) -> 19344 | C67: =SUM(F67:R67) -> 5037 | D67: =SUM(S67:AG67) -> 8075 | E67: =SUM(AH67:AR67) -> 6232 | F67: 579 | G67: 646 | H67: 357 | I67: 318 | J67: 397 | K67: 138 | L67: 109 | M67: 486 | N67: 525 | O67: 336 | P67: 257 | Q67: 646 | R67: 243 | S67: 611 | T67: 706 | U67: 323 | V67: 745 | W67: 262 | X67: 629 | Y67: 402 | Z67: 313 | AA67: 717 | AB67: 631 | AC67: 583 | AD67: 559 | AE67: 405 | AF67: 506 | AG67: 683 | AH67: 464 | AI67: 591 | AJ67: 764 | AK67: 539 | AL67: 319 | AM67: 482 | AN67: 822 | AO67: 328 | AP67: 566 | AQ67: 417 | AR67: 940 | AS67: 787 | AT67: 728
A68: 57세 | B68: =SUM(C68:E68) -> 19221 | C68: =SUM(F68:R68) -> 5258 | D68: =SUM(S68:AG68) -> 7931 | E68: =SUM(AH68:AR68) -> 6032 | F68: 661 | G68: 649 | H68: 377 | I68: 330 | J68: 419 | K68: 157 | L68: 160 | M68: 478 | N68: 529 | O68: 348 | P68: 241 | Q68: 638 | R68: 271 | S68: 659 | T68: 640 | U68: 340 | V68: 727 | W68: 286 | X68: 603 | Y68: 415 | Z68: 348 | AA68: 689 | AB68: 632 | AC68: 583 | AD68: 514 | AE68: 330 | AF68: 527 | AG68: 638 | AH68: 465 | AI68: 561 | AJ68: 711 | AK68: 541 | AL68: 286 | AM68: 452 | AN68: 846 | AO68: 331 | AP68: 548 | AQ68: 448 | AR68: 843 | AS68: 684 | AT68: 720
A69: 58세 | B69: =SUM(C69:E69) -> 16920 | C69: =SUM(F69:R69) -> 4773 | D69: =SUM(S69:AG69) -> 7036 | E69: =SUM(AH69:AR69) -> 5111 | F69: 624 | G69: 584 | H69: 347 | I69: 303 | J69: 402 | K69: 133 | L69: 152 | M69: 454 | N69: 422 | O69: 288 | P69: 235 | Q69: 570 | R69: 259 | S69: 586 | T69: 612 | U69: 334 | V69: 621 | W69: 202 | X69: 618 | Y69: 359 | Z69: 295 | AA69: 627 | AB69: 583 | AC69: 476 | AD69: 439 | AE69: 326 | AF69: 420 | AG69: 538 | AH69: 440 | AI69: 507 | AJ69: 592 | AK69: 432 | AL69: 242 | AM69: 375 | AN69: 664 | AO69: 270 | AP69: 445 | AQ69: 363 | AR69: 781 | AS69: 689 | AT69: 690
A70: 59세 | B70: =SUM(C70:E70) -> 15666 | C70: =SUM(F70:R70) -> 4638 | D70: =SUM(S70:AG70) -> 6332 | E70: =SUM(AH70:AR70) -> 4696 | F70: 562 | G70: 584 | H70: 378 | I70: 288 | J70: 393 | K70: 164 | L70: 168 | M70: 400 | N70: 384 | O70: 308 | P70: 252 | Q70: 517 | R70: 240 | S70: 536 | T70: 533 | U70: 297 | V70: 612 | W70: 211 | X70: 491 | Y70: 340 | Z70: 292 | AA70: 558 | AB70: 538 | AC70: 414 | AD70: 373 | AE70: 257 | AF70: 395 | AG70: 485 | AH70: 392 | AI70: 464 | AJ70: 561 | AK70: 408 | AL70: 252 | AM70: 311 | AN70: 616 | AO70: 241 | AP70: 409 | AQ70: 338 | AR70: 704 | AS70: 699 | AT70: 667
A71: 60대 | B71: =SUM(C71:E71) -> 135017 | C71: =SUM(C72:C81) -> 43075 | D71: =SUM(D72:D81) -> 52590 | E71: =SUM(E72:E81) -> 39352 | F71: =SUM(F72:F81) -> 4844 | G71: =SUM(G72:G81) -> 5226 | H71: =SUM(H72:H81) -> 3722 | I71: =SUM(I72:I81) -> 3237 | J71: =SUM(J72:J81) -> 3791 | ... BM71: =SUM(BM72:BM81) -> 0
A72: 60세 | B72: =SUM(C72:E72) -> 15523 | C72: =SUM(F72:R72) -> 4782 | D72: =SUM(S72:AG72) -> 6169 | E72: =SUM(AH72:AR72) -> 4572 | F72: 547 | G72: 567 | H72: 427 | I72: 340 | J72: 409 | K72: 190 | L72: 184 | M72: 460 | N72: 417 | O72: 290 | P72: 241 | Q72: 454 | R72: 256 | S72: 580 | T72: 560 | U72: 259 | V72: 561 | W72: 202 | X72: 430 | Y72: 337 | Z72: 297 | AA72: 523 | AB72: 539 | AC72: 353 | AD72: 353 | AE72: 282 | AF72: 389 | AG72: 504 | AH72: 392 | AI72: 404 | AJ72: 544 | AK72: 426 | AL72: 233 | AM72: 344 | AN72: 632 | AO72: 218 | AP72: 412 | AQ72: 304 | AR72: 663 | AS72: 649 | AT72: 614
A73: 61세 | B73: =SUM(C73:E73) -> 15292 | C73: =SUM(F73:R73) -> 4714 | D73: =SUM(S73:AG73) -> 6012 | E73: =SUM(AH73:AR73) -> 4566 | F73: 538 | G73: 529 | H73: 383 | I73: 340 | J73: 438 | K73: 190 | L73: 163 | M73: 440 | N73: 408 | O73: 299 | P73: 228 | Q73: 482 | R73: 276 | S73: 530 | T73: 494 | U73: 307 | V73: 530 | W73: 210 | X73: 496 | Y73: 334 | Z73: 299 | AA73: 538 | AB73: 502 | AC73: 376 | AD73: 291 | AE73: 289 | AF73: 387 | AG73: 429 | AH73: 395 | AI73: 420 | AJ73: 505 | AK73: 436 | AL73: 296 | AM73: 347 | AN73: 626 | AO73: 217 | AP73: 347 | AQ73: 330 | AR73: 647 | AS73: 627 | AT73: 669
A74: 62세 | B74: =SUM(C74:E74) -> 13507 | C74: =SUM(F74:R74) -> 4055 | D74: =SUM(S74:AG74) -> 5391 | E74: =SUM(AH74:AR74) -> 4061 | F74: 444 | G74: 531 | H74: 376 | I74: 271 | J74: 342 | K74: 167 | L74: 138 | M74: 369 | N74: 361 | O74: 234 | P74: 212 | Q74: 382 | R74: 228 | S74: 476 | T74: 527 | U74: 242 | V74: 479 | W74: 156 | X74: 414 | Y74: 325 | Z74: 256 | AA74: 495 | AB74: 479 | AC74: 300 | AD74: 272 | AE74: 219 | AF74: 372 | AG74: 379 | AH74: 374 | AI74: 318 | AJ74: 476 | AK74: 352 | AL74: 246 | AM74: 292 | AN74: 552 | AO74: 202 | AP74: 334 | AQ74: 289 | AR74: 626 | AS74: 643 | AT74: 668
A75: 63세 | B75: =SUM(C75:E75) -> 14940 | C75: =SUM(F75:R75) -> 4805 | D75: =SUM(S75:AG75) -> 5810 | E75: =SUM(AH75:AR75) -> 4325 | F75: 567 | G75: 574 | H75: 413 | I75: 329 | J75: 432 | K75: 209 | L75: 220 | M75: 437 | N75: 451 | O75: 240 | P75: 248 | Q75: 441 | R75: 244 | S75: 534 | T75: 476 | U75: 300 | V75: 523 | W75: 187 | X75: 417 | Y75: 387 | Z75: 294 | AA75: 524 | AB75: 463 | AC75: 315 | AD75: 293 | AE75: 273 | AF75: 402 | AG75: 422 | AH75: 414 | AI75: 352 | AJ75: 464 | AK75: 432 | AL75: 251 | AM75: 334 | AN75: 603 | AO75: 206 | AP75: 372 | AQ75: 301 | AR75: 596 | AS75: 647 | AT75: 631
A76: 64세 | B76: =SUM(C76:E76) -> 13687 | C76: =SUM(F76:R76) -> 4544 | D76: =SUM(S76:AG76) -> 5267 | E76: =SUM(AH76:AR76) -> 3876 | F76: 539 | G76: 508 | H76: 390 | I76: 321 | J76: 410 | K76: 188 | L76: 220 | M76: 430 | N76: 414 | O76: 211 | P76: 248 | Q76: 398 | R76: 267 | S76: 482 | T76: 407 | U76: 238 | V76: 462 | W76: 174 | X76: 402 | Y76: 322 | Z76: 259 | AA76: 488 | AB76: 468 | AC76: 281 | AD76: 274 | AE76: 236 | AF76: 365 | AG76: 409 | AH76: 392 | AI76: 332 | AJ76: 418 | AK76: 349 | AL76: 195 | AM76: 269 | AN76: 574 | AO76: 167 | AP76: 323 | AQ76: 251 | AR76: 606 | AS76: 623 | AT76: 559
A77: 65세 | B77: =SUM(C77:E77) -> 14521 | C77: =SUM(F77:R77) -> 4838 | D77: =SUM(S77:AG77) -> 5596 | E77: =SUM(AH77:AR77) -> 4087 | F77: 540 | G77: 603 | H77: 403 | I77: 376 | J77: 405 | K77: 219 | L77: 238 | M77: 466 | N77: 390 | O77: 244 | P77: 231 | Q77: 440 | R77: 283 | S77: 546 | T77: 447 | U77: 276 | V77: 533 | W77: 175 | X77: 432 | Y77: 366 | Z77: 326 | AA77: 514 | AB77: 477 | AC77: 274 | AD77: 258 | AE77: 220 | AF77: 362 | AG77: 390 | AH77: 359 | AI77: 341 | AJ77: 460 | AK77: 382 | AL77: 228 | AM77: 312 | AN77: 567 | AO77: 193 | AP77: 325 | AQ77: 297 | AR77: 623 | AS77: 560 | AT77: 582
A78: 66세 | B78: =SUM(C78:E78) -> 13332 | C78: =SUM(F78:R78) -> 4412 | D78: =SUM(S78:AG78) -> 5077 | E78: =SUM(AH78:AR78) -> 3843 | F78: 513 | G78: 542 | H78: 386 | I78: 339 | J78: 399 | K78: 187 | L78: 229 | M78: 373 | N78: 382 | O78: 215 | P78: 199 | Q78: 413 | R78: 235 | S78: 458 | T78: 411 | U78: 268 | V78: 407 | W78: 178 | X78: 413 | Y78: 335 | Z78: 263 | AA78: 482 | AB78: 390 | AC78: 296 | AD78: 245 | AE78: 238 | AF78: 345 | AG78: 348 | AH78: 384 | AI78: 283 | AJ78: 442 | AK78: 345 | AL78: 186 | AM78: 294 | AN78: 556 | AO78: 198 | AP78: 329 | AQ78: 230 | AR78: 596 | AS78: 587 | AT78: 560
A79: 67세 | B79: =SUM(C79:E79) -> 12182 | C79: =SUM(F79:R79) -> 4003 | D79: =SUM(S79:AG79) -> 4680 | E79: =SUM(AH79:AR79) -> 3499 | F79: 398 | G79: 511 | H79: 363 | I79: 337 | J79: 327 | K79: 187 | L79: 186 | M79: 387 | N79: 366 | O79: 192 | P79: 174 | Q79: 338 | R79: 237 | S79: 415 | T79: 354 | U79: 206 | V79: 387 | W79: 140 | X79: 387 | Y79: 297 | Z79: 225 | AA79: 481 | AB79: 405 | AC79: 231 | AD79: 225 | AE79: 255 | AF79: 320 | AG79: 352 | AH79: 332 | AI79: 245 | AJ79: 396 | AK79: 335 | AL79: 197 | AM79: 252 | AN79: 540 | AO79: 170 | AP79: 256 | AQ79: 225 | AR79: 551 | AS79: 539 | AT79: 568
A80: 68세 | B80: =SUM(C80:E80) -> 11483 | C80: =SUM(F80:R80) -> 3605 | D80: =SUM(S80:AG80) -> 4512 | E80: =SUM(AH80:AR80) -> 3366 | F80: 392 | G80: 424 | H80: 317 | I80: 331 | J80: 324 | K80: 169 | L80: 175 | M80: 379 | N80: 260 | O80: 175 | P80: 176 | Q80: 285 | R80: 198 | S80: 432 | T80: 295 | U80: 189 | V80: 390 | W80: 146 | X80: 330 | Y80: 269 | Z80: 201 | AA80: 505 | AB80: 373 | AC80: 258 | AD80: 213 | AE80: 217 | AF80: 332 | AG80: 362 | AH80: 300 | AI80: 245 | AJ80: 369 | AK80: 327 | AL80: 173 | AM80: 250 | AN80: 487 | AO80: 147 | AP80: 279 | AQ80: 226 | AR80: 563 | AS80: 577 | AT80: 520
A81: 69세 | B81: =SUM(C81:E81) -> 10550 | C81: =SUM(F81:R81) -> 3317 | D81: =SUM(S81:AG81) -> 4076 | E81: =SUM(AH81:AR81) -> 3157 | F81: 366 | G81: 437 | H81: 264 | I81: 253 | J81: 305 | K81: 162 | L81: 157 | M81: 297 | N81: 281 | O81: 172 | P81: 155 | Q81: 272 | R81: 196 | S81: 346 | T81: 289 | U81: 173 | V81: 311 | W81: 129 | X81: 366 | Y81: 251 | Z81: 167 | AA81: 470 | AB81: 345 | AC81: 220 | AD81: 218 | AE81: 217 | AF81: 280 | AG81: 294 | AH81: 293 | AI81: 193 | AJ81: 340 | AK81: 294 | AL81: 170 | AM81: 219 | AN81: 471 | AO81: 167 | AP81: 291 | AQ81: 183 | AR81: 536 | AS81: 478 | AT81: 505
A82: 70대 | B82: =SUM(C82:E82) -> 80453 | C82: =SUM(C83:C92) -> 22429 | D82: =SUM(D83:D92) -> 31989 | E82: =SUM(E83:E92) -> 26035 | F82: =SUM(F83:F92) -> 2377 | G82: =SUM(G83:G92) -> 2722 | H82: =SUM(H83:H92) -> 1888 | I82: =SUM(I83:I92) -> 2068 | J82: =SUM(J83:J92) -> 1761 | ... BM82: =SUM(BM83:BM92) -> 0
A83: 70세 | B83: =SUM(C83:E83) -> 10386 | C83: =SUM(F83:R83) -> 3178 | D83: =SUM(S83:AG83) -> 4102 | E83: =SUM(AH83:AR83) -> 3106 | F83: 323 | G83: 413 | H83: 280 | I83: 287 | J83: 262 | K83: 157 | L83: 177 | M83: 310 | N83: 223 | O83: 148 | P83: 141 | Q83: 273 | R83: 184 | S83: 356 | T83: 283 | U83: 139 | V83: 335 | W83: 127 | X83: 308 | Y83: 261 | Z83: 184 | AA83: 451 | AB83: 385 | AC83: 236 | AD83: 193 | AE83: 227 | AF83: 301 | AG83: 316 | AH83: 297 | AI83: 199 | AJ83: 326 | AK83: 268 | AL83: 139 | AM83: 241 | AN83: 470 | AO83: 131 | AP83: 283 | AQ83: 214 | AR83: 538 | AS83: 528 | AT83: 560
A84: 71세 | B84: =SUM(C84:E84) -> 10374 | C84: =SUM(F84:R84) -> 3147 | D84: =SUM(S84:AG84) -> 4091 | E84: =SUM(AH84:AR84) -> 3136 | F84: 329 | G84: 390 | H84: 270 | I84: 253 | J84: 280 | K84: 141 | L84: 174 | M84: 304 | N84: 265 | O84: 157 | P84: 151 | Q84: 247 | R84: 186 | S84: 399 | T84: 277 | U84: 169 | V84: 281 | W84: 119 | X84: 340 | Y84: 286 | Z84: 165 | AA84: 450 | AB84: 367 | AC84: 231 | AD84: 210 | AE84: 219 | AF84: 267 | AG84: 311 | AH84: 304 | AI84: 195 | AJ84: 358 | AK84: 255 | AL84: 151 | AM84: 205 | AN84: 474 | AO84: 172 | AP84: 321 | AQ84: 195 | AR84: 506 | AS84: 550 | AT84: 416
A85: 72세 | B85: =SUM(C85:E85) -> 8480 | C85: =SUM(F85:R85) -> 2513 | D85: =SUM(S85:AG85) -> 3245 | E85: =SUM(AH85:AR85) -> 2722 | F85: 257 | G85: 298 | H85: 229 | I85: 235 | J85: 207 | K85: 139 | L85: 141 | M85: 232 | N85: 195 | O85: 111 | P85: 102 | Q85: 219 | R85: 148 | S85: 289 | T85: 209 | U85: 121 | V85: 216 | W85: 98 | X85: 238 | Y85: 222 | Z85: 112 | AA85: 380 | AB85: 332 | AC85: 184 | AD85: 172 | AE85: 195 | AF85: 222 | AG85: 255 | AH85: 263 | AI85: 183 | AJ85: 303 | AK85: 224 | AL85: 125 | AM85: 193 | AN85: 364 | AO85: 150 | AP85: 261 | AQ85: 189 | AR85: 467 | AS85: 389 | AT85: 468
A86: 73세 | B86: =SUM(C86:E86) -> 9048 | C86: =SUM(F86:R86) -> 2654 | D86: =SUM(S86:AG86) -> 3578 | E86: =SUM(AH86:AR86) -> 2816 | F86: 264 | G86: 323 | H86: 197 | I86: 253 | J86: 240 | K86: 155 | L86: 159 | M86: 236 | N86: 232 | O86: 138 | P86: 113 | Q86: 198 | R86: 146 | S86: 279 | T86: 211 | U86: 115 | V86: 273 | W86: 102 | X86: 301 | Y86: 218 | Z86: 139 | AA86: 467 | AB86: 351 | AC86: 219 | AD86: 188 | AE86: 200 | AF86: 234 | AG86: 281 | AH86: 240 | AI86: 198 | AJ86: 298 | AK86: 231 | AL86: 139 | AM86: 204 | AN86: 404 | AO86: 133 | AP86: 247 | AQ86: 218 | AR86: 504 | AS86: 490 | AT86: 484
A87: 74세 | B87: =SUM(C87:E87) -> 7214 | C87: =SUM(F87:R87) -> 2121 | D87: =SUM(S87:AG87) -> 2826 | E87: =SUM(AH87:AR87) -> 2267 | F87: 248 | G87: 250 | H87: 175 | I87: 206 | J87: 143 | K87: 98 | L87: 113 | M87: 198 | N87: 192 | O87: 101 | P87: 109 | Q87: 155 | R87: 133 | S87: 246 | T87: 159 | U87: 90 | V87: 209 | W87: 89 | X87: 218 | Y87: 187 | Z87: 104 | AA87: 337 | AB87: 277 | AC87: 143 | AD87: 138 | AE87: 196 | AF87: 164 | AG87: 269 | AH87: 164 | AI87: 144 | AJ87: 261 | AK87: 188 | AL87: 116 | AM87: 182 | AN87: 299 | AO87: 111 | AP87: 215 | AQ87: 143 | AR87: 444 | AS87: 476 | AT87: 508
A88: 75세 | B88: =SUM(C88:E88) -> 6588 | C88: =SUM(F88:R88) -> 1740 | D88: =SUM(S88:AG88) -> 2641 | E88: =SUM(AH88:AR88) -> 2207 | F88: 184 | G88: 205 | H88: 144 | I88: 147 | J88: 126 | K88: 93 | L88: 82 | M88: 193 | N88: 148 | O88: 68 | P88: 82 | Q88: 161 | R88: 107 | S88: 258 | T88: 154 | U88: 80 | V88: 184 | W88: 75 | X88: 222 | Y88: 146 | Z88: 101 | AA88: 325 | AB88: 266 | AC88: 145 | AD88: 118 | AE88: 152 | AF88: 169 | AG88: 246 | AH88: 191 | AI88: 155 | AJ88: 251 | AK88: 175 | AL88: 98 | AM88: 133 | AN88: 278 | AO88: 129 | AP88: 201 | AQ88: 138 | AR88: 458 | AS88: 501 | AT88: 484
A89: 76세 | B89: =SUM(C89:E89) -> 7091 | C89: =SUM(F89:R89) -> 1871 | D89: =SUM(S89:AG89) -> 2801 | E89: =SUM(AH89:AR89) -> 2419 | F89: 194 | G89: 239 | H89: 172 | I89: 175 | J89: 143 | K89: 80 | L89: 78 | M89: 178 | N89: 180 | O89: 83 | P89: 99 | Q89: 150 | R89: 100 | S89: 239 | T89: 155 | U89: 85 | V89: 207 | W89: 100 | X89: 236 | Y89: 137 | Z89: 83 | AA89: 332 | AB89: 277 | AC89: 165 | AD89: 146 | AE89: 197 | AF89: 178 | AG89: 264 | AH89: 201 | AI89: 165 | AJ89: 294 | AK89: 194 | AL89: 109 | AM89: 140 | AN89: 302 | AO89: 132 | AP89: 277 | AQ89: 131 | AR89: 474 | AS89: 478 | AT89: 467
A90: 77세 | B90: =SUM(C90:E90) -> 6929 | C90: =SUM(F90:R90) -> 1744 | D90: =SUM(S90:AG90) -> 2743 | E90: =SUM(AH90:AR90) -> 2442 | F90: 198 | G90: 198 | H90: 137 | I90: 175 | J90: 111 | K90: 92 | L90: 104 | M90: 179 | N90: 132 | O90: 84 | P90: 89 | Q90: 134 | R90: 111 | S90: 239 | T90: 131 | U90: 74 | V90: 205 | W90: 81 | X90: 236 | Y90: 147 | Z90: 93 | AA90: 338 | AB90: 286 | AC90: 179 | AD90: 152 | AE90: 189 | AF90: 150 | AG90: 243 | AH90: 201 | AI90: 182 | AJ90: 285 | AK90: 199 | AL90: 102 | AM90: 168 | AN90: 282 | AO90: 138 | AP90: 249 | AQ90: 170 | AR90: 466 | AS90: 420 | AT90: 392
A91: 78세 | B91: =SUM(C91:E91) -> 7273 | C91: =SUM(F91:R91) -> 1824 | D91: =SUM(S91:AG91) -> 2992 | E91: =SUM(AH91:AR91) -> 2457 | F91: 202 | G91: 212 | H91: 145 | I91: 176 | J91: 132 | K91: 87 | L91: 95 | M91: 182 | N91: 157 | O91: 93 | P91: 84 | Q91: 137 | R91: 122 | S91: 267 | T91: 134 | U91: 94 | V91: 210 | W91: 98 | X91: 240 | Y91: 164 | Z91: 92 | AA91: 361 | AB91: 312 | AC91: 164 | AD91: 159 | AE91: 201 | AF91: 187 | AG91: 309 | AH91: 218 | AI91: 185 | AJ91: 284 | AK91: 189 | AL91: 113 | AM91: 165 | AN91: 333 | AO91: 129 | AP91: 246 | AQ91: 149 | AR91: 446 | AS91: 389 | AT91: 330
A92: 79세 | B92: =SUM(C92:E92) -> 7070 | C92: =SUM(F92:R92) -> 1637 | D92: =SUM(S92:AG92) -> 2970 | E92: =SUM(AH92:AR92) -> 2463 | F92: 178 | G92: 194 | H92: 139 | I92: 161 | J92: 117 | K92: 80 | L92: 88 | M92: 165 | N92: 153 | O92: 83 | P92: 68 | Q92: 137 | R92: 74 | S92: 232 | T92: 154 | U92: 85 | V92: 222 | W92: 104 | X92: 231 | Y92: 159 | Z92: 94 | AA92: 368 | AB92: 280 | AC92: 190 | AD92: 170 | AE92: 237 | AF92: 166 | AG92: 278 | AH92: 234 | AI92: 155 | AJ92: 303 | AK92: 200 | AL92: 113 | AM92: 184 | AN92: 289 | AO92: 135 | AP92: 238 | AQ92: 137 | AR92: 475 | AS92: 331 | AT92: 350
A93: 80대 | B93: =SUM(C93:E93) -> 40241 | C93: =SUM(C94:C103) -> 9736 | D93: =SUM(D94:D103) -> 16765 | E93: =SUM(E94:E103) -> 13740 | F93: =SUM(F94:F103) -> 1164 | G93: =SUM(G94:G103) -> 1133 | H93: =SUM(H94:H103) -> 901 | I93: =SUM(I94:I103) -> 760 | J93: =SUM(J94:J103) -> 742 | ... BM93: =SUM(BM94:BM103) -> 0
A94: 80세 | B94: =SUM(C94:E94) -> 5255 | C94: =SUM(F94:R94) -> 1241 | D94: =SUM(S94:AG94) -> 2183 | E94: =SUM(AH94:AR94) -> 1831 | F94: 134 | G94: 137 | H94: 125 | I94: 97 | J94: 92 | K94: 63 | L94: 61 | M94: 121 | N94: 84 | O94: 61 | P94: 57 | Q94: 109 | R94: 100 | S94: 162 | T94: 94 | U94: 72 | V94: 138 | W94: 74 | X94: 159 | Y94: 119 | Z94: 84 | AA94: 284 | AB94: 231 | AC94: 130 | AD94: 124 | AE94: 171 | AF94: 131 | AG94: 210 | AH94: 150 | AI94: 105 | AJ94: 216 | AK94: 181 | AL94: 81 | AM94: 118 | AN94: 215 | AO94: 107 | AP94: 158 | AQ94: 125 | AR94: 375 | AS94: 319 | AT94: 350
A95: 81세 | B95: =SUM(C95:E95) -> 5141 | C95: =SUM(F95:R95) -> 1255 | D95: =SUM(S95:AG95) -> 2075 | E95: =SUM(AH95:AR95) -> 1811 | F95: 170 | G95: 144 | H95: 102 | I95: 101 | J95: 84 | K95: 63 | L95: 65 | M95: 131 | N95: 95 | O95: 54 | P95: 51 | Q95: 121 | R95: 74 | S95: 175 | T95: 67 | U95: 65 | V95: 143 | W95: 79 | X95: 196 | Y95: 108 | Z95: 53 | AA95: 254 | AB95: 227 | AC95: 111 | AD95: 100 | AE95: 149 | AF95: 109 | AG95: 239 | AH95: 160 | AI95: 128 | AJ95: 227 | AK95: 159 | AL95: 102 | AM95: 115 | AN95: 209 | AO95: 98 | AP95: 195 | AQ95: 104 | AR95: 314 | AS95: 360 | AT95: 274
A96: 82세 | B96: =SUM(C96:E96) -> 4843 | C96: =SUM(F96:R96) -> 1131 | D96: =SUM(S96:AG96) -> 2032 | E96: =SUM(AH96:AR96) -> 1680 | F96: 126 | G96: 150 | H96: 83 | I96: 108 | J96: 88 | K96: 62 | L96: 67 | M96: 108 | N96: 87 | O96: 46 | P96: 54 | Q96: 88 | R96: 64 | S96: 170 | T96: 96 | U96: 66 | V96: 146 | W96: 64 | X96: 197 | Y96: 110 | Z96: 61 | AA96: 250 | AB96: 213 | AC96: 123 | AD96: 90 | AE96: 147 | AF96: 108 | AG96: 191 | AH96: 149 | AI96: 136 | AJ96: 202 | AK96: 151 | AL96: 72 | AM96: 91 | AN96: 178 | AO96: 94 | AP96: 169 | AQ96: 103 | AR96: 335 | AS96: 244 | AT96: 258
A97: 83세 | B97: =SUM(C97:E97) -> 5353 | C97: =SUM(F97:R97) -> 1307 | D97: =SUM(S97:AG97) -> 2200 | E97: =SUM(AH97:AR97) -> 1846 | F97: 153 | G97: 151 | H97: 119 | I97: 95 | J97: 99 | K97: 71 | L97: 82 | M97: 120 | N97: 99 | O97: 75 | P97: 61 | Q97: 105 | R97: 77 | S97: 197 | T97: 98 | U97: 85 | V97: 128 | W97: 80 | X97: 178 | Y97: 123 | Z97: 53 | AA97: 269 | AB97: 254 | AC97: 123 | AD97: 108 | AE97: 207 | AF97: 120 | AG97: 177 | AH97: 175 | AI97: 144 | AJ97: 246 | AK97: 153 | AL97: 76 | AM97: 142 | AN97: 209 | AO97: 88 | AP97: 195 | AQ97: 102 | AR97: 316 | AS97: 238 | AT97: 208
A98: 84세 | B98: =SUM(C98:E98) -> 4911 | C98: =SUM(F98:R98) -> 1206 | D98: =SUM(S98:AG98) -> 2101 | E98: =SUM(AH98:AR98) -> 1604 | F98: 163 | G98: 126 | H98: 113 | I98: 86 | J98: 101 | K98: 66 | L98: 78 | M98: 107 | N98: 96 | O98: 51 | P98: 51 | Q98: 93 | R98: 75 | S98: 193 | T98: 81 | U98: 79 | V98: 124 | W98: 72 | X98: 151 | Y98: 101 | Z98: 56 | AA98: 254 | AB98: 236 | AC98: 130 | AD98: 82 | AE98: 184 | AF98: 135 | AG98: 223 | AH98: 151 | AI98: 135 | AJ98: 207 | AK98: 113 | AL98: 79 | AM98: 121 | AN98: 166 | AO98: 87 | AP98: 166 | AQ98: 111 | AR98: 268 | AS98: 215 | AT98: 195
A99: 85세 | B99: =SUM(C99:E99) -> 3854 | C99: =SUM(F99:R99) -> 903 | D99: =SUM(S99:AG99) -> 1617 | E99: =SUM(AH99:AR99) -> 1334 | F99: 97 | G99: 105 | H99: 103 | I99: 64 | J99: 65 | K99: 50 | L99: 64 | M99: 83 | N99: 60 | O99: 42 | P99: 42 | Q99: 78 | R99: 50 | S99: 124 | T99: 67 | U99: 68 | V99: 101 | W99: 62 | X99: 141 | Y99: 87 | Z99: 34 | AA99: 196 | AB99: 168 | AC99: 102 | AD99: 101 | AE99: 132 | AF99: 90 | AG99: 144 | AH99: 120 | AI99: 110 | AJ99: 145 | AK99: 133 | AL99: 62 | AM99: 96 | AN99: 140 | AO99: 71 | AP99: 150 | AQ99: 69 | AR99: 238 | AS99: 165 | AT99: 159
A100: 86세 | B100: =SUM(C100:E100) -> 3359 | C100: =SUM(F100:R100) -> 811 | D100: =SUM(S100:AG100) -> 1392 | E100: =SUM(AH100:AR100) -> 1156 | F100: 102 | G100: 103 | H100: 75 | I100: 55 | J100: 56 | K100: 52 | L100: 55 | M100: 77 | N100: 57 | O100: 34 | P100: 40 | Q100: 64 | R100: 41 | S100: 135 | T100: 48 | U100: 60 | V100: 85 | W100: 54 | X100: 97 | Y100: 63 | Z100: 44 | AA100: 177 | AB100: 130 | AC100: 89 | AD100: 72 | AE100: 120 | AF100: 107 | AG100: 111 | AH100: 102 | AI100: 101 | AJ100: 143 | AK100: 114 | AL100: 56 | AM100: 75 | AN100: 113 | AO100: 84 | AP100: 126 | AQ100: 56 | AR100: 186 | AS100: 155 | AT100: 131
...

Sheet 연령별 증감 비교(내국인)
A1: 연령별 인구 증감 비교(내국인)
A3: 연령별 | B3: 2026.3.31. | D3: 2026.4.30. | F3: 전월대비 증감현황 | H3: 비고
B4: 계 | C4: 구성비(%) | D4: 계 | E4: 구성비(%) | F4: 계 | G4: 증감율(%)
A5: 합 계 | B5: 1090420 | C5: 100 | D5: =D6+D7+D8+D9+D10+D11+D12+D13+D14 -> 1090269 | E5: 100 | F5: =SUM(F6:F14) -> -151 | G5: =(F5/B5)*100 -> -0.013847875
A6: 10대 미만 | B6: 71443 | C6: 6.5518791 | D6: ='읍면동 연령별 현황(내국인)'!B5 -> 71129 | E6: =D6/$D$5*100 -> 6.5239863 | F6: =D6-B6 -> -314 | G6: =(F6/B6)*100 -> -0.43951122
A7: 10대 | B7: 120418 | C7: 11.043268 | D7: ='읍면동 연령별 현황(내국인)'!B16 -> 120725 | E7: =D7/$D$5*100 -> 11.072955 | F7: =D7-B7 -> 307 | G7: =(F7/B7)*100 -> 0.25494527
A8: 20대 | B8: 126068 | C8: 11.561417 | D8: ='읍면동 연령별 현황(내국인)'!B27 -> 125680 | E8: =D8/$D$5*100 -> 11.52743 | F8: =D8-B8 -> -388 | G8: =(F8/B8)*100 -> -0.30777041
A9: 30대 | B9: 138025 | C9: 12.657967 | D9: ='읍면동 연령별 현황(내국인)'!B38 -> 138288 | E9: =D9/$D$5*100 -> 12.683842 | F9: =D9-B9 -> 263 | G9: =(F9/B9)*100 -> 0.19054519
A10: 40대 | B10: 179349 | C10: 16.447699 | D10: ='읍면동 연령별 현황(내국인)'!B49 -> 178846 | E10: =D10/$D$5*100 -> 16.403842 | F10: =D10-B10 -> -503 | G10: =(F10/B10)*100 -> -0.28045877
A11: 50대 | B11: 192995 | C11: 17.699143 | D11: ='읍면동 연령별 현황(내국인)'!B60 -> 192990 | E11: =D11/$D$5*100 -> 17.701136 | F11: =D11-B11 -> -5 | G11: =(F11/B11)*100 -> -0.0025907407
A12: 60대 | B12: 134872 | C12: 12.368812 | D12: ='읍면동 연령별 현황(내국인)'!B71 -> 135017 | E12: =D12/$D$5*100 -> 12.383825 | F12: =D12-B12 -> 145 | G12: =(F12/B12)*100 -> 0.10750934
A13: 70대 | B13: 80189 | C13: 7.3539554 | D13: ='읍면동 연령별 현황(내국인)'!B82 -> 80453 | E13: =D13/$D$5*100 -> 7.3791881 | F13: =D13-B13 -> 264 | G13: =(F13/B13)*100 -> 0.32922221
A14: 80대 이상 | B14: 47061 | C14: 4.3158599 | D14: ='읍면동 연령별 현황(내국인)'!B93+'읍면동 연령별 현황(내국인)'!B104+'읍면동 연령별 현황(내국인)'!B115 -> 47141 | E14: =D14/$D$5*100 -> 4.3237953 | F14: =D14-B14 -> 80 | G14: =(F14/B14)*100 -> 0.16999214

Sheet 읍면동연령구간현황(내국인)
A1: 내국인
F2: 2026. 4. 30.
A3: 구분 | B3: 읍면동 | C3: 합계 | D3: 0~14세 | E3: 15~64세 | F3: 65세 이상
A4: 용인시 | B4: 합계 | C4: =SUM(C5,C19,C35) -> 1090269 | D4: =SUM(D5,D19,D35) -> 130426 | E4: =SUM(E5,E19,E35) -> 770181 | F4: =SUM(F5,F19,F35) -> 189662
A5: 처인구 | B5: 처인구 | C5: =SUM(C6:C18) -> 285039 | D5: =SUM(D6:D18) -> 30390 | E5: =SUM(E6:E18) -> 200433 | F5: =SUM(F6:F18) -> 54216
B6: 포곡읍 | C6: =SUM(D6:F6) -> 30834 | D6: =SUM('읍면동 연령별 현황(내국인)'!F$5,'읍면동 연령별 현황(내국인)'!F$17,'읍면동 연령별 현황(내국인)'!F$18,'읍면동 연령별 현황(내국인)'!F$19,'읍면동 연령별 현황(내국인)'!F$20,'읍면동 연령별 현황(내국인)'!F$21) -> 2477 | E6: =SUM('읍면동 연령별 현황(내국인)'!F$22:F$27,'읍면동 연령별 현황(내국인)'!F$38,'읍면동 연령별 현황(내국인)'!F$49,'읍면동 연령별 현황(내국인)'!F$60,'읍면동 연령별 현황(내국인)'!F$72:F$76) -> 22374 | F6: =SUM('읍면동 연령별 현황(내국인)'!F$77:F$82,'읍면동 연령별 현황(내국인)'!F$93,'읍면동 연령별 현황(내국인)'!F$104,'읍면동 연령별 현황(내국인)'!F$115,'읍면동 연령별 현황(내국인)'!F$116) -> 5983
B7: 모현읍 | C7: =SUM(D7:F7) -> 34589 | D7: =SUM('읍면동 연령별 현황(내국인)'!G$5,'읍면동 연령별 현황(내국인)'!G$17,'읍면동 연령별 현황(내국인)'!G$18,'읍면동 연령별 현황(내국인)'!G$19,'읍면동 연령별 현황(내국인)'!G$20,'읍면동 연령별 현황(내국인)'!G$21) -> 3828 | E7: =SUM('읍면동 연령별 현황(내국인)'!G$22:G$27,'읍면동 연령별 현황(내국인)'!G$38,'읍면동 연령별 현황(내국인)'!G$49,'읍면동 연령별 현황(내국인)'!G$60,'읍면동 연령별 현황(내국인)'!G$72:G$76) -> 24193 | F7: =SUM('읍면동 연령별 현황(내국인)'!G$77:G$82,'읍면동 연령별 현황(내국인)'!G$93,'읍면동 연령별 현황(내국인)'!G$104,'읍면동 연령별 현황(내국인)'!G$115,'읍면동 연령별 현황(내국인)'!G$116) -> 6568
B8: 이동읍 | C8: =SUM(D8:F8) -> 18682 | D8: =SUM('읍면동 연령별 현황(내국인)'!H$5,'읍면동 연령별 현황(내국인)'!H$17,'읍면동 연령별 현황(내국인)'!H$18,'읍면동 연령별 현황(내국인)'!H$19,'읍면동 연령별 현황(내국인)'!H$20,'읍면동 연령별 현황(내국인)'!H$21) -> 1515 | E8: =SUM('읍면동 연령별 현황(내국인)'!H$22:H$27,'읍면동 연령별 현황(내국인)'!H$38,'읍면동 연령별 현황(내국인)'!H$49,'읍면동 연령별 현황(내국인)'!H$60,'읍면동 연령별 현황(내국인)'!H$72:H$76) -> 12451 | F8: =SUM('읍면동 연령별 현황(내국인)'!H$77:H$82,'읍면동 연령별 현황(내국인)'!H$93,'읍면동 연령별 현황(내국인)'!H$104,'읍면동 연령별 현황(내국인)'!H$115,'읍면동 연령별 현황(내국인)'!H$116) -> 4716
B9: 남사읍 | C9: =SUM(D9:F9) -> 23442 | D9: =SUM('읍면동 연령별 현황(내국인)'!I$5,'읍면동 연령별 현황(내국인)'!I$17,'읍면동 연령별 현황(내국인)'!I$18,'읍면동 연령별 현황(내국인)'!I$19,'읍면동 연령별 현황(내국인)'!I$20,'읍면동 연령별 현황(내국인)'!I$21) -> 3803 | E9: =SUM('읍면동 연령별 현황(내국인)'!I$22:I$27,'읍면동 연령별 현황(내국인)'!I$38,'읍면동 연령별 현황(내국인)'!I$49,'읍면동 연령별 현황(내국인)'!I$60,'읍면동 연령별 현황(내국인)'!I$72:I$76) -> 15029 | F9: =SUM('읍면동 연령별 현황(내국인)'!I$77:I$82,'읍면동 연령별 현황(내국인)'!I$93,'읍면동 연령별 현황(내국인)'!I$104,'읍면동 연령별 현황(내국인)'!I$115,'읍면동 연령별 현황(내국인)'!I$116) -> 4610
B10: 양지읍 | C10: =SUM(D10:F10) -> 21503 | D10: =SUM('읍면동 연령별 현황(내국인)'!J5,'읍면동 연령별 현황(내국인)'!J17:J21) -> 1924 | E10: =SUM('읍면동 연령별 현황(내국인)'!J22:J26,'읍면동 연령별 현황(내국인)'!J27,'읍면동 연령별 현황(내국인)'!J38,'읍면동 연령별 현황(내국인)'!J49,'읍면동 연령별 현황(내국인)'!J60,'읍면동 연령별 현황(내국인)'!J72:J76) -> 15144 | F10: =SUM('읍면동 연령별 현황(내국인)'!J77:J81,'읍면동 연령별 현황(내국인)'!J82,'읍면동 연령별 현황(내국인)'!J93,'읍면동 연령별 현황(내국인)'!J104,'읍면동 연령별 현황(내국인)'!J115) -> 4435
B11: 원삼면 | C11: =SUM(D11:F11) -> 7475 | D11: =SUM('읍면동 연령별 현황(내국인)'!K$5,'읍면동 연령별 현황(내국인)'!K$17,'읍면동 연령별 현황(내국인)'!K$18,'읍면동 연령별 현황(내국인)'!K$19,'읍면동 연령별 현황(내국인)'!K$20,'읍면동 연령별 현황(내국인)'!K$21) -> 361 | E11: =SUM('읍면동 연령별 현황(내국인)'!K$22:K$27,'읍면동 연령별 현황(내국인)'!K$38,'읍면동 연령별 현황(내국인)'!K$49,'읍면동 연령별 현황(내국인)'!K$60,'읍면동 연령별 현황(내국인)'!K$72:K$76) -> 4432 | F11: =SUM('읍면동 연령별 현황(내국인)'!K$77:K$82,'읍면동 연령별 현황(내국인)'!K$93,'읍면동 연령별 현황(내국인)'!K$104,'읍면동 연령별 현황(내국인)'!K$115,'읍면동 연령별 현황(내국인)'!K$116) -> 2682
B12: 백암면 | C12: =SUM(D12:F12) -> 7533 | D12: =SUM('읍면동 연령별 현황(내국인)'!L$5,'읍면동 연령별 현황(내국인)'!L$17,'읍면동 연령별 현황(내국인)'!L$18,'읍면동 연령별 현황(내국인)'!L$19,'읍면동 연령별 현황(내국인)'!L$20,'읍면동 연령별 현황(내국인)'!L$21) -> 273 | E12: =SUM('읍면동 연령별 현황(내국인)'!L$22:L$27,'읍면동 연령별 현황(내국인)'!L$38,'읍면동 연령별 현황(내국인)'!L$49,'읍면동 연령별 현황(내국인)'!L$60,'읍면동 연령별 현황(내국인)'!L$72:L$76) -> 4303 | F12: =SUM('읍면동 연령별 현황(내국인)'!L$77:L$82,'읍면동 연령별 현황(내국인)'!L$93,'읍면동 연령별 현황(내국인)'!L$104,'읍면동 연령별 현황(내국인)'!L$115,'읍면동 연령별 현황(내국인)'!L$116) -> 2957
B13: 중앙동 | C13: =SUM(D13:F13) -> 26716 | D13: =SUM('읍면동 연령별 현황(내국인)'!M$5,'읍면동 연령별 현황(내국인)'!M$17,'읍면동 연령별 현황(내국인)'!M$18,'읍면동 연령별 현황(내국인)'!M$19,'읍면동 연령별 현황(내국인)'!M$20,'읍면동 연령별 현황(내국인)'!M$21) -> 2295 | E13: =SUM('읍면동 연령별 현황(내국인)'!M$22:M$27,'읍면동 연령별 현황(내국인)'!M$38,'읍면동 연령별 현황(내국인)'!M$49,'읍면동 연령별 현황(내국인)'!M$60,'읍면동 연령별 현황(내국인)'!M$72:M$76) -> 19213 | F13: =SUM('읍면동 연령별 현황(내국인)'!M$77:M$82,'읍면동 연령별 현황(내국인)'!M$93,'읍면동 연령별 현황(내국인)'!M$104,'읍면동 연령별 현황(내국인)'!M$115,'읍면동 연령별 현황(내국인)'!M$116) -> 5208
B14: 역북동 | C14: =SUM(D14:F14) -> 34650 | D14: =SUM('읍면동 연령별 현황(내국인)'!N$5,'읍면동 연령별 현황(내국인)'!N$17,'읍면동 연령별 현황(내국인)'!N$18,'읍면동 연령별 현황(내국인)'!N$19,'읍면동 연령별 현황(내국인)'!N$20,'읍면동 연령별 현황(내국인)'!N$21) -> 4556 | E14: =SUM('읍면동 연령별 현황(내국인)'!N$22:N$27,'읍면동 연령별 현황(내국인)'!N$38,'읍면동 연령별 현황(내국인)'!N$49,'읍면동 연령별 현황(내국인)'!N$60,'읍면동 연령별 현황(내국인)'!N$72:N$76) -> 25718 | F14: =SUM('읍면동 연령별 현황(내국인)'!N$77:N$82,'읍면동 연령별 현황(내국인)'!N$93,'읍면동 연령별 현황(내국인)'!N$104,'읍면동 연령별 현황(내국인)'!N$115,'읍면동 연령별 현황(내국인)'!N$116) -> 4376
B15: 삼가동 | C15: =SUM(D15:F15) -> 15775 | D15: =SUM('읍면동 연령별 현황(내국인)'!O$5,'읍면동 연령별 현황(내국인)'!O$17,'읍면동 연령별 현황(내국인)'!O$18,'읍면동 연령별 현황(내국인)'!O$19,'읍면동 연령별 현황(내국인)'!O$20,'읍면동 연령별 현황(내국인)'!O$21) -> 1478 | E15: =SUM('읍면동 연령별 현황(내국인)'!O$22:O$27,'읍면동 연령별 현황(내국인)'!O$38,'읍면동 연령별 현황(내국인)'!O$49,'읍면동 연령별 현황(내국인)'!O$60,'읍면동 연령별 현황(내국인)'!O$72:O$76) -> 11716 | F15: =SUM('읍면동 연령별 현황(내국인)'!O$77:O$82,'읍면동 연령별 현황(내국인)'!O$93,'읍면동 연령별 현황(내국인)'!O$104,'읍면동 연령별 현황(내국인)'!O$115,'읍면동 연령별 현황(내국인)'!O$116) -> 2581
B16: 유림1동 | C16: =SUM(D16:F16) -> 13382 | D16: =SUM('읍면동 연령별 현황(내국인)'!P$5,'읍면동 연령별 현황(내국인)'!P$17,'읍면동 연령별 현황(내국인)'!P$18,'읍면동 연령별 현황(내국인)'!P$19,'읍면동 연령별 현황(내국인)'!P$20,'읍면동 연령별 현황(내국인)'!P$21) -> 1165 | E16: =SUM('읍면동 연령별 현황(내국인)'!P$22:P$27,'읍면동 연령별 현황(내국인)'!P$38,'읍면동 연령별 현황(내국인)'!P$49,'읍면동 연령별 현황(내국인)'!P$60,'읍면동 연령별 현황(내국인)'!P$72:P$76) -> 9726 | F16: =SUM('읍면동 연령별 현황(내국인)'!P$77:P$82,'읍면동 연령별 현황(내국인)'!P$93,'읍면동 연령별 현황(내국인)'!P$104,'읍면동 연령별 현황(내국인)'!P$115,'읍면동 연령별 현황(내국인)'!P$116) -> 2491
B17: 유림2동 | C17: =SUM(D17:F17) -> 38192 | D17: =SUM('읍면동 연령별 현황(내국인)'!Q$5,'읍면동 연령별 현황(내국인)'!Q$17,'읍면동 연령별 현황(내국인)'!Q$18,'읍면동 연령별 현황(내국인)'!Q$19,'읍면동 연령별 현황(내국인)'!Q$20,'읍면동 연령별 현황(내국인)'!Q$21) -> 5930 | E17: =SUM('읍면동 연령별 현황(내국인)'!Q$22:Q$27,'읍면동 연령별 현황(내국인)'!Q$38,'읍면동 연령별 현황(내국인)'!Q$49,'읍면동 연령별 현황(내국인)'!Q$60,'읍면동 연령별 현황(내국인)'!Q$72:Q$76) -> 27799 | F17: =SUM('읍면동 연령별 현황(내국인)'!Q$77:Q$82,'읍면동 연령별 현황(내국인)'!Q$93,'읍면동 연령별 현황(내국인)'!Q$104,'읍면동 연령별 현황(내국인)'!Q$115,'읍면동 연령별 현황(내국인)'!Q$116) -> 4463
B18: 동부동 | C18: =SUM(D18:F18) -> 12266 | D18: =SUM('읍면동 연령별 현황(내국인)'!R$5,'읍면동 연령별 현황(내국인)'!R$17,'읍면동 연령별 현황(내국인)'!R$18,'읍면동 연령별 현황(내국인)'!R$19,'읍면동 연령별 현황(내국인)'!R$20,'읍면동 연령별 현황(내국인)'!R$21) -> 785 | E18: =SUM('읍면동 연령별 현황(내국인)'!R$22:R$27,'읍면동 연령별 현황(내국인)'!R$38,'읍면동 연령별 현황(내국인)'!R$49,'읍면동 연령별 현황(내국인)'!R$60,'읍면동 연령별 현황(내국인)'!R$72:R$76) -> 8335 | F18: =SUM('읍면동 연령별 현황(내국인)'!R$77:R$82,'읍면동 연령별 현황(내국인)'!R$93,'읍면동 연령별 현황(내국인)'!R$104,'읍면동 연령별 현황(내국인)'!R$115,'읍면동 연령별 현황(내국인)'!R$116) -> 3146
A19: 기흥구 | B19: 기흥구 | C19: =SUM(C20:C34) -> 434289 | D19: =SUM(D20:D34) -> 49731 | E19: =SUM(E20:E34) -> 308949 | F19: =SUM(F20:F34) -> 75609
B20: 신갈동 | C20: =SUM(D20:F20) -> 35975 | D20: =SUM('읍면동 연령별 현황(내국인)'!S5,'읍면동 연령별 현황(내국인)'!S17:S21) -> 3558 | E20: =SUM('읍면동 연령별 현황(내국인)'!S22:S26,'읍면동 연령별 현황(내국인)'!S27,'읍면동 연령별 현황(내국인)'!S38,'읍면동 연령별 현황(내국인)'!S49,'읍면동 연령별 현황(내국인)'!S60,'읍면동 연령별 현황(내국인)'!S72:S76) -> 25758 | F20: =SUM('읍면동 연령별 현황(내국인)'!S77:S82,'읍면동 연령별 현황(내국인)'!S93,'읍면동 연령별 현황(내국인)'!S104,'읍면동 연령별 현황(내국인)'!S115) -> 6659
B21: 영덕1동 | C21: =SUM(D21:F21) -> 34172 | D21: =SUM('읍면동 연령별 현황(내국인)'!T5,'읍면동 연령별 현황(내국인)'!T17:T18,'읍면동 연령별 현황(내국인)'!T19,'읍면동 연령별 현황(내국인)'!T20,'읍면동 연령별 현황(내국인)'!T21) -> 4455 | E21: =SUM('읍면동 연령별 현황(내국인)'!T22:T27,'읍면동 연령별 현황(내국인)'!T38,'읍면동 연령별 현황(내국인)'!T49,'읍면동 연령별 현황(내국인)'!T60,'읍면동 연령별 현황(내국인)'!T72:T76) -> 25244 | F21: =SUM('읍면동 연령별 현황(내국인)'!T77:T82,'읍면동 연령별 현황(내국인)'!T93,'읍면동 연령별 현황(내국인)'!T104,'읍면동 연령별 현황(내국인)'!T115) -> 4473
B22: 영덕2동 | C22: =SUM(D22:F22) -> 19112 | D22: =SUM('읍면동 연령별 현황(내국인)'!U5,'읍면동 연령별 현황(내국인)'!U17:U21) -> 2513 | E22: =SUM('읍면동 연령별 현황(내국인)'!U22:U27,'읍면동 연령별 현황(내국인)'!U38,'읍면동 연령별 현황(내국인)'!U49,'읍면동 연령별 현황(내국인)'!U60,'읍면동 연령별 현황(내국인)'!U72:U76) -> 13566 | F22: =SUM('읍면동 연령별 현황(내국인)'!U77:U82,'읍면동 연령별 현황(내국인)'!U93,'읍면동 연령별 현황(내국인)'!U104,'읍면동 연령별 현황(내국인)'!U115) -> 3033
B23: 구갈동 | C23: =SUM(D23:F23) -> 39842 | D23: =SUM('읍면동 연령별 현황(내국인)'!V5,'읍면동 연령별 현황(내국인)'!V17:V21) -> 4339 | E23: =SUM('읍면동 연령별 현황(내국인)'!V22:V27,'읍면동 연령별 현황(내국인)'!V38,'읍면동 연령별 현황(내국인)'!V49,'읍면동 연령별 현황(내국인)'!V60,'읍면동 연령별 현황(내국인)'!V72:V73,'읍면동 연령별 현황(내국인)'!V74,'읍면동 연령별 현황(내국인)'!V75,'읍면동 연령별 현황(내국인)'!V76) -> 29927 | F23: =SUM('읍면동 연령별 현황(내국인)'!V77:V82,'읍면동 연령별 현황(내국인)'!V93,'읍면동 연령별 현황(내국인)'!V104,'읍면동 연령별 현황(내국인)'!V115) -> 5576
B24: 상갈동 | C24: =SUM(D24:F24) -> 12460 | D24: =SUM('읍면동 연령별 현황(내국인)'!W5,'읍면동 연령별 현황(내국인)'!W17:W21) -> 962 | E24: =SUM('읍면동 연령별 현황(내국인)'!W22:W27,'읍면동 연령별 현황(내국인)'!W38,'읍면동 연령별 현황(내국인)'!W49,'읍면동 연령별 현황(내국인)'!W60,'읍면동 연령별 현황(내국인)'!W72:W76) -> 9065 | F24: =SUM('읍면동 연령별 현황(내국인)'!W77:W82,'읍면동 연령별 현황(내국인)'!W93,'읍면동 연령별 현황(내국인)'!W104,'읍면동 연령별 현황(내국인)'!W115) -> 2433
B25: 보라동 | C25: =SUM(D25:F25) -> 32396 | D25: =SUM('읍면동 연령별 현황(내국인)'!X5,'읍면동 연령별 현황(내국인)'!X17:X21) -> 3533 | E25: =SUM('읍면동 연령별 현황(내국인)'!X22:X27,'읍면동 연령별 현황(내국인)'!X38,'읍면동 연령별 현황(내국인)'!X49,'읍면동 연령별 현황(내국인)'!X60,'읍면동 연령별 현황(내국인)'!X72:X76) -> 22767 | F25: =SUM('읍면동 연령별 현황(내국인)'!X77:X82,'읍면동 연령별 현황(내국인)'!X93,'읍면동 연령별 현황(내국인)'!X104,'읍면동 연령별 현황(내국인)'!X115) -> 6096
B26: 기흥동 | C26: =SUM(D26:F26) -> 20644 | D26: =SUM('읍면동 연령별 현황(내국인)'!Y5,'읍면동 연령별 현황(내국인)'!Y17:Y21) -> 1848 | E26: =SUM('읍면동 연령별 현황(내국인)'!Y22:Y27,'읍면동 연령별 현황(내국인)'!Y38,'읍면동 연령별 현황(내국인)'!Y49,'읍면동 연령별 현황(내국인)'!Y60,'읍면동 연령별 현황(내국인)'!Y72:Y76) -> 14317 | F26: =SUM('읍면동 연령별 현황(내국인)'!Y77:Y82,'읍면동 연령별 현황(내국인)'!Y93,'읍면동 연령별 현황(내국인)'!Y104,'읍면동 연령별 현황(내국인)'!Y115) -> 4479
B27: 서농동 | C27: =SUM(D27:F27) -> 24515 | D27: =SUM('읍면동 연령별 현황(내국인)'!Z5,'읍면동 연령별 현황(내국인)'!Z17:Z21) -> 3405 | E27: =SUM('읍면동 연령별 현황(내국인)'!Z22:Z27,'읍면동 연령별 현황(내국인)'!Z38,'읍면동 연령별 현황(내국인)'!Z49,'읍면동 연령별 현황(내국인)'!Z60,'읍면동 연령별 현황(내국인)'!Z72:Z76) -> 18215 | F27: =SUM('읍면동 연령별 현황(내국인)'!Z77:Z82,'읍면동 연령별 현황(내국인)'!Z93,'읍면동 연령별 현황(내국인)'!Z104,'읍면동 연령별 현황(내국인)'!Z115) -> 2895
B28: 구성동 | C28: =SUM(D28:F28) -> 38274 | D28: =SUM('읍면동 연령별 현황(내국인)'!AA5,'읍면동 연령별 현황(내국인)'!AA17:AA21) -> 3810 | E28: =SUM('읍면동 연령별 현황(내국인)'!AA22:AA27,'읍면동 연령별 현황(내국인)'!AA38,'읍면동 연령별 현황(내국인)'!AA49,'읍면동 연령별 현황(내국인)'!AA60,'읍면동 연령별 현황(내국인)'!AA72:AA76) -> 25768 | F28: =SUM('읍면동 연령별 현황(내국인)'!AA77:AA82,'읍면동 연령별 현황(내국인)'!AA93,'읍면동 연령별 현황(내국인)'!AA104,'읍면동 연령별 현황(내국인)'!AA115) -> 8696
B29: 마북동 | C29: =SUM(D29:F29) -> 33520 | D29: =SUM('읍면동 연령별 현황(내국인)'!AB5,'읍면동 연령별 현황(내국인)'!AB17:AB21) -> 3320 | E29: =SUM('읍면동 연령별 현황(내국인)'!AB22:AB27,'읍면동 연령별 현황(내국인)'!AB38,'읍면동 연령별 현황(내국인)'!AB49,'읍면동 연령별 현황(내국인)'!AB60,'읍면동 연령별 현황(내국인)'!AB72:AB76) -> 23005 | F29: =SUM('읍면동 연령별 현황(내국인)'!AB77:AB81,'읍면동 연령별 현황(내국인)'!AB82,'읍면동 연령별 현황(내국인)'!AB93,'읍면동 연령별 현황(내국인)'!AB104,'읍면동 연령별 현황(내국인)'!AB115) -> 7195
B30: 동백1동 | C30: =SUM(D30:F30) -> 30772 | D30: =SUM('읍면동 연령별 현황(내국인)'!AC5,'읍면동 연령별 현황(내국인)'!AC17:AC21) -> 4062 | E30: =SUM('읍면동 연령별 현황(내국인)'!AC22:AC27,'읍면동 연령별 현황(내국인)'!AC38,'읍면동 연령별 현황(내국인)'!AC49,'읍면동 연령별 현황(내국인)'!AC60,'읍면동 연령별 현황(내국인)'!AC72:AC76) -> 22401 | F30: =SUM('읍면동 연령별 현황(내국인)'!AC77:AC81,'읍면동 연령별 현황(내국인)'!AC82,'읍면동 연령별 현황(내국인)'!AC93,'읍면동 연령별 현황(내국인)'!AC104,'읍면동 연령별 현황(내국인)'!AC115) -> 4309
B31: 동백2동 | C31: =SUM(D31:F31) -> 25996 | D31: =SUM('읍면동 연령별 현황(내국인)'!AD5,'읍면동 연령별 현황(내국인)'!AD17:AD21) -> 3115 | E31: =SUM('읍면동 연령별 현황(내국인)'!AD22:AD27,'읍면동 연령별 현황(내국인)'!AD38,'읍면동 연령별 현황(내국인)'!AD49,'읍면동 연령별 현황(내국인)'!AD60,'읍면동 연령별 현황(내국인)'!AD72:AD76) -> 19102 | F31: =SUM('읍면동 연령별 현황(내국인)'!AD77:AD82,'읍면동 연령별 현황(내국인)'!AD93,'읍면동 연령별 현황(내국인)'!AD104,'읍면동 연령별 현황(내국인)'!AD115) -> 3779
B32: 동백3동 | C32: =SUM(D32:F32) -> 27615 | D32: =SUM('읍면동 연령별 현황(내국인)'!AE5,'읍면동 연령별 현황(내국인)'!AE17:AE21) -> 4278 | E32: =SUM('읍면동 연령별 현황(내국인)'!AE22:AE27,'읍면동 연령별 현황(내국인)'!AE38,'읍면동 연령별 현황(내국인)'!AE49,'읍면동 연령별 현황(내국인)'!AE60,'읍면동 연령별 현황(내국인)'!AE72:AE76) -> 18552 | F32: =SUM('읍면동 연령별 현황(내국인)'!AE77:AE82,'읍면동 연령별 현황(내국인)'!AE93,'읍면동 연령별 현황(내국인)'!AE104,'읍면동 연령별 현황(내국인)'!AE115) -> 4785
B33: 상하동 | C33: =SUM(D33:F33) -> 22802 | D33: =SUM('읍면동 연령별 현황(내국인)'!AF5,'읍면동 연령별 현황(내국인)'!AF17,'읍면동 연령별 현황(내국인)'!AF18,'읍면동 연령별 현황(내국인)'!AF19,'읍면동 연령별 현황(내국인)'!AF20,'읍면동 연령별 현황(내국인)'!AF21) -> 2013 | E33: =SUM('읍면동 연령별 현황(내국인)'!AF22:AF27,'읍면동 연령별 현황(내국인)'!AF38,'읍면동 연령별 현황(내국인)'!AF49,'읍면동 연령별 현황(내국인)'!AF60,'읍면동 연령별 현황(내국인)'!AF72:AF76) -> 15961 | F33: =SUM('읍면동 연령별 현황(내국인)'!AF77:AF82,'읍면동 연령별 현황(내국인)'!AF93,'읍면동 연령별 현황(내국인)'!AF104,'읍면동 연령별 현황(내국인)'!AF115) -> 4828
B34: 보정동 | C34: =SUM(D34:F34) -> 36194 | D34: =SUM('읍면동 연령별 현황(내국인)'!AG5,'읍면동 연령별 현황(내국인)'!AG17:AG21) -> 4520 | E34: =SUM('읍면동 연령별 현황(내국인)'!AG22:AG27,'읍면동 연령별 현황(내국인)'!AG38,'읍면동 연령별 현황(내국인)'!AG49,'읍면동 연령별 현황(내국인)'!AG60,'읍면동 연령별 현황(내국인)'!AG72:AG73,'읍면동 연령별 현황(내국인)'!AG74:AG76) -> 25301 | F34: =SUM('읍면동 연령별 현황(내국인)'!AG77:AG82,'읍면동 연령별 현황(내국인)'!AG93,'읍면동 연령별 현황(내국인)'!AG104,'읍면동 연령별 현황(내국인)'!AG115) -> 6373
A35: 수지구 | B35: 수지구 | C35: =SUM(C36:C46) -> 370941 | D35: =SUM(D36:D46) -> 50305 | E35: =SUM(E36:E46) -> 260799 | F35: =SUM(F36:F46) -> 59837
B36: 풍덕천1동 | C36: =SUM(D36:F36) -> 31820 | D36: =SUM('읍면동 연령별 현황(내국인)'!AH$5,'읍면동 연령별 현황(내국인)'!AH$17:AH$21) -> 3318 | E36: =SUM('읍면동 연령별 현황(내국인)'!AH$22:AH$26,'읍면동 연령별 현황(내국인)'!AH$27,'읍면동 연령별 현황(내국인)'!AH$38,'읍면동 연령별 현황(내국인)'!AH$49,'읍면동 연령별 현황(내국인)'!AH$60,'읍면동 연령별 현황(내국인)'!AH$72:AH$76) -> 23122 | F36: =SUM('읍면동 연령별 현황(내국인)'!AH$77:AH$82,'읍면동 연령별 현황(내국인)'!AH$93,'읍면동 연령별 현황(내국인)'!AH$104,'읍면동 연령별 현황(내국인)'!AH$115) -> 5380
B37: 풍덕천2동 | C37: =SUM(D37:F37) -> 41239 | D37: =SUM('읍면동 연령별 현황(내국인)'!AI$5,'읍면동 연령별 현황(내국인)'!AI$17:AI$21) -> 6950 | E37: =SUM('읍면동 연령별 현황(내국인)'!AI$22:AI$26,'읍면동 연령별 현황(내국인)'!AI$27,'읍면동 연령별 현황(내국인)'!AI$38,'읍면동 연령별 현황(내국인)'!AI$49,'읍면동 연령별 현황(내국인)'!AI$60,'읍면동 연령별 현황(내국인)'!AI72:AI$76) -> 29929 | F37: =SUM('읍면동 연령별 현황(내국인)'!AI$77:AI$82,'읍면동 연령별 현황(내국인)'!AI$93,'읍면동 연령별 현황(내국인)'!AI$104,'읍면동 연령별 현황(내국인)'!AI$115) -> 4360
B38: 신봉동 | C38: =SUM(D38:F38) -> 41012 | D38: =SUM('읍면동 연령별 현황(내국인)'!AJ$5,'읍면동 연령별 현황(내국인)'!AJ$17:AJ$21) -> 5582 | E38: =SUM('읍면동 연령별 현황(내국인)'!AJ$22:AJ$26,'읍면동 연령별 현황(내국인)'!AJ$27,'읍면동 연령별 현황(내국인)'!AJ$38,'읍면동 연령별 현황(내국인)'!AJ$49,'읍면동 연령별 현황(내국인)'!AJ$60,'읍면동 연령별 현황(내국인)'!AJ$72:AJ$76) -> 28513 | F38: =SUM('읍면동 연령별 현황(내국인)'!AJ$77:AJ$82,'읍면동 연령별 현황(내국인)'!AJ$93,'읍면동 연령별 현황(내국인)'!AJ$104,'읍면동 연령별 현황(내국인)'!AJ$115) -> 6917
B39: 죽전1동 | C39: =SUM(D39:F39) -> 28944 | D39: =SUM('읍면동 연령별 현황(내국인)'!AK$5,'읍면동 연령별 현황(내국인)'!AK$17:AK$21) -> 3263 | E39: =SUM('읍면동 연령별 현황(내국인)'!AK$22:AK$26,'읍면동 연령별 현황(내국인)'!AK$27,'읍면동 연령별 현황(내국인)'!AK$38,'읍면동 연령별 현황(내국인)'!AK$49,'읍면동 연령별 현황(내국인)'!AK$60,'읍면동 연령별 현황(내국인)'!AK$72:AK$76) -> 20399 | F39: =SUM('읍면동 연령별 현황(내국인)'!AK$77:AK$82,'읍면동 연령별 현황(내국인)'!AK$93,'읍면동 연령별 현황(내국인)'!AK$104,'읍면동 연령별 현황(내국인)'!AK$115) -> 5282
B40: 죽전2동 | C40: =SUM(D40:F40) -> 17010 | D40: =SUM('읍면동 연령별 현황(내국인)'!AL$5,'읍면동 연령별 현황(내국인)'!AL$17:AL$21) -> 1661 | E40: =SUM('읍면동 연령별 현황(내국인)'!AL$22:AL$26,'읍면동 연령별 현황(내국인)'!AL$27,'읍면동 연령별 현황(내국인)'!AL$38,'읍면동 연령별 현황(내국인)'!AL$49,'읍면동 연령별 현황(내국인)'!AL$60,'읍면동 연령별 현황(내국인)'!AL$72:AL$76) -> 12417 | F40: =SUM('읍면동 연령별 현황(내국인)'!AL$77:AL$82,'읍면동 연령별 현황(내국인)'!AL$93,'읍면동 연령별 현황(내국인)'!AL$104,'읍면동 연령별 현황(내국인)'!AL$115) -> 2932
B41: 죽전3동 | C41: =SUM(D41:F41) -> 26336 | D41: =SUM('읍면동 연령별 현황(내국인)'!AM$5,'읍면동 연령별 현황(내국인)'!AM$17:AM$21) -> 2899 | E41: =SUM('읍면동 연령별 현황(내국인)'!AM$22:AM$26,'읍면동 연령별 현황(내국인)'!AM$27,'읍면동 연령별 현황(내국인)'!AM$38,'읍면동 연령별 현황(내국인)'!AM$49,'읍면동 연령별 현황(내국인)'!AM$60,'읍면동 연령별 현황(내국인)'!AM$72:AM$76) -> 19201 | F41: =SUM('읍면동 연령별 현황(내국인)'!AM$77:AM$82,'읍면동 연령별 현황(내국인)'!AM$93,'읍면동 연령별 현황(내국인)'!AM$104,'읍면동 연령별 현황(내국인)'!AM$115) -> 4236
B42: 동천동 | C42: =SUM(D42:F42) -> 50751 | D42: =SUM('읍면동 연령별 현황(내국인)'!AN$5,'읍면동 연령별 현황(내국인)'!AN$17:AN$21) -> 7465 | E42: =SUM('읍면동 연령별 현황(내국인)'!AN$22:AN$26,'읍면동 연령별 현황(내국인)'!AN$27,'읍면동 연령별 현황(내국인)'!AN$38,'읍면동 연령별 현황(내국인)'!AN$49,'읍면동 연령별 현황(내국인)'!AN$60,'읍면동 연령별 현황(내국인)'!AN$72:AN$76) -> 35471 | F42: =SUM('읍면동 연령별 현황(내국인)'!AN$77:AN$82,'읍면동 연령별 현황(내국인)'!AN$93,'읍면동 연령별 현황(내국인)'!AN$104,'읍면동 연령별 현황(내국인)'!AN$115) -> 7815
B43: 상현1동 | C43: =SUM(D43:F43) -> 19612 | D43: =SUM('읍면동 연령별 현황(내국인)'!AO$5,'읍면동 연령별 현황(내국인)'!AO$17:AO$21) -> 2999 | E43: =SUM('읍면동 연령별 현황(내국인)'!AO$22:AO$26,'읍면동 연령별 현황(내국인)'!AO$27,'읍면동 연령별 현황(내국인)'!AO$38,'읍면동 연령별 현황(내국인)'!AO$49,'읍면동 연령별 현황(내국인)'!AO$60,'읍면동 연령별 현황(내국인)'!AO$72:AO$76) -> 13496 | F43: =SUM('읍면동 연령별 현황(내국인)'!AO$77:AO$82,'읍면동 연령별 현황(내국인)'!AO$93,'읍면동 연령별 현황(내국인)'!AO$104,'읍면동 연령별 현황(내국인)'!AO$115) -> 3117
B44: 상현2동 | C44: =SUM(D44:F44) -> 32468 | D44: =SUM('읍면동 연령별 현황(내국인)'!AP$5,'읍면동 연령별 현황(내국인)'!AP$17:AP$21) -> 4625 | E44: =SUM('읍면동 연령별 현황(내국인)'!AP$22:AP$26,'읍면동 연령별 현황(내국인)'!AP$27,'읍면동 연령별 현황(내국인)'!AP$38,'읍면동 연령별 현황(내국인)'!AP$49,'읍면동 연령별 현황(내국인)'!AP$60,'읍면동 연령별 현황(내국인)'!AP$72:AP$76) -> 22238 | F44: =SUM('읍면동 연령별 현황(내국인)'!AP$77:AP$82,'읍면동 연령별 현황(내국인)'!AP$93,'읍면동 연령별 현황(내국인)'!AP$104,'읍면동 연령별 현황(내국인)'!AP$115) -> 5605
B45: 상현3동 | C45: =SUM(D45:F45) -> 27192 | D45: =SUM('읍면동 연령별 현황(내국인)'!AQ$5,'읍면동 연령별 현황(내국인)'!AQ$17:AQ$21) -> 3649 | E45: =SUM('읍면동 연령별 현황(내국인)'!AQ$22:AQ$26,'읍면동 연령별 현황(내국인)'!AQ$27,'읍면동 연령별 현황(내국인)'!AQ$38,'읍면동 연령별 현황(내국인)'!AQ$49,'읍면동 연령별 현황(내국인)'!AQ$60,'읍면동 연령별 현황(내국인)'!AQ$72:AQ$76) -> 19771 | F45: =SUM('읍면동 연령별 현황(내국인)'!AQ$77:AQ$82,'읍면동 연령별 현황(내국인)'!AQ$93,'읍면동 연령별 현황(내국인)'!AQ$104,'읍면동 연령별 현황(내국인)'!AQ$115) -> 3772
B46: 성복동 | C46: =SUM(D46:F46) -> 54557 | D46: =SUM('읍면동 연령별 현황(내국인)'!AR$5,'읍면동 연령별 현황(내국인)'!AR$17:AR$21) -> 7894 | E46: =SUM('읍면동 연령별 현황(내국인)'!AR$22:AR$26,'읍면동 연령별 현황(내국인)'!AR$27,'읍면동 연령별 현황(내국인)'!AR$38,'읍면동 연령별 현황(내국인)'!AR$49,'읍면동 연령별 현황(내국인)'!AR$60,'읍면동 연령별 현황(내국인)'!AR$72:AR$76) -> 36242 | F46: =SUM('읍면동 연령별 현황(내국인)'!AR$77:AR$82,'읍면동 연령별 현황(내국인)'!AR$93,'읍면동 연령별 현황(내국인)'!AR$104,'읍면동 연령별 현황(내국인)'!AR$115) -> 10421
A49: 외국인
A51: 구별 | B51: 합계 | C51: 0~14세 | D51: 15~64세 | E51: 65세 이상
A52: 용인시 | B52: =SUM(B53:B55) -> 21508 | C52: =SUM(C53:C55) -> 893 | D52: =SUM(D53:D55) -> 20025 | E52: =SUM(E53:E55) -> 590
A53: 처인구 | B53: =SUM(C53:E53) -> 12449 | C53: =SUM('읍면동 연령별 현황(외국인)'!C5,'읍면동 연령별 현황(외국인)'!C9) -> 533 | D53: =SUM('읍면동 연령별 현황(외국인)'!C10,'읍면동 연령별 현황(외국인)'!C11,'읍면동 연령별 현황(외국인)'!C14,'읍면동 연령별 현황(외국인)'!C17,'읍면동 연령별 현황(외국인)'!C20,'읍면동 연령별 현황(외국인)'!C24) -> 11632 | E53: =SUM('읍면동 연령별 현황(외국인)'!C25,'읍면동 연령별 현황(외국인)'!C26,'읍면동 연령별 현황(외국인)'!C29,'읍면동 연령별 현황(외국인)'!C32) -> 284
A54: 기흥구 | B54: =SUM(C54:E54) -> 5783 | C54: =SUM('읍면동 연령별 현황(외국인)'!D5,'읍면동 연령별 현황(외국인)'!D9) -> 227 | D54: =SUM('읍면동 연령별 현황(외국인)'!D10,'읍면동 연령별 현황(외국인)'!D11,'읍면동 연령별 현황(외국인)'!D14,'읍면동 연령별 현황(외국인)'!D17,'읍면동 연령별 현황(외국인)'!D20,'읍면동 연령별 현황(외국인)'!D24) -> 5352 | E54: =SUM('읍면동 연령별 현황(외국인)'!D25,'읍면동 연령별 현황(외국인)'!D26,'읍면동 연령별 현황(외국인)'!D29,'읍면동 연령별 현황(외국인)'!D32) -> 204
A55: 수지구 | B55: =SUM(C55:E55) -> 3276 | C55: =SUM('읍면동 연령별 현황(외국인)'!E5,'읍면동 연령별 현황(외국인)'!E9) -> 133 | D55: =SUM('읍면동 연령별 현황(외국인)'!E10,'읍면동 연령별 현황(외국인)'!E11,'읍면동 연령별 현황(외국인)'!E14,'읍면동 연령별 현황(외국인)'!E17,'읍면동 연령별 현황(외국인)'!E20,'읍면동 연령별 현황(외국인)'!E24) -> 3041 | E55: =SUM('읍면동 연령별 현황(외국인)'!E25,'읍면동 연령별 현황(외국인)'!E26,'읍면동 연령별 현황(외국인)'!E29,'읍면동 연령별 현황(외국인)'!E32) -> 102
A57: 전체
A59: 구분 | B59: 용인시 | D59: 처인구 | F59: 기흥구 | H59: 수지구
A61: 연령 | B61: 전체 | C61: 내국인 | D61: 전체 | E61: 내국인 | F61: 전체 | G61: 내국인 | H61: 전체 | I61: 내국인
A62: 총 계 | B62: =D62+F62+H62 -> 1111777 | C62: =E62+G62+I62 -> 1090269 | D62: =SUM(D63:D65) -> 297488 | E62: =SUM(E63:E65) -> 285039 | F62: =SUM(F63:F65) -> 440072 | G62: =SUM(G63:G65) -> 434289 | H62: =SUM(H63:H65) -> 374217 | I62: =SUM(I63:I65) -> 370941
A63: 0 ~ 14세 | B63: =D63+F63+H63 -> 131319 | C63: =E63+G63+I63 -> 130426 | D63: =E63+C53 -> 30923 | E63: =D5 -> 30390 | F63: =G63+C54 -> 49958 | G63: =D19 -> 49731 | H63: =I63+C55 -> 50438 | I63: =D35 -> 50305
A64: 15 ~ 64세 | B64: =D64+F64+H64 -> 790206 | C64: =E64+G64+I64 -> 770181 | D64: =E64+D53 -> 212065 | E64: =E5 -> 200433 | F64: =G64+D54 -> 314301 | G64: =E19 -> 308949 | H64: =I64+D55 -> 263840 | I64: =E35 -> 260799
A65: 65세이상 | B65: =D65+F65+H65 -> 190252 | C65: =E65+G65+I65 -> 189662 | D65: =E65+E53 -> 54500 | E65: =F5 -> 54216 | F65: =G65+E54 -> 75813 | G65: =F19 -> 75609 | H65: =I65+E55 -> 59939 | I65: =F35 -> 59837

Sheet 읍면동 연령별 현황(외국인)
A1: 읍면동 연령별 인구현황(외국인)
A2: 용인시 | B2: 206. 4. 30. 기준
A3: 연령별 | B3: 용 인 시 | C3: 처 인 구 | D3: 기 흥 구 | E3: 수 지 구 | F3: 포 곡 읍 | G3: 모 현 읍 | H3: 이 동 읍 | I3: 남 사 읍 | J3: 양 지 읍 | K3: 원 삼 면 | L3: 백 암 면 | M3: 중 앙 동 | N3: 역 북 동 | O3: 삼 가 동 | P3: 유림1동 | Q3: 유림2동 | R3: 동 부 동 | S3: 신 갈 동 | T3: 영덕1동 | U3: 영덕2동 | V3: 구 갈 동 | W3: 상 갈 동 | X3: 보 라 동 | Y3: 기 흥 동 | Z3: 서 농 동 | AA3: 구 성 동 | AB3: 마 북 동 | AC3: 동백1동 | AD3: 동백2동 | AE3: 동백3동 | AF3: 상 하 동 | AG3: 보 정 동 | AH3: 풍 덕 천 1 동 | AI3: 풍 덕 천 2 동 | AJ3: 신 봉 동 | AK3: 죽 전 1 동 | AL3: 죽 전 2 동 | AM3: 죽 전 3 동 | AN3: 동 천 동 | AO3: 상 현 1 동 | AP3: 상 현 2 동 | AQ3: 상 현 3 동 | AR3: 성 복 동
A4: 합 계 | B4: =SUM(C4:E4) -> 21508 | C4: =SUM(C5,C8,C11,C14,C17,C20,C23,C26,C29,C32,C35) -> 12449 | D4: =SUM(D5,D8,D11,D14,D17,D20,D23,D26,D29,D32,D35) -> 5783 | E4: =SUM(E5,E8,E11,E14,E17,E20,E23,E26,E29,E32,E35) -> 3276 | F4: =SUM(F5,F8,F11,F14,F17,F20,F23,F26,F29,F32,F35) -> 918 | G4: =SUM(G5,G8,G11,G14,G17,G20,G23,G26,G29,G32,G35) -> 1790 | H4: =SUM(H5,H8,H11,H14,H17,H20,H23,H26,H29,H32,H35) -> 1698 | I4: =SUM(I5,I8,I11,I14,I17,I20,I23,I26,I29,I32,I35) -> 1145 | J4: =SUM(J5,J8,J11,J14,J17,J20,J23,J26,J29,J32,J35) -> 696 | ... AR4: =SUM(AR5,AR8,AR11,AR14,AR17,AR20,AR23,AR26,AR29,AR32,AR35) -> 211
A5: 10대 미만 | B5: =SUM(C5:E5) -> 633 | C5: =SUM(C6:C7) -> 402 | D5: =SUM(D6:D7) -> 155 | E5: =SUM(E6:E7) -> 76 | F5: =SUM(F6:F7) -> 30 | G5: =SUM(G6:G7) -> 55 | H5: =SUM(H6:H7) -> 60 | I5: =SUM(I6:I7) -> 34 | J5: =SUM(J6:J7) -> 17 | ... AR5: =SUM(AR6:AR7) -> 6
A6: 0세 ~ 4세 | B6: =SUM(C6:E6) -> 302 | C6: =SUM(F6:R6) -> 205 | D6: =SUM(S6:AG6) -> 63 | E6: =SUM(AH6:AR6) -> 34 | F6: 15 | G6: 26 | H6: 30 | I6: 17 | J6: 7 | K6: 3 | L6: 10 | M6: 46 | N6: 9 | O6: 1 | P6: 18 | Q6: 10 | R6: 13 | S6: 12 | T6: 5 | U6: 3 | V6: 12 | W6: 3 | X6: 1 | Y6: 6 | Z6: 5 | AA6: 3 | AB6: 3 | AC6: 3 | AD6: 2 | AE6: 4 | AF6: 1 | AG6: 0 | AH6: 4 | AI6: 7 | AJ6: 1 | AK6: 4 | AL6: 2 | AM6: 2 | AN6: 10 | AO6: 1 | AP6: 0 | AQ6: 0 | AR6: 3
A7: 5세 ~ 9세 | B7: =SUM(C7:E7) -> 331 | C7: =SUM(F7:R7) -> 197 | D7: =SUM(S7:AG7) -> 92 | E7: =SUM(AH7:AR7) -> 42 | F7: 15 | G7: 29 | H7: 30 | I7: 17 | J7: 10 | K7: 7 | L7: 6 | M7: 38 | N7: 14 | O7: 1 | P7: 4 | Q7: 15 | R7: 11 | S7: 12 | T7: 7 | U7: 6 | V7: 13 | W7: 6 | X7: 7 | Y7: 8 | Z7: 12 | AA7: 1 | AB7: 1 | AC7: 2 | AD7: 2 | AE7: 7 | AF7: 6 | AG7: 2 | AH7: 8 | AI7: 6 | AJ7: 1 | AK7: 3 | AL7: 0 | AM7: 1 | AN7: 16 | AO7: 0 | AP7: 2 | AQ7: 2 | AR7: 3
A8: 10대 | B8: =SUM(C8:E8) -> 746 | C8: =SUM(C9:C10) -> 363 | D8: =SUM(D9:D10) -> 182 | E8: =SUM(E9:E10) -> 201 | F8: =SUM(F9:F10) -> 18 | G8: =SUM(G9:G10) -> 36 | H8: =SUM(H9:H10) -> 36 | I8: =SUM(I9:I10) -> 6 | J8: =SUM(J9:J10) -> 10 | ... AR8: =SUM(AR9:AR10) -> 7
A9: 10세 ~ 14세 | B9: =SUM(C9:E9) -> 260 | C9: =SUM(F9:R9) -> 131 | D9: =SUM(S9:AG9) -> 72 | E9: =SUM(AH9:AR9) -> 57 | F9: 6 | G9: 20 | H9: 19 | I9: 5 | J9: 8 | K9: 1 | L9: 5 | M9: 24 | N9: 13 | O9: 4 | P9: 3 | Q9: 11 | R9: 12 | S9: 7 | T9: 14 | U9: 4 | V9: 7 | W9: 7 | X9: 7 | Y9: 3 | Z9: 6 | AA9: 4 | AB9: 0 | AC9: 0 | AD9: 1 | AE9: 3 | AF9: 6 | AG9: 3 | AH9: 8 | AI9: 8 | AJ9: 5 | AK9: 3 | AL9: 1 | AM9: 3 | AN9: 23 | AO9: 0 | AP9: 1 | AQ9: 2 | AR9: 3
A10: 15세 ~ 19세 | B10: =SUM(C10:E10) -> 486 | C10: =SUM(F10:R10) -> 232 | D10: =SUM(S10:AG10) -> 110 | E10: =SUM(AH10:AR10) -> 144 | F10: 12 | G10: 16 | H10: 17 | I10: 1 | J10: 2 | K10: 1 | L10: 6 | M10: 85 | N10: 22 | O10: 2 | P10: 2 | Q10: 7 | R10: 59 | S10: 13 | T10: 6 | U10: 0 | V10: 41 | W10: 14 | X10: 4 | Y10: 6 | Z10: 16 | AA10: 3 | AB10: 3 | AC10: 0 | AD10: 2 | AE10: 0 | AF10: 1 | AG10: 1 | AH10: 29 | AI10: 8 | AJ10: 2 | AK10: 1 | AL10: 0 | AM10: 80 | AN10: 18 | AO10: 0 | AP10: 1 | AQ10: 1 | AR10: 4
A11: 20대 | B11: =SUM(C11:E11) -> 7590 | C11: =SUM(C12:C13) -> 3808 | D11: =SUM(D12:D13) -> 2450 | E11: =SUM(E12:E13) -> 1332 | F11: =SUM(F12:F13) -> 311 | G11: =SUM(G12:G13) -> 594 | H11: =SUM(H12:H13) -> 481 | I11: =SUM(I12:I13) -> 333 | J11: =SUM(J12:J13) -> 165 | ... AR11: =SUM(AR12:AR13) -> 18
A12: 20세 ~ 24세 | B12: =SUM(C12:E12) -> 3832 | C12: =SUM(F12:R12) -> 1510 | D12: =SUM(S12:AG12) -> 1491 | E12: =SUM(AH12:AR12) -> 831 | F12: 121 | G12: 202 | H12: 158 | I12: 81 | J12: 48 | K12: 39 | L12: 66 | M12: 408 | N12: 163 | O12: 7 | P12: 24 | Q12: 27 | R12: 166 | S12: 65 | T12: 8 | U12: 12 | V12: 676 | W12: 76 | X12: 11 | Y12: 28 | Z12: 476 | AA12: 7 | AB12: 65 | AC12: 7 | AD12: 11 | AE12: 10 | AF12: 8 | AG12: 31 | AH12: 135 | AI12: 11 | AJ12: 4 | AK12: 27 | AL12: 7 | AM12: 621 | AN12: 8 | AO12: 2 | AP12: 7 | AQ12: 3 | AR12: 6
A13: 25세 ~ 29세 | B13: =SUM(C13:E13) -> 3758 | C13: =SUM(F13:R13) -> 2298 | D13: =SUM(S13:AG13) -> 959 | E13: =SUM(AH13:AR13) -> 501 | F13: 190 | G13: 392 | H13: 323 | I13: 252 | J13: 117 | K13: 130 | L13: 204 | M13: 361 | N13: 135 | O13: 6 | P13: 45 | Q13: 49 | R13: 94 | S13: 71 | T13: 22 | U13: 22 | V13: 233 | W13: 47 | X13: 29 | Y13: 40 | Z13: 323 | AA13: 15 | AB13: 41 | AC13: 10 | AD13: 15 | AE13: 8 | AF13: 34 | AG13: 49 | AH13: 59 | AI13: 42 | AJ13: 15 | AK13: 22 | AL13: 17 | AM13: 270 | AN13: 21 | AO13: 2 | AP13: 7 | AQ13: 34 | AR13: 12
A14: 30대 | B14: =SUM(C14:E14) -> 6040 | C14: =SUM(C15:C16) -> 4257 | D14: =SUM(D15:D16) -> 1160 | E14: =SUM(E15:E16) -> 623 | F14: =SUM(F15:F16) -> 291 | G14: =SUM(G15:G16) -> 691 | H14: =SUM(H15:H16) -> 744 | I14: =SUM(I15:I16) -> 516 | J14: =SUM(J15:J16) -> 281 | ... AR14: =SUM(AR15:AR16) -> 57
A15: 30세 ~ 34세 | B15: =SUM(C15:E15) -> 3283 | C15: =SUM(F15:R15) -> 2360 | D15: =SUM(S15:AG15) -> 599 | E15: =SUM(AH15:AR15) -> 324 | F15: 175 | G15: 427 | H15: 408 | I15: 264 | J15: 148 | K15: 204 | L15: 277 | M15: 212 | N15: 77 | O15: 6 | P15: 33 | Q15: 65 | R15: 64 | S15: 60 | T15: 25 | U15: 28 | V15: 104 | W15: 30 | X15: 36 | Y15: 48 | Z15: 119 | AA15: 26 | AB15: 18 | AC15: 16 | AD15: 19 | AE15: 8 | AF15: 42 | AG15: 20 | AH15: 47 | AI15: 36 | AJ15: 22 | AK15: 13 | AL15: 18 | AM15: 78 | AN15: 40 | AO15: 6 | AP15: 10 | AQ15: 30 | AR15: 24
A16: 35세 ~ 39세 | B16: =SUM(C16:E16) -> 2757 | C16: =SUM(F16:R16) -> 1897 | D16: =SUM(S16:AG16) -> 561 | E16: =SUM(AH16:AR16) -> 299 | F16: 116 | G16: 264 | H16: 336 | I16: 252 | J16: 133 | K16: 168 | L16: 193 | M16: 180 | N16: 63 | O16: 16 | P16: 49 | Q16: 71 | R16: 56 | S16: 70 | T16: 45 | U16: 24 | V16: 82 | W16: 32 | X16: 37 | Y16: 43 | Z16: 67 | AA16: 30 | AB16: 23 | AC16: 22 | AD16: 5 | AE16: 27 | AF16: 38 | AG16: 16 | AH16: 50 | AI16: 25 | AJ16: 23 | AK16: 23 | AL16: 10 | AM16: 43 | AN16: 54 | AO16: 6 | AP16: 12 | AQ16: 20 | AR16: 33
A17: 40대 | B17: =SUM(C17:E17) -> 3176 | C17: =SUM(C18:C19) -> 1830 | D17: =SUM(D18:D19) -> 807 | E17: =SUM(E18:E19) -> 539 | F17: =SUM(F18:F19) -> 137 | G17: =SUM(G18:G19) -> 242 | H17: =SUM(H18:H19) -> 229 | I17: =SUM(I18:I19) -> 178 | J17: =SUM(J18:J19) -> 125 | ... AR17: =SUM(AR18:AR19) -> 61
A18: 40세 ~ 44세 | B18: =SUM(C18:E18) -> 1948 | C18: =SUM(F18:R18) -> 1148 | D18: =SUM(S18:AG18) -> 468 | E18: =SUM(AH18:AR18) -> 332 | F18: 85 | G18: 160 | H18: 153 | I18: 117 | J18: 74 | K18: 78 | L18: 124 | M18: 140 | N18: 55 | O18: 9 | P18: 42 | Q18: 69 | R18: 42 | S18: 68 | T18: 41 | U18: 17 | V18: 60 | W18: 19 | X18: 35 | Y18: 40 | Z18: 52 | AA18: 19 | AB18: 23 | AC18: 16 | AD18: 10 | AE18: 19 | AF18: 27 | AG18: 22 | AH18: 68 | AI18: 36 | AJ18: 23 | AK18: 21 | AL18: 10 | AM18: 24 | AN18: 74 | AO18: 12 | AP18: 10 | AQ18: 17 | AR18: 37
A19: 45세 ~ 49세 | B19: =SUM(C19:E19) -> 1228 | C19: =SUM(F19:R19) -> 682 | D19: =SUM(S19:AG19) -> 339 | E19: =SUM(AH19:AR19) -> 207 | F19: 52 | G19: 82 | H19: 76 | I19: 61 | J19: 51 | K19: 29 | L19: 50 | M19: 115 | N19: 31 | O19: 11 | P19: 28 | Q19: 41 | R19: 55 | S19: 71 | T19: 30 | U19: 7 | V19: 36 | W19: 15 | X19: 19 | Y19: 24 | Z19: 18 | AA19: 18 | AB19: 12 | AC19: 10 | AD19: 12 | AE19: 17 | AF19: 26 | AG19: 24 | AH19: 39 | AI19: 21 | AJ19: 18 | AK19: 13 | AL19: 7 | AM19: 15 | AN19: 50 | AO19: 5 | AP19: 10 | AQ19: 5 | AR19: 24
A20: 50대 | B20: =SUM(C20:E20) -> 1985 | C20: =SUM(C21:C22) -> 1087 | D20: =SUM(D21:D22) -> 590 | E20: =SUM(E21:E22) -> 308 | F20: =SUM(F21:F22) -> 78 | G20: =SUM(G21:G22) -> 118 | H20: =SUM(H21:H22) -> 101 | I20: =SUM(I21:I22) -> 60 | J20: =SUM(J21:J22) -> 65 | ... AR20: =SUM(AR21:AR22) -> 34
A21: 50세 ~ 54세 | B21: =SUM(C21:E21) -> 984 | C21: =SUM(F21:R21) -> 539 | D21: =SUM(S21:AG21) -> 288 | E21: =SUM(AH21:AR21) -> 157 | F21: 37 | G21: 65 | H21: 50 | I21: 38 | J21: 27 | K21: 9 | L21: 25 | M21: 125 | N21: 35 | O21: 9 | P21: 20 | Q21: 43 | R21: 56 | S21: 63 | T21: 18 | U21: 11 | V21: 40 | W21: 18 | X21: 20 | Y21: 14 | Z21: 20 | AA21: 13 | AB21: 14 | AC21: 7 | AD21: 9 | AE21: 13 | AF21: 13 | AG21: 15 | AH21: 30 | AI21: 23 | AJ21: 13 | AK21: 11 | AL21: 3 | AM21: 19 | AN21: 25 | AO21: 4 | AP21: 7 | AQ21: 4 | AR21: 18
A22: 55세 ~ 59세 | B22: =SUM(C22:E22) -> 1001 | C22: =SUM(F22:R22) -> 548 | D22: =SUM(S22:AG22) -> 302 | E22: =SUM(AH22:AR22) -> 151 | F22: 41 | G22: 53 | H22: 51 | I22: 22 | J22: 38 | K22: 13 | L22: 27 | M22: 124 | N22: 32 | O22: 11 | P22: 24 | Q22: 42 | R22: 70 | S22: 93 | T22: 22 | U22: 3 | V22: 44 | W22: 34 | X22: 24 | Y22: 13 | Z22: 4 | AA22: 11 | AB22: 16 | AC22: 7 | AD22: 7 | AE22: 5 | AF22: 14 | AG22: 5 | AH22: 45 | AI22: 12 | AJ22: 5 | AK22: 10 | AL22: 5 | AM22: 13 | AN22: 23 | AO22: 8 | AP22: 9 | AQ22: 5 | AR22: 16
A23: 60대 | B23: =SUM(C23:E23) -> 1069 | C23: =SUM(C24:C25) -> 578 | D23: =SUM(D24:D25) -> 347 | E23: =SUM(E24:E25) -> 144 | F23: =SUM(F24:F25) -> 46 | G23: =SUM(G24:G25) -> 47 | H23: =SUM(H24:H25) -> 43 | I23: =SUM(I24:I25) -> 14 | J23: =SUM(J24:J25) -> 30 | ... AR23: =SUM(AR24:AR25) -> 16
A24: 60세 ~ 64세 | B24: =SUM(C24:E24) -> 748 | C24: =SUM(F24:R24) -> 418 | D24: =SUM(S24:AG24) -> 235 | E24: =SUM(AH24:AR24) -> 95 | F24: 31 | G24: 30 | H24: 37 | I24: 12 | J24: 21 | K24: 4 | L24: 10 | M24: 113 | N24: 33 | O24: 5 | P24: 19 | Q24: 27 | R24: 76 | S24: 77 | T24: 8 | U24: 7 | V24: 30 | W24: 24 | X24: 12 | Y24: 11 | Z24: 9 | AA24: 8 | AB24: 6 | AC24: 9 | AD24: 4 | AE24: 7 | AF24: 18 | AG24: 5 | AH24: 25 | AI24: 6 | AJ24: 6 | AK24: 10 | AL24: 5 | AM24: 5 | AN24: 14 | AO24: 5 | AP24: 4 | AQ24: 2 | AR24: 13
A25: 65세 ~ 69세 | B25: =SUM(C25:E25) -> 321 | C25: =SUM(F25:R25) -> 160 | D25: =SUM(S25:AG25) -> 112 | E25: =SUM(AH25:AR25) -> 49 | F25: 15 | G25: 17 | H25: 6 | I25: 2 | J25: 9 | K25: 2 | L25: 2 | M25: 60 | N25: 16 | O25: 3 | P25: 0 | Q25: 7 | R25: 21 | S25: 35 | T25: 2 | U25: 4 | V25: 17 | W25: 8 | X25: 7 | Y25: 6 | Z25: 4 | AA25: 3 | AB25: 9 | AC25: 4 | AD25: 2 | AE25: 3 | AF25: 5 | AG25: 3 | AH25: 18 | AI25: 2 | AJ25: 4 | AK25: 5 | AL25: 0 | AM25: 4 | AN25: 8 | AO25: 2 | AP25: 1 | AQ25: 2 | AR25: 3
A26: 70대 | B26: =SUM(C26:E26) -> 239 | C26: =SUM(C27:C28) -> 116 | D26: =SUM(D27:D28) -> 75 | E26: =SUM(E27:E28) -> 48 | F26: =SUM(F27:F28) -> 6 | G26: =SUM(G27:G28) -> 7 | H26: =SUM(H27:H28) -> 4 | I26: =SUM(I27:I28) -> 4 | J26: =SUM(J27:J28) -> 2 | ... AR26: =SUM(AR27:AR28) -> 12
A27: 70세 ~ 74세 | B27: =SUM(C27:E27) -> 168 | C27: =SUM(F27:R27) -> 81 | D27: =SUM(S27:AG27) -> 48 | E27: =SUM(AH27:AR27) -> 39 | F27: 5 | G27: 5 | H27: 4 | I27: 1 | J27: 2 | K27: 2 | L27: 2 | M27: 31 | N27: 6 | O27: 1 | P27: 2 | Q27: 6 | R27: 14 | S27: 17 | T27: 1 | U27: 2 | V27: 8 | W27: 1 | X27: 1 | Y27: 4 | Z27: 0 | AA27: 2 | AB27: 2 | AC27: 1 | AD27: 0 | AE27: 0 | AF27: 4 | AG27: 5 | AH27: 8 | AI27: 2 | AJ27: 2 | AK27: 1 | AL27: 0 | AM27: 1 | AN27: 10 | AO27: 2 | AP27: 2 | AQ27: 1 | AR27: 10
A28: 75세 ~ 79세 | B28: =SUM(C28:E28) -> 71 | C28: =SUM(F28:R28) -> 35 | D28: =SUM(S28:AG28) -> 27 | E28: =SUM(AH28:AR28) -> 9 | F28: 1 | G28: 2 | H28: 0 | I28: 3 | J28: 0 | K28: 1 | L28: 0 | M28: 13 | N28: 4 | O28: 1 | P28: 1 | Q28: 2 | R28: 7 | S28: 5 | T28: 1 | U28: 0 | V28: 4 | W28: 2 | X28: 1 | Y28: 2 | Z28: 0 | AA28: 2 | AB28: 0 | AC28: 3 | AD28: 1 | AE28: 2 | AF28: 3 | AG28: 1 | AH28: 5 | AI28: 0 | AJ28: 2 | AK28: 0 | AL28: 0 | AM28: 0 | AN28: 0 | AO28: 0 | AP28: 0 | AQ28: 0 | AR28: 2
A29: 80대 | B29: =SUM(C29:E29) -> 25 | C29: =SUM(C30:C31) -> 5 | D29: =SUM(D30:D31) -> 15 | E29: =SUM(E30:E31) -> 5 | F29: =SUM(F30:F31) -> 1 | G29: =SUM(G30:G31) -> 0 | H29: =SUM(H30:H31) -> 0 | I29: =SUM(I30:I31) -> 0 | J29: =SUM(J30:J31) -> 1 | ... AR29: =SUM(AR30:AR31) -> 0
A30: 80세 ~ 84세 | B30: =SUM(C30:E30) -> 18 | C30: =SUM(F30:R30) -> 4 | D30: =SUM(S30:AG30) -> 10 | E30: =SUM(AH30:AR30) -> 4 | F30: 1 | G30: 0 | H30: 0 | I30: 0 | J30: 1 | K30: 0 | L30: 0 | M30: 0 | N30: 0 | O30: 0 | P30: 0 | Q30: 1 | R30: 1 | S30: 1 | T30: 0 | U30: 0 | V30: 3 | W30: 0 | X30: 0 | Y30: 1 | Z30: 0 | AA30: 1 | AB30: 1 | AC30: 1 | AD30: 0 | AE30: 1 | AF30: 0 | AG30: 1 | AH30: 0 | AI30: 0 | AJ30: 0 | AK30: 0 | AL30: 0 | AM30: 0 | AN30: 1 | AO30: 1 | AP30: 2 | AQ30: 0 | AR30: 0
A31: 85세 ~ 89세 | B31: =SUM(C31:E31) -> 7 | C31: =SUM(F31:R31) -> 1 | D31: =SUM(S31:AG31) -> 5 | E31: =SUM(AH31:AR31) -> 1 | F31: 0 | G31: 0 | H31: 0 | I31: 0 | J31: 0 | K31: 0 | L31: 0 | M31: 0 | N31: 1 | O31: 0 | P31: 0 | Q31: 0 | R31: 0 | S31: 1 | T31: 0 | U31: 0 | V31: 0 | W31: 0 | X31: 0 | Y31: 0 | Z31: 0 | AA31: 0 | AB31: 0 | AC31: 1 | AD31: 1 | AE31: 1 | AF31: 0 | AG31: 1 | AH31: 0 | AI31: 0 | AJ31: 0 | AK31: 0 | AL31: 0 | AM31: 0 | AN31: 1 | AO31: 0 | AP31: 0 | AQ31: 0 | AR31: 0
A32: 90대 | B32: =SUM(C32:E32) -> 5 | C32: =SUM(C33:C34) -> 3 | D32: =SUM(D33:D34) -> 2 | E32: =SUM(E33:E34) -> 0 | F32: =SUM(F33:F34) -> 0 | G32: =SUM(G33:G34) -> 0 | H32: =SUM(H33:H34) -> 0 | I32: =SUM(I33:I34) -> 0 | J32: =SUM(J33:J34) -> 0 | ... AR32: =SUM(AR33:AR34) -> 0
A33: 90세 ~ 94세 | B33: =SUM(C33:E33) -> 3 | C33: =SUM(F33:R33) -> 3 | D33: =SUM(S33:AG33) -> 0 | E33: =SUM(AH33:AR33) -> 0 | F33: 0 | G33: 0 | H33: 0 | I33: 0 | J33: 0 | K33: 0 | L33: 0 | M33: 3 | N33: 0 | O33: 0 | P33: 0 | Q33: 0 | R33: 0 | S33: 0 | T33: 0 | U33: 0 | V33: 0 | W33: 0 | X33: 0 | Y33: 0 | Z33: 0 | AA33: 0 | AB33: 0 | AC33: 0 | AD33: 0 | AE33: 0 | AF33: 0 | AG33: 0 | AH33: 0 | AI33: 0 | AJ33: 0 | AK33: 0 | AL33: 0 | AM33: 0 | AN33: 0 | AO33: 0 | AP33: 0 | AQ33: 0 | AR33: 0
A34: 95세 ~ 99세 | B34: =SUM(C34:E34) -> 2 | C34: =SUM(F34:R34) -> 0 | D34: =SUM(S34:AG34) -> 2 | E34: =SUM(AH34:AR34) -> 0 | F34: 0 | G34: 0 | H34: 0 | I34: 0 | J34: 0 | K34: 0 | L34: 0 | M34: 0 | N34: 0 | O34: 0 | P34: 0 | Q34: 0 | R34: 0 | S34: 2 | T34: 0 | U34: 0 | V34: 0 | W34: 0 | X34: 0 | Y34: 0 | Z34: 0 | AA34: 0 | AB34: 0 | AC34: 0 | AD34: 0 | AE34: 0 | AF34: 0 | AG34: 0 | AH34: 0 | AI34: 0 | AJ34: 0 | AK34: 0 | AL34: 0 | AM34: 0 | AN34: 0 | AO34: 0 | AP34: 0 | AQ34: 0 | AR34: 0
A35: 100세 이상 | B35: =SUM(C35:E35) -> 0 | C35: 0 | D35: 0 | E35: 0 | F35: 0 | G35: 0 | H35: 0 | I35: 0 | J35: 0 | K35: 0 | L35: 0 | M35: 0 | N35: 0 | O35: 0 | P35: 0 | Q35: 0 | R35: 0 | S35: 0 | T35: 0 | U35: 0 | V35: 0 | W35: 0 | X35: 0 | Y35: 0 | Z35: 0 | AA35: 0 | AB35: 0 | AC35: 0 | AD35: 0 | AE35: 0 | AF35: 0 | AG35: 0 | AH35: 0 | AI35: 0 | AJ35: 0 | AK35: 0 | AL35: 0 | AM35: 0 | AN35: 0 | AO35: 0 | AP35: 0 | AQ35: 0 | AR35: 0
A38: 구분 | B38: 용인시 | C38: 처인구 | D38: 기흥구 | E38: 수지구
A39: 총계 | B39: =B4 -> 21508 | C39: =C4 -> 12449 | D39: =D4 -> 5783 | E39: =E4 -> 3276
A40: 0-14세 | B40: =SUM(B6:B7,B9) -> 893 | C40: =SUM(C6:C7,C9) -> 533 | D40: =SUM(D6:D7,D9) -> 227 | E40: =SUM(E6:E7,E9) -> 133
A41: 15-64세 | B41: =B39-B40-B42 -> 20025 | C41: =C39-C40-C42 -> 11632 | D41: =D39-D40-D42 -> 5352 | E41: =E39-E40-E42 -> 3041
A42: 65세 이상 | B42: =SUM(B25,B27:B28,B30:B31,B33:B35) -> 590 | C42: =SUM(C25,C27:C28,C30:C31,C33:C35) -> 284 | D42: =SUM(D25,D27:D28,D30:D31,D33:D35) -> 204 | E42: =SUM(E25,E27:E28,E30:E31,E33:E35) -> 102

Sheet 연령별 증감 비교(외국인)
A1: 연령별 인구 증감 비교(외국인)
A3: 연령별 | B3: 2026. 3. 31. | D3: 2026. 4. 30. | F3: 전월대비 증감현황 | H3: 비고
B4: 계 | C4: 구성비(%) | D4: 계 | E4: 구성비(%) | F4: 계 | G4: 증감률(%)
A5: 합 계 | B5: 21710 | C5: 100 | D5: =SUM(D6,D9,D12:D16,D19:D20) -> 21508 | E5: =SUM(E6,E9,E12:E16,E19:E20) -> 100 | F5: =F6+F9+F12+F13+F14+F15+F16+F19+F20 -> -202 | G5: =(F5/B5)*100 -> -0.9304468
A6: 10대 미만 | B6: 627 | C6: 2.88807 | D6: ='읍면동 연령별 현황(외국인)'!B5 -> 633 | E6: =D6/$D$5*100 -> 2.9430909 | F6: =D6-B6 -> 6 | G6: =(F6/B6)*100 -> 0.9569378
A7: 0세 ~ 4세 | B7: 291 | C7: 1.3403961 | D7: ='읍면동 연령별 현황(외국인)'!B6 -> 302 | E7: =D7/$D$5*100 -> 1.4041287 | F7: =D7-B7 -> 11 | G7: =(F7/B7)*100 -> 3.7800687
A8: 5세 ~ 9세 | B8: 336 | C8: 1.5476739 | D8: ='읍면동 연령별 현황(외국인)'!B7 -> 331 | E8: =D8/$D$5*100 -> 1.5389622 | F8: =D8-B8 -> -5 | G8: =(F8/B8)*100 -> -1.4880952
A9: 10대 | B9: 707 | C9: 3.2565638 | D9: ='읍면동 연령별 현황(외국인)'!B8 -> 746 | E9: =D9/$D$5*100 -> 3.4684768 | F9: =D9-B9 -> 39 | G9: =(F9/B9)*100 -> 5.5162659
A10: 10세 ~ 14세 | B10: 259 | C10: 1.1929986 | D10: ='읍면동 연령별 현황(외국인)'!B9 -> 260 | E10: =D10/$D$5*100 -> 1.2088525 | F10: =D10-B10 -> 1 | G10: =(F10/B10)*100 -> 0.38610039
A11: 15세 ~ 19세 | B11: 448 | C11: 2.0635652 | D11: ='읍면동 연령별 현황(외국인)'!B10 -> 486 | E11: =D11/$D$5*100 -> 2.2596243 | F11: =D11-B11 -> 38 | G11: =(F11/B11)*100 -> 8.4821429
A12: 20대 | B12: 7732 | C12: 35.614924 | D12: ='읍면동 연령별 현황(외국인)'!B11 -> 7590 | E12: =D12/$D$5*100 -> 35.289195 | F12: =D12-B12 -> -142 | G12: =(F12/B12)*100 -> -1.8365235
A13: 30대 | B13: 6071 | C13: 27.964072 | D13: ='읍면동 연령별 현황(외국인)'!B14 -> 6040 | E13: =D13/$D$5*100 -> 28.082574 | F13: =D13-B13 -> -31 | G13: =(F13/B13)*100 -> -0.51062428
A14: 40대 | B14: 3202 | C14: 14.748964 | D14: ='읍면동 연령별 현황(외국인)'!B17 -> 3176 | E14: =D14/$D$5*100 -> 14.766598 | F14: =D14-B14 -> -26 | G14: =(F14/B14)*100 -> -0.8119925
A15: 50대 | B15: 2019 | C15: 9.2998618 | D15: ='읍면동 연령별 현황(외국인)'!B20 -> 1985 | E15: =D15/$D$5*100 -> 9.229124 | F15: =D15-B15 -> -34 | G15: =(F15/B15)*100 -> -1.684002
A16: 60대 | B16: 1088 | C16: 5.0115154 | D16: ='읍면동 연령별 현황(외국인)'!B23 -> 1069 | E16: =D16/$D$5*100 -> 4.9702436 | F16: =D16-B16 -> -19 | G16: =(F16/B16)*100 -> -1.7463235
A17: 60세 ~ 64세 | B17: 767 | C17: 3.5329341 | D17: ='읍면동 연령별 현황(외국인)'!B24 -> 748 | E17: =D17/$D$5*100 -> 3.4777757 | F17: =D17-B17 -> -19 | G17: =(F17/B17)*100 -> -2.4771838
A18: 65세 ~ 69세 | B18: 321 | C18: 1.4785813 | D18: ='읍면동 연령별 현황(외국인)'!B25 -> 321 | E18: =D18/$D$5*100 -> 1.4924679 | F18: =D18-B18 -> 0 | G18: =(F18/B18)*100 -> 0
A19: 70대 | B19: 234 | C19: 1.0778443 | D19: ='읍면동 연령별 현황(외국인)'!B26 -> 239 | E19: =D19/$D$5*100 -> 1.1112144 | F19: =D19-B19 -> 5 | G19: =(F19/B19)*100 -> 2.1367521
A20: 80대 이상 | B20: 30 | C20: 0.13818517 | D20: ='읍면동 연령별 현황(외국인)'!B29+'읍면동 연령별 현황(외국인)'!B32+'읍면동 연령별 현황(외국인)'!B35 -> 30 | E20: =D20/$D$5*100 -> 0.13948298 | F20: =D20-B20 -> 0 | G20: =(F20/B20)*100 -> 0
