Workbook

Sheet 자동차등록현황1(2026년3월)
A1: 자 동 차 등 록 현 황
A2: 1. 읍면동별(용도별) | G2: 2. 읍면동별(차종별) 2026.3.31.현재
A3: 구 분 | B3: 합 계 | C3: 관 용 | D3: 자가용 | E3: 영업용 | G3: 구 분 | H3: 합 계 | I3: 승 용 | J3: 승 합 | K3: 화 물 | L3: 특 수
A4: 합 계 | B4: =SUM(B5,B23,B42) -> 532611 | C4: =SUM(C5,C23,C42) -> 1058 | D4: =SUM(D5,D23,D42) -> 511674 | E4: =SUM(E5,E23,E42) -> 19879 | F4: =IF(B4='자동차등록현황1(2026년3월)'!H4,"","F") | G4: ='자동차등록현황1(2026년3월)'!A4 -> 합 계 | H4: =SUM(H5,H23,H42) -> 532611 | I4: =SUM(I5,I23,I42) -> 471050 | J4: =SUM(J5,J23,J42) -> 10960 | K4: =SUM(K5,K23,K42) -> 48148 | L4: =SUM(L5,L23,L42) -> 2453
A5: 처인구 | B5: =SUM(B6:B22) -> 166991 | C5: =SUM(C6:C22) -> 849 | D5: =SUM(D6:D22) -> 157496 | E5: =SUM(E6:E22) -> 8646 | F5: =IF(B5='자동차등록현황1(2026년3월)'!H5,"","F") | G5: ='자동차등록현황1(2026년3월)'!A5 -> 처인구 | H5: =SUM(H6:H22) -> 166991 | I5: =SUM(I6:I22) -> 133548 | J5: =SUM(J6:J22) -> 5295 | K5: =SUM(K6:K22) -> 26890 | L5: =SUM(L6:L22) -> 1258
A6: 포곡읍 | B6: =SUM(C6:E6) -> 17843 | C6: 11 | D6: 17152 | E6: 680 | F6: =IF(B6='자동차등록현황1(2026년3월)'!H6,"","F") | G6: 포곡읍 | H6: =SUM(I6:L6) -> 17843 | I6: 13950 | J6: 607 | K6: 3091 | L6: 195
A7: 모현읍 | B7: =SUM(C7:E7) -> 21669 | C7: 3 | D7: 20710 | E7: 956 | F7: =IF(B7='자동차등록현황1(2026년3월)'!H7,"","F") | G7: 모현읍 | H7: =SUM(I7:L7) -> 21669 | I7: 16948 | J7: 657 | K7: 3923 | L7: 141 | N7: =B7-H7 -> 0
A8: 이동읍 | B8: =SUM(C8:E8) -> 13164 | C8: 11 | D8: 12138 | E8: 1015 | F8: =IF(B8='자동차등록현황1(2026년3월)'!H8,"","F") | G8: 이동읍 | H8: =SUM(I8:L8) -> 13164 | I8: 9514 | J8: 358 | K8: 3209 | L8: 83 | N8: =B8-H8 -> 0
A9: 남사읍 | B9: =SUM(C9:E9) -> 14138 | C9: 47 | D9: 13788 | E9: 303 | F9: =IF(B9='자동차등록현황1(2026년3월)'!H9,"","F") | G9: 남사읍 | H9: =SUM(I9:L9) -> 14138 | I9: 11412 | J9: 295 | K9: 2355 | L9: 76
A10: 양지읍 | B10: =SUM(C10:E10) -> 14830 | C10: 0 | D10: 13777 | E10: 1053 | F10: =IF(B10='자동차등록현황1(2026년3월)'!H10,"","F") | G10: 양지읍 | H10: =SUM(I10:L10) -> 14830 | I10: 11235 | J10: 411 | K10: 3034 | L10: 150 | N10: =B10-H10 -> 0
A11: 원삼면 | B11: =SUM(C11:E11) -> 5612 | C11: 2 | D11: 5178 | E11: 432 | F11: =IF(B11='자동차등록현황1(2026년3월)'!H11,"","F") | G11: 원삼면 | H11: =SUM(I11:L11) -> 5612 | I11: 3858 | J11: 149 | K11: 1550 | L11: 55
A12: 백암면 | B12: =SUM(C12:E12) -> 6110 | C12: 2 | D12: 5210 | E12: 898 | F12: =IF(B12='자동차등록현황1(2026년3월)'!H12,"","F") | G12: 백암면 | H12: =SUM(I12:L12) -> 6110 | I12: 3668 | J12: 240 | K12: 2103 | L12: 99
A13: 김량장동 | B13: =SUM(C13:E13) -> 10511 | C13: 22 | D13: 10077 | E13: 412 | F13: =IF(B13='자동차등록현황1(2026년3월)'!H13,"","F") | G13: 김량장동 | H13: =SUM(I13:L13) -> 10511 | I13: 9025 | J13: 313 | K13: 1102 | L13: 71
A14: 남동 | B14: =SUM(C14:E14) -> 3832 | C14: 0 | D14: 3075 | E14: 757 | F14: =IF(B14='자동차등록현황1(2026년3월)'!H14,"","F") | G14: 남동 | H14: =SUM(I14:L14) -> 3832 | I14: 2607 | J14: 730 | K14: 472 | L14: 23
A15: 역북동 | B15: =SUM(C15:E15) -> 16261 | C15: 60 | D15: 15788 | E15: 413 | F15: =IF(B15='자동차등록현황1(2026년3월)'!H15,"","F") | G15: 역북동 | H15: =SUM(I15:L15) -> 16261 | I15: 14638 | J15: 277 | K15: 1237 | L15: 109
A16: 삼가동 | B16: =SUM(C16:E16) -> 8422 | C16: 689 | D16: 7409 | E16: 324 | F16: =IF(B16='자동차등록현황1(2026년3월)'!H16,"","F") | G16: 삼가동 | H16: =SUM(I16:L16) -> 8422 | I16: 7269 | J16: 332 | K16: 781 | L16: 40
A17: 유방동 | B17: =SUM(C17:E17) -> 8626 | C17: 0 | D17: 8111 | E17: 515 | F17: =IF(B17='자동차등록현황1(2026년3월)'!H17,"","F") | G17: 유방동 | H17: =SUM(I17:L17) -> 8626 | I17: 7269 | J17: 266 | K17: 1044 | L17: 47
A18: 고림동 | B18: =SUM(C18:E18) -> 18880 | C18: 1 | D18: 18342 | E18: 537 | F18: =IF(B18='자동차등록현황1(2026년3월)'!H18,"","F") | G18: 고림동 | H18: =SUM(I18:L18) -> 18880 | I18: 16651 | J18: 352 | K18: 1783 | L18: 94
A19: 마평동 | B19: =SUM(C19:E19) -> 5549 | C19: 0 | D19: 5326 | E19: 223 | F19: =IF(B19='자동차등록현황1(2026년3월)'!H19,"","F") | G19: 마평동 | H19: =SUM(I19:L19) -> 5549 | I19: 4450 | J19: 168 | K19: 889 | L19: 42
A20: 운학동 | B20: =SUM(C20:E20) -> 948 | C20: 1 | D20: 822 | E20: 125 | F20: =IF(B20='자동차등록현황1(2026년3월)'!H20,"","F") | G20: 운학동 | H20: =SUM(I20:L20) -> 948 | I20: 607 | J20: 124 | K20: 191 | L20: 26
A21: 호동 | B21: =SUM(C21:E21) -> 439 | C21: 0 | D21: 437 | E21: 2 | F21: =IF(B21='자동차등록현황1(2026년3월)'!H21,"","F") | G21: 호동 | H21: =SUM(I21:L21) -> 439 | I21: 341 | J21: 10 | K21: 82 | L21: 6
A22: 해곡동 | B22: =SUM(C22:E22) -> 157 | C22: 0 | D22: 156 | E22: 1 | F22: =IF(B22='자동차등록현황1(2026년3월)'!H22,"","F") | G22: 해곡동 | H22: =SUM(I22:L22) -> 157 | I22: 106 | J22: 6 | K22: 44 | L22: 1
A23: 기흥구 | B23: =SUM(B24:B41) -> 212388 | C23: =SUM(C24:C41) -> 148 | D23: =SUM(D24:D41) -> 203378 | E23: =SUM(E24:E41) -> 8862 | F23: =IF(B23='자동차등록현황1(2026년3월)'!H23,"","F") | G23: 기흥구 | H23: =SUM(H24:H41) -> 212388 | I23: =SUM(I24:I41) -> 192294 | J23: =SUM(J24:J41) -> 3961 | K23: =SUM(K24:K41) -> 15211 | L23: =SUM(L24:L41) -> 922
A24: 신갈동 | B24: =SUM(C24:E24) -> 16153 | C24: 79 | D24: 15513 | E24: 561 | F24: =IF(B24='자동차등록현황1(2026년3월)'!H24,"","F") | G24: 신갈동 | H24: =SUM(I24:L24) -> 16153 | I24: 14295 | J24: 317 | K24: 1474 | L24: 67
A25: 영덕동 | B25: =SUM(C25:E25) -> 31467 | C25: 2 | D25: 30829 | E25: 636 | F25: =IF(B25='자동차등록현황1(2026년3월)'!H25,"","F") | G25: 영덕동 | H25: =SUM(I25:L25) -> 31467 | I25: 29307 | J25: 368 | K25: 1704 | L25: 88
A26: 하갈동 | B26: =SUM(C26:E26) -> 3270 | C26: 0 | D26: 2795 | E26: 475 | F26: =IF(B26='자동차등록현황1(2026년3월)'!H26,"","F") | G26: 하갈동 | H26: =SUM(I26:L26) -> 3270 | I26: 2440 | J26: 84 | K26: 700 | L26: 46
A27: 구갈동 | B27: =SUM(C27:E27) -> 18516 | C27: 2 | D27: 17323 | E27: 1191 | F27: =IF(B27='자동차등록현황1(2026년3월)'!H27,"","F") | G27: 구갈동 | H27: =SUM(I27:L27) -> 18516 | I27: 16541 | J27: 352 | K27: 1457 | L27: 166
A28: 상갈동 | B28: =SUM(C28:E28) -> 5518 | C28: 0 | D28: 5259 | E28: 259 | F28: =IF(B28='자동차등록현황1(2026년3월)'!H28,"","F") | G28: 상갈동 | H28: =SUM(I28:L28) -> 5518 | I28: 4803 | J28: 95 | K28: 599 | L28: 21
A29: 보라동 | B29: =SUM(C29:E29) -> 12976 | C29: 0 | D29: 12545 | E29: 431 | F29: =IF(B29='자동차등록현황1(2026년3월)'!H29,"","F") | G29: 보라동 | H29: =SUM(I29:L29) -> 12976 | I29: 11622 | J29: 211 | K29: 1086 | L29: 57
A30: 지곡동 | B30: =SUM(C30:E30) -> 2660 | C30: 0 | D30: 2495 | E30: 165 | F30: =IF(B30='자동차등록현황1(2026년3월)'!H30,"","F") | G30: 지곡동 | H30: =SUM(I30:L30) -> 2660 | I30: 2038 | J30: 126 | K30: 456 | L30: 40
A31: 공세동 | B31: =SUM(C31:E31) -> 8119 | C31: 0 | D31: 7930 | E31: 189 | F31: =IF(B31='자동차등록현황1(2026년3월)'!H31,"","F") | G31: 공세동 | H31: =SUM(I31:L31) -> 8119 | I31: 7297 | J31: 154 | K31: 634 | L31: 34
A32: 고매동 | B32: =SUM(C32:E32) -> 3221 | C32: 0 | D32: 2882 | E32: 339 | F32: =IF(B32='자동차등록현황1(2026년3월)'!H32,"","F") | G32: 고매동 | H32: =SUM(I32:L32) -> 3221 | I32: 2395 | J32: 247 | K32: 529 | L32: 50
A33: 농서동 | B33: =SUM(C33:E33) -> 1889 | C33: 0 | D33: 1771 | E33: 118 | F33: =IF(B33='자동차등록현황1(2026년3월)'!H33,"","F") | G33: 농서동 | H33: =SUM(I33:L33) -> 1889 | I33: 1511 | J33: 80 | K33: 289 | L33: 9
A34: 서천동 | B34: =SUM(C34:E34) -> 9123 | C34: 0 | D34: 8731 | E34: 392 | F34: =IF(B34='자동차등록현황1(2026년3월)'!H34,"","F") | G34: 서천동 | H34: =SUM(I34:L34) -> 9123 | I34: 8550 | J34: 175 | K34: 382 | L34: 16
A35: 언남동 | B35: =SUM(C35:E35) -> 10124 | C35: 6 | D35: 9739 | E35: 379 | F35: =IF(B35='자동차등록현황1(2026년3월)'!H35,"","F") | G35: 언남동 | H35: =SUM(I35:L35) -> 10124 | I35: 9245 | J35: 139 | K35: 719 | L35: 21
... A41: 보정동 | B41: =SUM(C41:E41) -> 17079 | C41: 41 | D41: 16166 | E41: 872 | F41: =IF(B41='자동차등록현황1(2026년3월)'!H41,"","F") | G41: 보정동 | H41: =SUM(I41:L41) -> 17079 | I41: 15768 | J41: 396 | K41: 811 | L41: 104
A42: 수지구 | B42: =SUM(B43:B49) -> 153232 | C42: =SUM(C43:C49) -> 61 | D42: =SUM(D43:D49) -> 150800 | E42: =SUM(E43:E49) -> 2371 | F42: =IF(B42='자동차등록현황1(2026년3월)'!H42,"","F") | G42: 수지구 | H42: =SUM(H43:H49) -> 153232 | I42: =SUM(I43:I49) -> 145208 | J42: =SUM(J43:J49) -> 1704 | K42: =SUM(K43:K49) -> 6047 | L42: =SUM(L43:L49) -> 273
A43: 풍덕천동 | B43: =SUM(C43:E43) -> 28764 | C43: 23 | D43: 28235 | E43: 506 | F43: =IF(B43='자동차등록현황1(2026년3월)'!H43,"","F") | G43: 풍덕천동 | H43: =SUM(I43:L43) -> 28764 | I43: 27306 | J43: 313 | K43: 1106 | L43: 39
A44: 신봉동 | B44: =SUM(C44:E44) -> 17519 | C44: 0 | D44: 17261 | E44: 258 | F44: =IF(B44='자동차등록현황1(2026년3월)'!H44,"","F") | G44: 신봉동 | H44: =SUM(I44:L44) -> 17519 | I44: 16753 | J44: 204 | K44: 523 | L44: 39
A45: 죽전동 | B45: =SUM(C45:E45) -> 28577 | C45: 36 | D45: 28051 | E45: 490 | F45: =IF(B45='자동차등록현황1(2026년3월)'!H45,"","F") | G45: 죽전동 | H45: =SUM(I45:L45) -> 28577 | I45: 27080 | J45: 346 | K45: 1092 | L45: 59
A46: 동천동 | B46: =SUM(C46:E46) -> 20549 | C46: 1 | D46: 19774 | E46: 774 | F46: =IF(B46='자동차등록현황1(2026년3월)'!H46,"","F") | G46: 동천동 | H46: =SUM(I46:L46) -> 20549 | I46: 18950 | J46: 182 | K46: 1378 | L46: 39
A47: 고기동 | B47: =SUM(C47:E47) -> 2170 | C47: 0 | D47: 2165 | E47: 5 | F47: =IF(B47='자동차등록현황1(2026년3월)'!H47,"","F") | G47: 고기동 | H47: =SUM(I47:L47) -> 2170 | I47: 1943 | J47: 54 | K47: 161 | L47: 12
A48: 상현동 | B48: =SUM(C48:E48) -> 32613 | C48: 1 | D48: 32335 | E48: 277 | F48: =IF(B48='자동차등록현황1(2026년3월)'!H48,"","F") | G48: 상현동 | H48: =SUM(I48:L48) -> 32613 | I48: 30991 | J48: 389 | K48: 1183 | L48: 50
A49: 성복동 | B49: =SUM(C49:E49) -> 23040 | C49: 0 | D49: 22979 | E49: 61 | F49: =IF(B49='자동차등록현황1(2026년3월)'!H49,"","F") | G49: 성복동 | H49: =SUM(I49:L49) -> 23040 | I49: 22185 | J49: 216 | K49: 604 | L49: 35

Sheet 자동차등록현황2(2026년3월)
A1: 3. 차종별·용도별 현황
P2: (단위:대)
A3: 구 분 | B3: 합 계 | C3: 관 용 | H3: 자 가 용 | M3: 영 업 용
C4: 소계 | D4: 승용 | E4: 승합 | F4: 화물 | G4: 특수 | H4: 소계 | I4: 승용 | J4: 승합 | K4: 화물 | L4: 특수 | M4: 소계 | N4: 승용 | O4: 승합 | P4: 화물 | Q4: 특수
A5: 용인시 | B5: =SUM(B6:B8) -> 532611 | C5: =SUM(C6:C8) -> 1058 | D5: =SUM(D6:D8) -> 504 | E5: =SUM(E6:E8) -> 214 | F5: =SUM(F6:F8) -> 306 | G5: =SUM(G6:G8) -> 34 | H5: =SUM(H6:H8) -> 511674 | I5: =SUM(I6:I8) -> 463998 | ... Q5: =SUM(Q6:Q8) -> 905
A6: 처인구 | B6: =C6+H6+M6 -> 166991 | C6: =SUM(D6:G6) -> 849 | D6: 431 | E6: 159 | F6: 239 | G6: 20 | H6: =SUM(I6:L6) -> 157496 | I6: 131369 | J6: 3549 | K6: 21805 | L6: 773 | M6: =SUM(N6:Q6) -> 8646 | N6: 1748 | O6: 1587 | P6: 4847 | Q6: 464 | R6: =B6-'자동차등록현황1(2026년3월)'!B5 -> 0
A7: 기흥구 | B7: =C7+H7+M7 -> 212388 | C7: =SUM(D7:G7) -> 148 | D7: 48 | E7: 40 | F7: 46 | G7: 14 | H7: =SUM(I7:L7) -> 203378 | I7: 188321 | J7: 3028 | K7: 11511 | L7: 518 | M7: =SUM(N7:Q7) -> 8862 | N7: 3925 | O7: 893 | P7: 3654 | Q7: 390 | R7: =B7-'자동차등록현황1(2026년3월)'!B23 -> 0
A8: 수지구 | B8: =C8+H8+M8 -> 153232 | C8: =SUM(D8:G8) -> 61 | D8: 25 | E8: 15 | F8: 21 | G8: 0 | H8: =SUM(I8:L8) -> 150800 | I8: 144308 | J8: 1621 | K8: 4649 | L8: 222 | M8: =SUM(N8:Q8) -> 2371 | N8: 875 | O8: 68 | P8: 1377 | Q8: 51 | R8: =B8-'자동차등록현황1(2026년3월)'!B42 -> 0
A12: 4. 연료별∙차종별 현황(수소, 전기, 하이브리드)
P13: (단위:대)
A14: 구 분 | B14: 합 계 | C14: 처인구 | H14: 기흥구 | M14: 수지구
C15: 소계 | D15: 승용 | E15: 승합 | F15: 화물 | G15: 특수 | H15: 소계 | I15: 승용 | J15: 승합 | K15: 화물 | L15: 특수 | M15: 소계 | N15: 승용 | O15: 승합 | P15: 화물 | Q15: 특수
A16: 합계 | B16: =SUM(B17,B18,B19) -> 84675 | C16: =SUM(C17,C18,C19) -> 20956 | D16: =SUM(D17,D18,D19) -> 19540 | E16: =SUM(E17,E18,E19) -> 317 | F16: =SUM(F17,F18,F19) -> 1087 | G16: =SUM(G17,G18,G19) -> 12 | H16: =SUM(H17,H18,H19) -> 34947 | I16: =SUM(I17,I18,I19) -> 34082 | ... Q16: =SUM(Q17,Q18,Q19) -> 5
A17: 수소 | B17: =C17+H17+M17 -> 773 | C17: =SUM(D17:G17) -> 240 | D17: 231 | E17: 9 | F17: 0 | G17: 0 | H17: =SUM(I17:L17) -> 350 | I17: 350 | J17: 0 | K17: 0 | L17: 0 | M17: =SUM(N17:Q17) -> 183 | N17: 183 | O17: 0 | P17: 0 | Q17: 0
A18: 전기 | B18: =C18+H18+M18 -> 21649 | C18: =SUM(D18:G18) -> 5991 | D18: 4658 | E18: 277 | F18: 1044 | G18: 12 | H18: =SUM(I18:L18) -> 9118 | I18: 8340 | J18: 33 | K18: 741 | L18: 4 | M18: =SUM(N18:Q18) -> 6540 | N18: 6272 | O18: 3 | P18: 263 | Q18: 2
A19: 하이브리드 | B19: =C19+H19+M19 -> 62253 | C19: =SUM(D19:G19) -> 14725 | D19: 14651 | E19: 31 | F19: 43 | G19: 0 | H19: =SUM(I19:L19) -> 25479 | I19: 25392 | J19: 37 | K19: 49 | L19: 1 | M19: =SUM(N19:Q19) -> 22049 | N19: 21991 | O19: 18 | P19: 37 | Q19: 3

Sheet 건설기계등록현황3(2026년3월)
A1: 5. 건설장비 종류별∙용도별 현황
I2: (단위:대)
A3: 구분 | B3: 합 계 | C3: 불도저 | D3: 굴착기 | E3: 로더 | F3: 지게차 | G3: 덤프트럭 | H3: 기중기 | I3: 롤러 | J3: 기타
A4: 용인시 | B4: 9264 | C4: 22 | D4: 1909 | E4: 427 | F4: 4183 | G4: 770 | H4: 656 | I4: 64 | J4: 1233
A6: 건 설 기 계
A7: 소 계 | B7: 관용 | C7: 자가용 | D7: 영업용
A8: =SUM(B8:D8) -> 9264 | B8: =SUM(B9:B11) -> 41 | C8: =SUM(C9:C11) -> 3111 | D8: =SUM(D9:D11) -> 6112
A9: 기흥구 | B9: 13 | C9: 439 | D9: 1067
A10: 수지구 | B10: 2 | C10: 141 | D10: 72
A11: 처인구 | B11: 26 | C11: 2531 | D11: 4973
