Workbook

Sheet 2026년 3월 말 인구
A2: 2026. 3월 말 우리시 인구 및 세대 현황 | M2: 현월 인구현황
A3: (용 인 시) | I3: 2026.3.31. 현재
A5: 읍면동별 | B5: 전년말인구 | C5: 읍면동별 | D5: 전월말인구 | E5: 인구(2026.3.31.) | H5: 전월말 대비 인구증감 | I5: 전월말대비 인구증감율(%) | J5: 전월말세대수 | K5: 세대수 | L5: 전월말 대비 세대수증감 | M5: 읍면동별 | N5: 전월말 내국인 인구 | O5: 내국인 인구(2026.3.31.) | R5: 전월말 대비 내국인 인구 증감 | S5: 전월말 외국인 인구 | T5: 외국인 인구(2026.3.31.) | W5: 전월말 대비 외국인 인구 증감 | X5: 비 고
A6: ('19.12.31.) | D6: (2026.2.28.) | E6: 계 | F6: 남 | G6: 여 | J6: (2026.2.28.) | N6: (2026.2.28.) | O6: 계 | P6: 남 | Q6: 여 | S6: (2026.2.28.) | T6: 계 | U6: 남 | V6: 여
A7: 계 | B7: =SUM(B8,B22,B38) -> 1078591 | C7: 계 | D7: 1112126 | E7: =SUM(F7:G7) -> 1112130 | F7: =SUM(F8,F22,F38) -> 552377 | G7: =SUM(G8,G22,G38) -> 559753 | H7: =H8+H22+H38 -> 4 | I7: =H7/D7*100 -> 0.00035967148 | J7: 449622 | K7: =SUM(K8,K22,K38) -> 450227 | L7: =SUM(L8,L22,L38) -> 605 | M7: 계 | N7: 1090776 | O7: =SUM(P7:Q7) -> 1090420 | P7: =SUM(P8,P22,P38) -> 539956 | Q7: =SUM(Q8,Q22,Q38) -> 550464 | R7: =O7-N7 -> -356 | S7: 21350 | T7: =SUM(U7:V7) -> 21710 | U7: ='읍면동별인구구성비 (외국인)'!C5 -> 12421 | V7: ='읍면동별인구구성비 (외국인)'!D5 -> 9289 | W7: =T7-S7 -> 360
A8: 처인구 | B8: 264506 | C8: 처인구 | D8: 295494 | E8: =SUM(E9:E21) -> 296561 | F8: =SUM(F9:F21) -> 153450 | G8: =SUM(G9:G21) -> 143111 | H8: =E8-D8 -> 1067 | I8: =H8/D8*100 -> 0.36109024 | J8: 129890 | K8: =SUM(K9:K21) -> 130602 | L8: =SUM(L9:L21) -> 712 | M8: 처인구 | N8: 283119 | O8: =SUM(P8:Q8) -> 284132 | P8: =SUM(P9:P21) -> 145311 | Q8: =SUM(Q9:Q21) -> 138821 | R8: =O8-N8 -> 1013 | S8: 12375 | T8: =SUM(U8:V8) -> 12429 | U8: =SUM(U9:U21) -> 8139 | V8: =SUM(V9:V21) -> 4290 | W8: =T8-S8 -> 54
A9: 포곡읍 | B9: 33705 | C9: 포곡읍 | D9: 31565 | E9: =SUM(F9:G9) -> 31573 | F9: =P9+U9 -> 16428 | G9: =Q9+V9 -> 15145 | H9: =E9-D9 -> 8 | I9: =H9/D9*100 -> 0.025344527 | J9: 14100 | K9: 14124 | L9: =K9-J9 -> 24 | M9: 포곡읍 | N9: 30694 | O9: =SUM(P9:Q9) -> 30699 | P9: 15879 | Q9: 14820 | R9: =O9-N9 -> 5 | S9: 871 | T9: =SUM(U9:V9) -> 874 | U9: ='읍면동별인구구성비 (외국인)'!C7 -> 549 | V9: ='읍면동별인구구성비 (외국인)'!D7 -> 325 | W9: =T9-S9 -> 3
A10: 모현읍 | B10: 27325 | C10: 모현읍 | D10: 36196 | E10: =SUM(F10:G10) -> 36299 | F10: =P10+U10 -> 18980 | G10: =Q10+V10 -> 17319 | H10: =E10-D10 -> 103 | I10: =H10/D10*100 -> 0.28456183 | J10: 15841 | K10: 15905 | L10: =K10-J10 -> 64 | M10: 모현읍 | N10: 34446 | O10: =SUM(P10:Q10) -> 34530 | P10: 17779 | Q10: 16751 | R10: =O10-N10 -> 84 | S10: 1750 | T10: =SUM(U10:V10) -> 1769 | U10: ='읍면동별인구구성비 (외국인)'!C8 -> 1201 | V10: ='읍면동별인구구성비 (외국인)'!D8 -> 568 | W10: =T10-S10 -> 19
A11: 이동읍 | B11: 21360 | C11: 이동읍 | D11: 20565 | E11: =SUM(F11:G11) -> 20462 | F11: =P11+U11 -> 10927 | G11: =Q11+V11 -> 9535 | H11: =E11-D11 -> -103 | I11: =H11/D11*100 -> -0.50085096 | J11: 8868 | K11: 8846 | L11: =K11-J11 -> -22 | M11: 이동읍 | N11: 18846 | O11: =SUM(P11:Q11) -> 18741 | P11: 9668 | Q11: 9073 | R11: =O11-N11 -> -105 | S11: 1719 | T11: =SUM(U11:V11) -> 1721 | U11: ='읍면동별인구구성비 (외국인)'!C9 -> 1259 | V11: ='읍면동별인구구성비 (외국인)'!D9 -> 462 | W11: =T11-S11 -> 2
A12: 남사면 | B12: 23762 | C12: 남사읍 | D12: 24574 | E12: =SUM(F12:G12) -> 24565 | F12: =P12+U12 -> 12727 | G12: =Q12+V12 -> 11838 | H12: =E12-D12 -> -9 | I12: =H12/D12*100 -> -0.036624074 | J12: 9963 | K12: 9958 | L12: =K12-J12 -> -5 | M12: 남사읍 | N12: 23460 | O12: =SUM(P12:Q12) -> 23430 | P12: 11863 | Q12: 11567 | R12: =O12-N12 -> -30 | S12: 1114 | T12: =SUM(U12:V12) -> 1135 | U12: ='읍면동별인구구성비 (외국인)'!C10 -> 864 | V12: ='읍면동별인구구성비 (외국인)'!D10 -> 271 | W12: =T12-S12 -> 21
C13: 양지읍 | D13: 22052 | E13: =SUM(F13:G13) -> 22007 | F13: =P13+U13 -> 11663 | G13: =Q13+V13 -> 10344 | H13: =E13-D13 -> -45 | I13: =H13/D13*100 -> -0.20406312 | J13: 10516 | K13: 10503 | L13: =K13-J13 -> -13 | M13: 양지읍 | N13: 21332 | O13: =SUM(P13:Q13) -> 21286 | P13: 11180 | Q13: 10106 | R13: =O13-N13 -> -46 | S13: 720 | T13: =SUM(U13:V13) -> 721 | U13: ='읍면동별인구구성비 (외국인)'!C11 -> 483 | V13: ='읍면동별인구구성비 (외국인)'!D11 -> 238 | W13: =T13-S13 -> 1
A14: 원삼면 | B14: 8870 | C14: 원삼면 | D14: 8116 | E14: =SUM(F14:G14) -> 8099 | F14: =P14+U14 -> 4460 | G14: =Q14+V14 -> 3639 | H14: =E14-D14 -> -17 | I14: =H14/D14*100 -> -0.20946279 | J14: 3828 | K14: 3844 | L14: =K14-J14 -> 16 | M14: 원삼면 | N14: 7406 | O14: =SUM(P14:Q14) -> 7400 | P14: 3901 | Q14: 3499 | R14: =O14-N14 -> -6 | S14: 710 | T14: =SUM(U14:V14) -> 699 | U14: ='읍면동별인구구성비 (외국인)'!C12 -> 559 | V14: ='읍면동별인구구성비 (외국인)'!D12 -> 140 | W14: =T14-S14 -> -11
A15: 백암면 | B15: 9178 | C15: 백암면 | D15: 8517 | E15: =SUM(F15:G15) -> 8507 | F15: =P15+U15 -> 4933 | G15: =Q15+V15 -> 3574 | H15: =E15-D15 -> -10 | I15: =H15/D15*100 -> -0.11741223 | J15: 4199 | K15: 4210 | L15: =K15-J15 -> 11 | M15: 백암면 | N15: 7509 | O15: =SUM(P15:Q15) -> 7505 | P15: 4101 | Q15: 3404 | R15: =O15-N15 -> -4 | S15: 1008 | T15: =SUM(U15:V15) -> 1002 | U15: ='읍면동별인구구성비 (외국인)'!C13 -> 832 | V15: ='읍면동별인구구성비 (외국인)'!D13 -> 170 | W15: =T15-S15 -> -6
A16: 중앙동 | B16: 26300 | C16: 중앙동 | D16: 28868 | E16: =SUM(F16:G16) -> 28895 | F16: =P16+U16 -> 14703 | G16: =Q16+V16 -> 14192 | H16: =E16-D16 -> 27 | I16: =H16/D16*100 -> 0.093529167 | J16: 13612 | K16: 13647 | L16: =K16-J16 -> 35 | M16: 중앙동 | N16: 26797 | O16: =SUM(P16:Q16) -> 26798 | P16: 13552 | Q16: 13246 | R16: =O16-N16 -> 1 | S16: 2071 | T16: =SUM(U16:V16) -> 2097 | U16: ='읍면동별인구구성비 (외국인)'!C14 -> 1151 | V16: ='읍면동별인구구성비 (외국인)'!D14 -> 946 | W16: =T16-S16 -> 26
C17: 역북동 | D17: 35350 | E17: =SUM(F17:G17) -> 35318 | F17: =P17+U17 -> 17793 | G17: =Q17+V17 -> 17525 | H17: =E17-D17 -> -32 | I17: =H17/D17*100 -> -0.090523338 | J17: 15754 | K17: 15801 | L17: =K17-J17 -> 47 | M17: 역북동 | N17: 34637 | O17: =SUM(P17:Q17) -> 34606 | P17: 17446 | Q17: 17160 | R17: =O17-N17 -> -31 | S17: 713 | T17: =SUM(U17:V17) -> 712 | U17: ='읍면동별인구구성비 (외국인)'!C15 -> 347 | V17: ='읍면동별인구구성비 (외국인)'!D15 -> 365 | W17: =T17-S17 -> -1
C18: 삼가동 | D18: 14166 | E18: =SUM(F18:G18) -> 15378 | F18: =P18+U18 -> 7668 | G18: =Q18+V18 -> 7710 | H18: =E18-D18 -> 1212 | I18: =H18/D18*100 -> 8.5556967 | J18: 5723 | K18: 6250 | L18: =K18-J18 -> 527 | M18: 삼가동 | N18: 14080 | O18: =SUM(P18:Q18) -> 15285 | P18: 7627 | Q18: 7658 | R18: =O18-N18 -> 1205 | S18: 86 | T18: =SUM(U18:V18) -> 93 | U18: ='읍면동별인구구성비 (외국인)'!C16 -> 41 | V18: ='읍면동별인구구성비 (외국인)'!D16 -> 52 | W18: =T18-S18 -> 7
C19: 유림1동 | D19: 13730 | E19: =SUM(F19:G19) -> 13698 | F19: =P19+U19 -> 6968 | G19: =Q19+V19 -> 6730 | H19: =E19-D19 -> -32 | I19: =H19/D19*100 -> -0.23306628 | J19: 6540 | K19: 6529 | L19: =K19-J19 -> -11 | M19: 유림1동 | N19: 13408 | O19: =SUM(P19:Q19) -> 13376 | P19: 6788 | Q19: 6588 | R19: =O19-N19 -> -32 | S19: 322 | T19: =SUM(U19:V19) -> 322 | U19: ='읍면동별인구구성비 (외국인)'!C17 -> 180 | V19: ='읍면동별인구구성비 (외국인)'!D17 -> 142 | W19: =T19-S19 -> 0
A20: 유림동 | B20: 36327 | C20: 유림2동 | D20: 38754 | E20: =SUM(F20:G20) -> 38708 | F20: =P20+U20 -> 19464 | G20: =Q20+V20 -> 19244 | H20: =E20-D20 -> -46 | I20: =H20/D20*100 -> -0.11869742 | J20: 14879 | K20: 14880 | L20: =K20-J20 -> 1 | M20: 유림2동 | N20: 38269 | O20: =SUM(P20:Q20) -> 38223 | P20: 19217 | Q20: 19006 | R20: =O20-N20 -> -46 | S20: 485 | T20: =SUM(U20:V20) -> 485 | U20: ='읍면동별인구구성비 (외국인)'!C18 -> 247 | V20: ='읍면동별인구구성비 (외국인)'!D18 -> 238 | W20: =T20-S20 -> 0
A21: 동부동 | B21: 14090 | C21: 동부동 | D21: 13041 | E21: =SUM(F21:G21) -> 13052 | F21: =P21+U21 -> 6736 | G21: =Q21+V21 -> 6316 | H21: =E21-D21 -> 11 | I21: =H21/D21*100 -> 0.08434936 | J21: 6067 | K21: 6105 | L21: =K21-J21 -> 38 | M21: 동부동 | N21: 12235 | O21: =SUM(P21:Q21) -> 12253 | P21: 6310 | Q21: 5943 | R21: =O21-N21 -> 18 | S21: 806 | T21: =SUM(U21:V21) -> 799 | U21: ='읍면동별인구구성비 (외국인)'!C19 -> 426 | V21: ='읍면동별인구구성비 (외국인)'!D19 -> 373 | W21: =T21-S21 -> -7
A22: 기흥구 | B22: =SUM(B23:B37) -> 441870 | C22: 기흥구 | D22: 440148 | E22: =SUM(F22:G22) -> 440183 | F22: =SUM(F23:F37) -> 216595 | G22: =SUM(G23:G37) -> 223588 | H22: =E22-D22 -> 35 | I22: =H22/D22*100 -> 0.0079518707 | J22: 177394 | K22: =SUM(K23:K37) -> 177603 | L22: =SUM(L23:L37) -> 209 | M22: 기흥구 | N22: 434349 | O22: =SUM(P22:Q22) -> 434263 | P22: =SUM(P23:P37) -> 213707 | Q22: =SUM(Q23:Q37) -> 220556 | R22: =O22-N22 -> -86 | S22: 5799 | T22: =SUM(U22:V22) -> 5920 | U22: =SUM(U23:U37) -> 2888 | V22: =SUM(V23:V37) -> 3032 | W22: =T22-S22 -> 121
A23: 신갈동 | B23: 39958 | C23: 신갈동 | D23: 36797 | E23: =SUM(F23:G23) -> 36755 | F23: =P23+U23 -> 18328 | G23: =Q23+V23 -> 18427 | H23: =E23-D23 -> -42 | I23: =H23/D23*100 -> -0.11413974 | J23: 16015 | K23: 16037 | L23: =K23-J23 -> 22 | M23: 신갈동 | N23: 36044 | O23: =SUM(P23:Q23) -> 36008 | P23: 17939 | Q23: 18069 | R23: =O23-N23 -> -36 | S23: 753 | T23: =SUM(U23:V23) -> 747 | U23: ='읍면동별인구구성비 (외국인)'!C21 -> 389 | V23: ='읍면동별인구구성비 (외국인)'!D21 -> 358 | W23: =T23-S23 -> -6
A24: 영덕동 | B24: 47348 | C24: 영덕1동 | D24: 34457 | E24: =SUM(F24:G24) -> 34453 | F24: =P24+U24 -> 17059 | G24: =Q24+V24 -> 17394 | H24: =E24-D24 -> -4 | I24: =H24/D24*100 -> -0.011608672 | J24: 13832 | K24: 13819 | L24: =K24-J24 -> -13 | M24: 영덕1동 | N24: 34192 | O24: =SUM(P24:Q24) -> 34191 | P24: 16951 | Q24: 17240 | R24: =O24-N24 -> -1 | S24: 265 | T24: =SUM(U24:V24) -> 262 | U24: ='읍면동별인구구성비 (외국인)'!C22 -> 108 | V24: ='읍면동별인구구성비 (외국인)'!D22 -> 154 | W24: =T24-S24 -> -3
C25: 영덕2동 | D25: 19217 | E25: =SUM(F25:G25) -> 19236 | F25: =P25+U25 -> 9474 | G25: =Q25+V25 -> 9762 | H25: =E25-D25 -> 19 | I25: =H25/D25*100 -> 0.098870791 | J25: 7954 | K25: 7964 | L25: =K25-J25 -> 10 | M25: 영덕2동 | N25: 19070 | O25: =SUM(P25:Q25) -> 19086 | P25: 9391 | Q25: 9695 | R25: =O25-N25 -> 16 | S25: 147 | T25: =SUM(U25:V25) -> 150 | U25: ='읍면동별인구구성비 (외국인)'!C23 -> 83 | V25: ='읍면동별인구구성비 (외국인)'!D23 -> 67 | W25: =T25-S25 -> 3
A26: 구갈동 | B26: 43136 | C26: 구갈동 | D26: 41199 | E26: =SUM(F26:G26) -> 41249 | F26: =P26+U26 -> 20848 | G26: =Q26+V26 -> 20401 | H26: =E26-D26 -> 50 | I26: =H26/D26*100 -> 0.12136217 | J26: 18045 | K26: 18077 | L26: =K26-J26 -> 32 | M26: 구갈동 | N26: 39803 | O26: =SUM(P26:Q26) -> 39810 | P26: 20122 | Q26: 19688 | R26: =O26-N26 -> 7 | S26: 1396 | T26: =SUM(U26:V26) -> 1439 | U26: ='읍면동별인구구성비 (외국인)'!C24 -> 726 | V26: ='읍면동별인구구성비 (외국인)'!D24 -> 713 | W26: =T26-S26 -> 43
A27: 상갈동 | B27: 47303 | C27: 상갈동 | D27: 12780 | E27: =SUM(F27:G27) -> 12798 | F27: =P27+U27 -> 6610 | G27: =Q27+V27 -> 6188 | H27: =E27-D27 -> 18 | I27: =H27/D27*100 -> 0.14084507 | J27: 6120 | K27: 6142 | L27: =K27-J27 -> 22 | M27: 상갈동 | N27: 12445 | O27: =SUM(P27:Q27) -> 12467 | P27: 6427 | Q27: 6040 | R27: =O27-N27 -> 22 | S27: 335 | T27: =SUM(U27:V27) -> 331 | U27: ='읍면동별인구구성비 (외국인)'!C25 -> 183 | V27: ='읍면동별인구구성비 (외국인)'!D25 -> 148 | W27: =T27-S27 -> -4
C28: 보라동 | D28: 32642 | E28: =SUM(F28:G28) -> 32669 | F28: =P28+U28 -> 16120 | G28: =Q28+V28 -> 16549 | H28: =E28-D28 -> 27 | I28: =H28/D28*100 -> 0.08271552 | J28: 12572 | K28: 12574 | L28: =K28-J28 -> 2 | M28: 보라동 | N28: 32397 | O28: =SUM(P28:Q28) -> 32429 | P28: 15999 | Q28: 16430 | R28: =O28-N28 -> 32 | S28: 245 | T28: =SUM(U28:V28) -> 240 | U28: ='읍면동별인구구성비 (외국인)'!C26 -> 121 | V28: ='읍면동별인구구성비 (외국인)'!D26 -> 119 | W28: =T28-S28 -> -5
A29: 기흥동 | B29: 21313 | C29: 기흥동 | D29: 20953 | E29: =SUM(F29:G29) -> 20936 | F29: =P29+U29 -> 10372 | G29: =Q29+V29 -> 10564 | H29: =E29-D29 -> -17 | I29: =H29/D29*100 -> -0.081133966 | J29: 9111 | K29: 9117 | L29: =K29-J29 -> 6 | M29: 기흥동 | N29: 20649 | O29: =SUM(P29:Q29) -> 20634 | P29: 10194 | Q29: 10440 | R29: =O29-N29 -> -15 | S29: 304 | T29: =SUM(U29:V29) -> 302 | U29: ='읍면동별인구구성비 (외국인)'!C27 -> 178 | V29: ='읍면동별인구구성비 (외국인)'!D27 -> 124 | W29: =T29-S29 -> -2
A30: 서농동 | B30: 26321 | C30: 서농동 | D30: 25536 | E30: =SUM(F30:G30) -> 25735 | F30: =P30+U30 -> 12944 | G30: =Q30+V30 -> 12791 | H30: =E30-D30 -> 199 | I30: =H30/D30*100 -> 0.77929198 | J30: 10949 | K30: 11027 | L30: =K30-J30 -> 78 | M30: 서농동 | N30: 24409 | O30: =SUM(P30:Q30) -> 24492 | P30: 12405 | Q30: 12087 | R30: =O30-N30 -> 83 | S30: 1127 | T30: =SUM(U30:V30) -> 1243 | U30: ='읍면동별인구구성비 (외국인)'!C28 -> 539 | V30: ='읍면동별인구구성비 (외국인)'!D28 -> 704 | W30: =T30-S30 -> 116
A31: 구성동 | B31: 39716 | C31: 구성동 | D31: 38489 | E31: =SUM(F31:G31) -> 38443 | F31: =P31+U31 -> 18404 | G31: =Q31+V31 -> 20039 | H31: =E31-D31 -> -46 | I31: =H31/D31*100 -> -0.11951467 | J31: 15312 | K31: 15334 | L31: =K31-J31 -> 22 | M31: 구성동 | N31: 38324 | O31: =SUM(P31:Q31) -> 38279 | P31: 18342 | Q31: 19937 | R31: =O31-N31 -> -45 | S31: 165 | T31: =SUM(U31:V31) -> 164 | U31: ='읍면동별인구구성비 (외국인)'!C29 -> 62 | V31: ='읍면동별인구구성비 (외국인)'!D29 -> 102 | W31: =T31-S31 -> -1
A32: 마북동 | B32: 32477 | C32: 마북동 | D32: 33772 | E32: =SUM(F32:G32) -> 33759 | F32: =P32+U32 -> 16484 | G32: =Q32+V32 -> 17275 | H32: =E32-D32 -> -13 | I32: =H32/D32*100 -> -0.038493427 | J32: 13173 | K32: 13174 | L32: =K32-J32 -> 1 | M32: 마북동 | N32: 33539 | O32: =SUM(P32:Q32) -> 33526 | P32: 16377 | Q32: 17149 | R32: =O32-N32 -> -13 | S32: 233 | T32: =SUM(U32:V32) -> 233 | U32: ='읍면동별인구구성비 (외국인)'!C30 -> 107 | V32: ='읍면동별인구구성비 (외국인)'!D30 -> 126 | W32: =T32-S32 -> 0
A33: 동백동 | B33: 82922 | C33: 동백1동 | D33: 30977 | E33: =SUM(F33:G33) -> 30922 | F33: =P33+U33 -> 14787 | G33: =Q33+V33 -> 16135 | H33: =E33-D33 -> -55 | I33: =H33/D33*100 -> -0.17755109 | J33: 11611 | K33: 11624 | L33: =K33-J33 -> 13 | M33: 동백1동 | N33: 30852 | O33: =SUM(P33:Q33) -> 30802 | P33: 14746 | Q33: 16056 | R33: =O33-N33 -> -50 | S33: 125 | T33: =SUM(U33:V33) -> 120 | U33: ='읍면동별인구구성비 (외국인)'!C31 -> 41 | V33: ='읍면동별인구구성비 (외국인)'!D31 -> 79 | W33: =T33-S33 -> -5
C34: 동백2동 | D34: 26138 | E34: =SUM(F34:G34) -> 26108 | F34: =P34+U34 -> 12788 | G34: =Q34+V34 -> 13320 | H34: =E34-D34 -> -30 | I34: =H34/D34*100 -> -0.11477542 | J34: 9412 | K34: 9418 | L34: =K34-J34 -> 6 | M34: 동백2동 | N34: 26037 | O34: =SUM(P34:Q34) -> 26007 | P34: 12742 | Q34: 13265 | R34: =O34-N34 -> -30 | S34: 101 | T34: =SUM(U34:V34) -> 101 | U34: ='읍면동별인구구성비 (외국인)'!C32 -> 46 | V34: ='읍면동별인구구성비 (외국인)'!D32 -> 55 | W34: =T34-S34 -> 0
C35: 동백3동 | D35: 27610 | E35: =SUM(F35:G35) -> 27668 | F35: =P35+U35 -> 13446 | G35: =Q35+V35 -> 14222 | H35: =E35-D35 -> 58 | I35: =H35/D35*100 -> 0.21006882 | J35: 10484 | K35: 10512 | L35: =K35-J35 -> 28 | M35: 동백3동 | N35: 27475 | O35: =SUM(P35:Q35) -> 27536 | P35: 13386 | Q35: 14150 | R35: =O35-N35 -> 61 | S35: 135 | T35: =SUM(U35:V35) -> 132 | U35: ='읍면동별인구구성비 (외국인)'!C33 -> 60 | V35: ='읍면동별인구구성비 (외국인)'!D33 -> 72 | W35: =T35-S35 -> -3
A36: 상하동 | B36: 25097 | C36: 상하동 | D36: 23145 | E36: =SUM(F36:G36) -> 23045 | F36: =P36+U36 -> 11139 | G36: =Q36+V36 -> 11906 | H36: =E36-D36 -> -100 | I36: =H36/D36*100 -> -0.43205876 | J36: 9142 | K36: 9129 | L36: =K36-J36 -> -13 | M36: 상하동 | N36: 22890 | O36: =SUM(P36:Q36) -> 22800 | P36: 10989 | Q36: 11811 | R36: =O36-N36 -> -90 | S36: 255 | T36: =SUM(U36:V36) -> 245 | U36: ='읍면동별인구구성비 (외국인)'!C34 -> 150 | V36: ='읍면동별인구구성비 (외국인)'!D34 -> 95 | W36: =T36-S36 -> -10
A37: 보정동 | B37: 36279 | C37: 보정동 | D37: 36436 | E37: =SUM(F37:G37) -> 36407 | F37: =P37+U37 -> 17792 | G37: =Q37+V37 -> 18615 | H37: =E37-D37 -> -29 | I37: =H37/D37*100 -> -0.079591613 | J37: 13662 | K37: 13655 | L37: =K37-J37 -> -7 | M37: 보정동 | N37: 36223 | O37: =SUM(P37:Q37) -> 36196 | P37: 17697 | Q37: 18499 | R37: =O37-N37 -> -27 | S37: 213 | T37: =SUM(U37:V37) -> 211 | U37: ='읍면동별인구구성비 (외국인)'!C35 -> 95 | V37: ='읍면동별인구구성비 (외국인)'!D35 -> 116 | W37: =T37-S37 -> -2
A38: 수지구 | B38: =SUM(B39:B49) -> 372215 | C38: 수지구 | D38: 376484 | E38: =SUM(F38:G38) -> 375386 | F38: =SUM(F39:F49) -> 182332 | G38: =SUM(G39:G49) -> 193054 | H38: =E38-D38 -> -1098 | I38: =H38/D38*100 -> -0.29164586 | J38: 142338 | K38: =SUM(K39:K49) -> 142022 | L38: =SUM(L39:L49) -> -316 | M38: 수지구 | N38: 373308 | O38: =SUM(P38:Q38) -> 372025 | P38: =SUM(P39:P49) -> 180938 | Q38: =SUM(Q39:Q49) -> 191087 | R38: =O38-N38 -> -1283 | S38: 3176 | T38: =SUM(T39:T49) -> 3361 | U38: =SUM(U39:U49) -> 1394 | V38: =SUM(V39:V49) -> 1967 | W38: =T38-S38 -> 185
A39: 풍덕천1동 | B39: 36536 | C39: 풍덕천1동 | D39: 34481 | E39: =SUM(F39:G39) -> 33401 | F39: =P39+U39 -> 16693 | G39: =Q39+V39 -> 16708 | H39: =E39-D39 -> -1080 | I39: =H39/D39*100 -> -3.1321597 | J39: 15391 | K39: 14929 | L39: =K39-J39 -> -462 | M39: 풍덕천1동 | N39: 33894 | O39: =SUM(P39:Q39) -> 32809 | P39: 16416 | Q39: 16393 | R39: =O39-N39 -> -1085 | S39: 587 | T39: =SUM(U39:V39) -> 592 | U39: ='읍면동별인구구성비 (외국인)'!C37 -> 277 | V39: ='읍면동별인구구성비 (외국인)'!D37 -> 315 | W39: =T39-S39 -> 5
A40: 풍덕천2동 | B40: 42320 | C40: 풍덕천2동 | D40: 41490 | E40: =SUM(F40:G40) -> 41475 | F40: =P40+U40 -> 20379 | G40: =Q40+V40 -> 21096 | H40: =E40-D40 -> -15 | I40: =H40/D40*100 -> -0.03615329 | J40: 15399 | K40: 15401 | L40: =K40-J40 -> 2 | M40: 풍덕천2동 | N40: 41233 | O40: =SUM(P40:Q40) -> 41224 | P40: 20275 | Q40: 20949 | R40: =O40-N40 -> -9 | S40: 257 | T40: =SUM(U40:V40) -> 251 | U40: ='읍면동별인구구성비 (외국인)'!C38 -> 104 | V40: ='읍면동별인구구성비 (외국인)'!D38 -> 147 | W40: =T40-S40 -> -6
A41: 신봉동 | B41: 38017 | C41: 신봉동 | D41: 41184 | E41: =SUM(F41:G41) -> 41157 | F41: =P41+U41 -> 19877 | G41: =Q41+V41 -> 21280 | H41: =E41-D41 -> -27 | I41: =H41/D41*100 -> -0.065559441 | J41: 14768 | K41: 14772 | L41: =K41-J41 -> 4 | M41: 신봉동 | N41: 41042 | O41: =SUM(P41:Q41) -> 41008 | P41: 19806 | Q41: 21202 | R41: =O41-N41 -> -34 | S41: 142 | T41: =SUM(U41:V41) -> 149 | U41: ='읍면동별인구구성비 (외국인)'!C39 -> 71 | V41: ='읍면동별인구구성비 (외국인)'!D39 -> 78 | W41: =T41-S41 -> 7
A42: 죽전1동 | B42: 58535 | C42: 죽전1동 | D42: 29104 | E42: =SUM(F42:G42) -> 29109 | F42: =P42+U42 -> 14059 | G42: =Q42+V42 -> 15050 | H42: =E42-D42 -> 5 | I42: =H42/D42*100 -> 0.017179769 | J42: 11082 | K42: 11103 | L42: =K42-J42 -> 21 | M42: 죽전1동 | N42: 28936 | O42: =SUM(P42:Q42) -> 28944 | P42: 13993 | Q42: 14951 | R42: =O42-N42 -> 8 | S42: 168 | T42: =SUM(U42:V42) -> 165 | U42: ='읍면동별인구구성비 (외국인)'!C40 -> 66 | V42: ='읍면동별인구구성비 (외국인)'!D40 -> 99 | W42: =T42-S42 -> -3
A43: 죽전2동 | B43: 18792 | C43: 죽전2동 | D43: 17136 | E43: =SUM(F43:G43) -> 17106 | F43: =P43+U43 -> 8318 | G43: =Q43+V43 -> 8788 | H43: =E43-D43 -> -30 | I43: =H43/D43*100 -> -0.17507003 | J43: 7142 | K43: 7135 | L43: =K43-J43 -> -7 | M43: 죽전2동 | N43: 17050 | O43: =SUM(P43:Q43) -> 17019 | P43: 8279 | Q43: 8740 | R43: =O43-N43 -> -31 | S43: 86 | T43: =SUM(U43:V43) -> 87 | U43: ='읍면동별인구구성비 (외국인)'!C41 -> 39 | V43: ='읍면동별인구구성비 (외국인)'!D41 -> 48 | W43: =T43-S43 -> 1
C44: 죽전3동 | D44: 27368 | E44: =SUM(F44:G44) -> 27562 | F44: =P44+U44 -> 13241 | G44: =Q44+V44 -> 14321 | H44: =E44-D44 -> 194 | I44: =H44/D44*100 -> 0.70885706 | J44: 11000 | K44: 11074 | L44: =K44-J44 -> 74 | M44: 죽전3동 | N44: 26309 | O44: =SUM(P44:Q44) -> 26320 | P44: 12790 | Q44: 13530 | R44: =O44-N44 -> 11 | S44: 1059 | T44: =SUM(U44:V44) -> 1242 | U44: ='읍면동별인구구성비 (외국인)'!C42 -> 451 | V44: ='읍면동별인구구성비 (외국인)'!D42 -> 791 | W44: =T44-S44 -> 183
A45: 동천동 | B45: 46338 | C45: 동천동 | D45: 51147 | E45: =SUM(F45:G45) -> 51177 | F45: =P45+U45 -> 25111 | G45: =Q45+V45 -> 26066 | H45: =E45-D45 -> 30 | I45: =H45/D45*100 -> 0.058654467 | J45: 19744 | K45: 19784 | L45: =K45-J45 -> 40 | M45: 동천동 | N45: 50755 | O45: =SUM(P45:Q45) -> 50777 | P45: 24914 | Q45: 25863 | R45: =O45-N45 -> 22 | S45: 392 | T45: =SUM(U45:V45) -> 400 | U45: ='읍면동별인구구성비 (외국인)'!C43 -> 197 | V45: ='읍면동별인구구성비 (외국인)'!D43 -> 203 | W45: =T45-S45 -> 8
A46: 상현1동 | B46: 49086 | C46: 상현1동 | D46: 19754 | E46: =SUM(F46:G46) -> 19717 | F46: =P46+U46 -> 9400 | G46: =Q46+V46 -> 10317 | H46: =E46-D46 -> -37 | I46: =H46/D46*100 -> -0.18730384 | J46: 6533 | K46: 6535 | L46: =K46-J46 -> 2 | M46: 상현1동 | N46: 19698 | O46: =SUM(P46:Q46) -> 19661 | P46: 9378 | Q46: 10283 | R46: =O46-N46 -> -37 | S46: 56 | T46: =SUM(U46:V46) -> 56 | U46: ='읍면동별인구구성비 (외국인)'!C44 -> 22 | V46: ='읍면동별인구구성비 (외국인)'!D44 -> 34 | W46: =T46-S46 -> 0
A47: 상현2동 | B47: 34208 | C47: 상현2동 | D47: 32717 | E47: =SUM(F47:G47) -> 32648 | F47: =P47+U47 -> 15803 | G47: =Q47+V47 -> 16845 | H47: =E47-D47 -> -69 | I47: =H47/D47*100 -> -0.21089953 | J47: 11409 | K47: 11408 | L47: =K47-J47 -> -1 | M47: 상현2동 | N47: 32628 | O47: =SUM(P47:Q47) -> 32561 | P47: 15770 | Q47: 16791 | R47: =O47-N47 -> -67 | S47: 89 | T47: =SUM(U47:V47) -> 87 | U47: ='읍면동별인구구성비 (외국인)'!C45 -> 33 | V47: ='읍면동별인구구성비 (외국인)'!D45 -> 54 | W47: =T47-S47 -> -2
C48: 상현3동 | D48: 27322 | E48: =SUM(F48:G48) -> 27312 | F48: =P48+U48 -> 13123 | G48: =Q48+V48 -> 14189 | H48: =E48-D48 -> -10 | I48: =H48/D48*100 -> -0.036600542 | J48: 11088 | K48: 11098 | L48: =K48-J48 -> 10 | M48: 상현3동 | N48: 27196 | O48: =SUM(P48:Q48) -> 27188 | P48: 13088 | Q48: 14100 | R48: =O48-N48 -> -8 | S48: 126 | T48: =SUM(U48:V48) -> 124 | U48: ='읍면동별인구구성비 (외국인)'!C46 -> 35 | V48: ='읍면동별인구구성비 (외국인)'!D46 -> 89 | W48: =T48-S48 -> -2
A49: 성복동 | B49: 48383 | C49: 성복동 | D49: 54781 | E49: =SUM(F49:G49) -> 54722 | F49: =P49+U49 -> 26328 | G49: =Q49+V49 -> 28394 | H49: =E49-D49 -> -59 | I49: =H49/D49*100 -> -0.10770158 | J49: 18782 | K49: 18783 | L49: =K49-J49 -> 1 | M49: 성복동 | N49: 54567 | O49: =SUM(P49:Q49) -> 54514 | P49: 26229 | Q49: 28285 | R49: =O49-N49 -> -53 | S49: 214 | T49: =SUM(U49:V49) -> 208 | U49: ='읍면동별인구구성비 (외국인)'!C47 -> 99 | V49: ='읍면동별인구구성비 (외국인)'!D47 -> 109 | W49: =T49-S49 -> -6
A50: ※ 위의 통계는 행정에 참고하기 위하여 작성된 것으로서 통계법에 의해 승인되지 않은 자료입니다.
A51: ※ 세대수는 내국인 기준입니다.
L52: 0
L53: 0
L54: 0
L55: 0
L56: 0
L57: 0
L58: 0
L59: 0
L60: 0
L61: 0
L62: 0
L63: 0
... L88: 169
A91: ※영덕동 외국인수는 영덕1동, 동백동 외국인은 동백2동으로 집계

Sheet 읍면동별인구구성비 (내국인)
A2: 2026. 3월 말 읍면동별 내국인 인구 구성비
F3: (단위 : 명,세대,%)
A4: 구분 | B4: 인구 | C4: 남 | D4: 여 | E4: 세대수 | F4: 인구 구성비
A5: 용인시 | B5: ='2026년 3월 말 인구'!O7 -> 1090420 | C5: ='2026년 3월 말 인구'!P7 -> 539956 | D5: ='2026년 3월 말 인구'!Q7 -> 550464 | E5: ='2026년 3월 말 인구'!K7 -> 450227 | F5: 100
A6: 처인구 | B6: ='2026년 3월 말 인구'!O8 -> 284132 | C6: ='2026년 3월 말 인구'!P8 -> 145311 | D6: ='2026년 3월 말 인구'!Q8 -> 138821 | E6: ='2026년 3월 말 인구'!K8 -> 130602 | F6: =B6/$B$5*100 -> 26.057116
A7: 포곡읍 | B7: ='2026년 3월 말 인구'!O9 -> 30699 | C7: ='2026년 3월 말 인구'!P9 -> 15879 | D7: ='2026년 3월 말 인구'!Q9 -> 14820 | E7: ='2026년 3월 말 인구'!K9 -> 14124 | F7: =B7/$B$5*100 -> 2.8153372
A8: 모현읍 | B8: ='2026년 3월 말 인구'!O10 -> 34530 | C8: ='2026년 3월 말 인구'!P10 -> 17779 | D8: ='2026년 3월 말 인구'!Q10 -> 16751 | E8: ='2026년 3월 말 인구'!K10 -> 15905 | F8: =B8/$B$5*100 -> 3.1666697
A9: 이동읍 | B9: ='2026년 3월 말 인구'!O11 -> 18741 | C9: ='2026년 3월 말 인구'!P11 -> 9668 | D9: ='2026년 3월 말 인구'!Q11 -> 9073 | E9: ='2026년 3월 말 인구'!K11 -> 8846 | F9: =B9/$B$5*100 -> 1.7186955
A10: 남사읍 | B10: ='2026년 3월 말 인구'!O12 -> 23430 | C10: ='2026년 3월 말 인구'!P12 -> 11863 | D10: ='2026년 3월 말 인구'!Q12 -> 11567 | E10: ='2026년 3월 말 인구'!K12 -> 9958 | F10: =B10/$B$5*100 -> 2.1487133
A11: 양지읍 | B11: ='2026년 3월 말 인구'!O13 -> 21286 | C11: ='2026년 3월 말 인구'!P13 -> 11180 | D11: ='2026년 3월 말 인구'!Q13 -> 10106 | E11: ='2026년 3월 말 인구'!K13 -> 10503 | F11: =B11/$B$5*100 -> 1.9520919
A12: 원삼면 | B12: ='2026년 3월 말 인구'!O14 -> 7400 | C12: ='2026년 3월 말 인구'!P14 -> 3901 | D12: ='2026년 3월 말 인구'!Q14 -> 3499 | E12: ='2026년 3월 말 인구'!K14 -> 3844 | F12: =B12/$B$5*100 -> 0.67863759
A13: 백암면 | B13: ='2026년 3월 말 인구'!O15 -> 7505 | C13: ='2026년 3월 말 인구'!P15 -> 4101 | D13: ='2026년 3월 말 인구'!Q15 -> 3404 | E13: ='2026년 3월 말 인구'!K15 -> 4210 | F13: =B13/$B$5*100 -> 0.68826691
A14: 중앙동 | B14: ='2026년 3월 말 인구'!O16 -> 26798 | C14: ='2026년 3월 말 인구'!P16 -> 13552 | D14: ='2026년 3월 말 인구'!Q16 -> 13246 | E14: ='2026년 3월 말 인구'!K16 -> 13647 | F14: =B14/$B$5*100 -> 2.4575852
A15: 역북동 | B15: ='2026년 3월 말 인구'!O17 -> 34606 | C15: ='2026년 3월 말 인구'!P17 -> 17446 | D15: ='2026년 3월 말 인구'!Q17 -> 17160 | E15: ='2026년 3월 말 인구'!K17 -> 15801 | F15: =B15/$B$5*100 -> 3.1736395
A16: 삼가동 | B16: ='2026년 3월 말 인구'!O18 -> 15285 | C16: ='2026년 3월 말 인구'!P18 -> 7627 | D16: ='2026년 3월 말 인구'!Q18 -> 7658 | E16: ='2026년 3월 말 인구'!K18 -> 6250 | F16: =B16/$B$5*100 -> 1.4017535
A17: 유림1동 | B17: ='2026년 3월 말 인구'!O19 -> 13376 | C17: ='2026년 3월 말 인구'!P19 -> 6788 | D17: ='2026년 3월 말 인구'!Q19 -> 6588 | E17: ='2026년 3월 말 인구'!K19 -> 6529 | F17: =B17/$B$5*100 -> 1.2266833
... A47: 성복동 | B47: ='2026년 3월 말 인구'!O49 -> 54514 | C47: ='2026년 3월 말 인구'!P49 -> 26229 | D47: ='2026년 3월 말 인구'!Q49 -> 28285 | E47: ='2026년 3월 말 인구'!K49 -> 18783 | F47: =B47/$B$5*100 -> 4.999358

Sheet 읍면동별인구구성비 (외국인)
A2: 2026. 3월 말 읍면동별 외국인 인구 구성비
E3: (단위 : 명, %)
A4: 구분 | B4: 인구 | C4: 남 | D4: 여 | E4: 인구 구성비
A5: 용인시 | B5: =SUM(C5:D5) -> 21710 | C5: =SUM(C6,C20,C36) -> 12421 | D5: =SUM(D6,D20,D36) -> 9289 | E5: =B5/$B$5*100 -> 100
A6: 처인구 | B6: =SUM(C6:D6) -> 12429 | C6: =SUM(C7:C19) -> 8139 | D6: =SUM(D7:D19) -> 4290 | E6: =B6/$B$5*100 -> 57.250115
A7: 포곡읍 | B7: =SUM(C7:D7) -> 874 | C7: 549 | D7: 325 | E7: =B7/$B$5*100 -> 4.0257946
A8: 모현읍 | B8: =SUM(C8:D8) -> 1769 | C8: 1201 | D8: 568 | E8: =B8/$B$5*100 -> 8.1483187
A9: 이동읍 | B9: =SUM(C9:D9) -> 1721 | C9: 1259 | D9: 462 | E9: =B9/$B$5*100 -> 7.9272225
A10: 남사읍 | B10: =SUM(C10:D10) -> 1135 | C10: 864 | D10: 271 | E10: =B10/$B$5*100 -> 5.2280055
A11: 양지읍 | B11: =SUM(C11:D11) -> 721 | C11: 483 | D11: 238 | E11: =B11/$B$5*100 -> 3.3210502
A12: 원삼면 | B12: =SUM(C12:D12) -> 699 | C12: 559 | D12: 140 | E12: =B12/$B$5*100 -> 3.2197144
A13: 백암면 | B13: =SUM(C13:D13) -> 1002 | C13: 832 | D13: 170 | E13: =B13/$B$5*100 -> 4.6153846
A14: 중앙동 | B14: =SUM(C14:D14) -> 2097 | C14: 1151 | D14: 946 | E14: =B14/$B$5*100 -> 9.6591433
A15: 역북동 | B15: =SUM(C15:D15) -> 712 | C15: 347 | D15: 365 | E15: =B15/$B$5*100 -> 3.2795947
A16: 삼가동 | B16: =SUM(C16:D16) -> 93 | C16: 41 | D16: 52 | E16: =B16/$B$5*100 -> 0.42837402
A17: 유림1동 | B17: =SUM(C17:D17) -> 322 | C17: 180 | D17: 142 | E17: =B17/$B$5*100 -> 1.4831875
A18: 유림2동 | B18: =SUM(C18:D18) -> 485 | C18: 247 | D18: 238 | E18: =B18/$B$5*100 -> 2.2339936
A19: 동부동 | B19: =SUM(C19:D19) -> 799 | C19: 426 | D19: 373 | E19: =B19/$B$5*100 -> 3.6803316
A20: 기흥구 | B20: =SUM(C20:D20) -> 5920 | C20: =SUM(C21:C35) -> 2888 | D20: =SUM(D21:D35) -> 3032 | E20: =B20/$B$5*100 -> 27.26854
A21: 신갈동 | B21: =SUM(C21:D21) -> 747 | C21: 389 | D21: 358 | E21: =B21/$B$5*100 -> 3.4408107
A22: 영덕1동 | B22: =SUM(C22:D22) -> 262 | C22: 108 | D22: 154 | E22: =B22/$B$5*100 -> 1.2068171
A23: 영덕2동 | B23: =SUM(C23:D23) -> 150 | C23: 83 | D23: 67 | E23: =B23/$B$5*100 -> 0.69092584
A24: 구갈동 | B24: =SUM(C24:D24) -> 1439 | C24: 726 | D24: 713 | E24: =B24/$B$5*100 -> 6.6282819
A25: 상갈동 | B25: =SUM(C25:D25) -> 331 | C25: 183 | D25: 148 | E25: =B25/$B$5*100 -> 1.524643
A26: 보라동 | B26: =SUM(C26:D26) -> 240 | C26: 121 | D26: 119 | E26: =B26/$B$5*100 -> 1.1054813
A27: 기흥동 | B27: =SUM(C27:D27) -> 302 | C27: 178 | D27: 124 | E27: =B27/$B$5*100 -> 1.391064
A28: 서농동 | B28: =SUM(C28:D28) -> 1243 | C28: 539 | D28: 704 | E28: =B28/$B$5*100 -> 5.7254721
A29: 구성동 | B29: =SUM(C29:D29) -> 164 | C29: 62 | D29: 102 | E29: =B29/$B$5*100 -> 0.75541225
A30: 마북동 | B30: =SUM(C30:D30) -> 233 | C30: 107 | D30: 126 | E30: =B30/$B$5*100 -> 1.0732381
A31: 동백1동 | B31: =SUM(C31:D31) -> 120 | C31: 41 | D31: 79 | E31: =B31/$B$5*100 -> 0.55274067
A32: 동백2동 | B32: =SUM(C32:D32) -> 101 | C32: 46 | D32: 55 | E32: =B32/$B$5*100 -> 0.4652234
... A35: 보정동 | B35: =SUM(C35:D35) -> 211 | C35: 95 | D35: 116 | E35: =B35/$B$5*100 -> 0.97190235
A36: 수지구 | B36: =SUM(C36:D36) -> 3361 | C36: =SUM(C37:C47) -> 1394 | D36: =SUM(D37:D47) -> 1967 | E36: =B36/$B$5*100 -> 15.481345
A37: 풍덕천1동 | B37: =SUM(C37:D37) -> 592 | C37: 277 | D37: 315 | E37: =B37/$B$5*100 -> 2.726854
A38: 풍덕천2동 | B38: =SUM(C38:D38) -> 251 | C38: 104 | D38: 147 | E38: =B38/$B$5*100 -> 1.1561492
A39: 신봉동 | B39: =SUM(C39:D39) -> 149 | C39: 71 | D39: 78 | E39: =B39/$B$5*100 -> 0.68631967
A40: 죽전1동 | B40: =SUM(C40:D40) -> 165 | C40: 66 | D40: 99 | E40: =B40/$B$5*100 -> 0.76001842
A41: 죽전2동 | B41: =SUM(C41:D41) -> 87 | C41: 39 | D41: 48 | E41: =B41/$B$5*100 -> 0.40073699
A42: 죽전3동 | B42: =SUM(C42:D42) -> 1242 | C42: 451 | D42: 791 | E42: =B42/$B$5*100 -> 5.720866
A43: 동천동 | B43: =SUM(C43:D43) -> 400 | C43: 197 | D43: 203 | E43: =B43/$B$5*100 -> 1.8424689
A44: 상현1동 | B44: =SUM(C44:D44) -> 56 | C44: 22 | D44: 34 | E44: =B44/$B$5*100 -> 0.25794565
A45: 상현2동 | B45: =SUM(C45:D45) -> 87 | C45: 33 | D45: 54 | E45: =B45/$B$5*100 -> 0.40073699
A46: 상현3동 | B46: =SUM(C46:D46) -> 124 | C46: 35 | D46: 89 | E46: =B46/$B$5*100 -> 0.57116536
A47: 성복동 | B47: =SUM(C47:D47) -> 208 | C47: 99 | D47: 109 | E47: =B47/$B$5*100 -> 0.95808383

Sheet 2022년~2026년 월별인구 및 세대현황
A2: 2022년~2026년 월별 인구 및 세대 현황
G3: (단위 : 명,세대,%)
A4: 구분 | B4: 인구 | C4: 남 | D4: 여 | E4: 세대수 | F4: 전월대비 인구증감수 | G4: 전월대비 인구증감율
A5: 2012.1월 | B5: 912039 | C5: 454568 | D5: 457471 | E5: 324782 | F5: 765 | G5: 0.0008
A6: 2012.2월 | B6: 913403 | C6: 455135 | D6: 458268 | E6: 325475 | F6: 1364 | G6: 0.0015
A7: 2012.3월 | B7: 914920 | C7: 456011 | D7: 458909 | E7: 325914 | F7: 1517 | G7: 0.0017
A8: 2012.4월 | B8: 916862 | C8: 457082 | D8: 459780 | E8: 326286 | F8: 1942 | G8: 0.0021
A9: 2012.5월 | B9: 918750 | C9: 458151 | D9: 460599 | E9: 326769 | F9: 1888 | G9: 0.0021
A10: 2012.6월 | B10: 919949 | C10: 458789 | D10: 461160 | E10: 327234 | F10: 1199 | G10: 0.001305034
A11: 2012.7월 | B11: 921526 | C11: 459644 | D11: 461882 | E11: 327568 | F11: 1577 | G11: 0.0017142255
A12: 2012.8월 | B12: 923461 | C12: 460688 | D12: 462773 | E12: 328181 | F12: 2159 | G12: 0.002099778
A13: 2012.9월 | B13: 925703 | C13: 461750 | D13: 463953 | E13: 328782 | F13: 2242 | G13: 0.0024278232
A14: 2012.10월 | B14: 927957 | C14: 462918 | D14: 465039 | E14: 329641 | F14: 2254 | G14: 0.0024349062
A15: 2012.11월 | B15: 929195 | C15: 463233 | D15: 465962 | E15: 330522 | F15: 1238 | G15: 0.0013341135
A16: 2012.12월 | B16: 930058 | C16: 463482 | D16: 466576 | E16: 331035 | F16: 863 | G16: 0.00092876092
... A47: 2015.7월 | B47: 988092 | C47: 493017 | D47: 495075 | E47: 351450 | F47: 1794 | G47: 0.0018
A48: 2015.8월 | B48: 989086 | C48: 493499 | D48: 495587 | E48: 351902 | F48: =B48-B47 -> 994 | G48: 0.0028
A49: 2015.9월 | B49: 990516 | C49: 494128 | D49: 496388 | E49: 352464 | F49: =B49-B48 -> 1430 | G49: 0.0014
A50: 2015.10월 | B50: 991867 | C50: 494689 | D50: 497178 | E50: 353147 | F50: =B50-B49 -> 1351 | G50: 0.0014
A51: 2015.11월 | B51: 992383 | C51: 494490 | D51: 497893 | E51: 354013 | F51: =B51-B50 -> 516 | G51: 0.0005
A52: 2015.12월 | B52: 992396 | C52: 494438 | D52: 497958 | E52: 354267 | F52: =B52-B51 -> 13 | G52: 0.00%
A53: 2016.1월 | B53: 992396 | C53: 494421 | D53: 497975 | E53: 354460 | F53: =B53-B52 -> 0 | G53: 0.00%
A54: 2016.2월 | B54: 992633 | C54: 494664 | D54: 497969 | E54: 354924 | F54: =B54-B53 -> 237 | G54: 0.02%
A55: 2016.3월 | B55: 993560 | C55: 495103 | D55: 498457 | E55: 355364 | F55: =B55-B54 -> 927 | G55: 0.09%
A56: 2016.4월 | B56: 994945 | C56: 495696 | D56: 499249 | E56: 355817 | F56: =B56-B55 -> 1385 | G56: 0.14%
A57: 2016.5월 | B57: 996628 | C57: 496642 | D57: 499986 | E57: 356545 | F57: =B57-B56 -> 1683 | G57: 0.17%
A58: 2016.6월 | B58: =C58+D58 -> 998079 | C58: 497384 | D58: 500695 | E58: 357225 | F58: =B58-B57 -> 1451 | G58: 0.15%
A59: 2016.7월 | B59: 999941 | C59: 498554 | D59: 501387 | E59: 357856 | F59: =B59-B58 -> 1862 | G59: 0.19%
A60: 2016.8월 | B60: 1000945 | C60: 499165 | D60: 501780 | E60: 358390 | F60: =B60-B59 -> 1004 | G60: 0.10%
A61: 2016.9월 | B61: 1002242 | C61: 499680 | D61: 502562 | E61: 359142 | F61: =B61-B60 -> 1297 | G61: 0.13%
A62: 2016.10월 | B62: 1004383 | C62: 500748 | D62: 503635 | E62: 360424 | F62: =B62-B61 -> 2141 | G62: 0.21%
A63: 2016.11월 | B63: 1006467 | C63: 501543 | D63: 504924 | E63: 362335 | F63: =B63-B62 -> 2084 | G63: 0.21%
A64: 2016.12월 | B64: 1008012 | C64: 502100 | D64: 505912 | E64: 363559 | F64: =B64-B63 -> 1545 | G64: 0.15%
A65: 2017.1월 | B65: 1008169 | C65: 502175 | D65: 505994 | E65: 363890 | F65: =B65-B64 -> 157 | G65: 0.02%
A66: 2017.2월 | B66: 1008858 | C66: 502499 | D66: 506359 | E66: 364615 | F66: =B66-B65 -> 689 | G66: 0.07%
A67: 2017.3월 | B67: 1010163 | C67: 503304 | D67: 506859 | E67: 365213 | F67: =B67-B66 -> 1305 | G67: 0.13%
A68: 2017.4월 | B68: 1011259 | C68: 503922 | D68: 507337 | E68: 365683 | F68: =B68-B67 -> 1096 | G68: 0.11%
A69: 2017.5월 | B69: 1012417 | C69: 504627 | D69: 507790 | E69: 366232 | F69: =B69-B68 -> 1158 | G69: 0.11%
A70: 2017.6월 | B70: =C70+D70 -> 1013429 | C70: 505144 | D70: 508285 | E70: 366740 | F70: =B70-B69 -> 1012 | G70: 0.10%
A71: 2017.7월 | B71: 1015075 | C71: 506035 | D71: 509040 | E71: 367444 | F71: =B71-B70 -> 1646 | G71: 0.16%
A72: 2017.8월 | B72: 1016370 | C72: 506741 | D72: 509629 | E72: 368127 | F72: =B72-B71 -> 1295 | G72: 0.29%
A73: 2017.9월 | B73: 1018005 | C73: 507369 | D73: 510636 | E73: 368968 | F73: =B73-B72 -> 1635 | G73: 0.16%
A74: 2017.10월 | B74: 1019184 | C74: 507881 | D74: 511303 | E74: 369868 | F74: =B74-B73 -> 1179 | G74: 0.12%
A75: 2017.11월 | B75: 1019654 | C75: 507979 | D75: 511675 | E75: 370549 | F75: =B75-B74 -> 470 | G75: 0.05%
A76: 2017.12월 | B76: 1021007 | C76: 508625 | D76: 512382 | E76: 371685 | F76: =B76-B75 -> 1353 | G76: 0.13%
A77: 2018.1월 | B77: 1023152 | C77: 509726 | D77: 513426 | E77: 372998 | F77: =B77-B76 -> 2145 | G77: 0.21%
A78: 2018.2월 | B78: =SUM(C78:D78) -> 1024632 | C78: 510393 | D78: 514239 | E78: 374166 | F78: =B78-B77 -> 1480 | G78: 0.22%
A79: 2018.3월 | B79: 1025783 | C79: 510935 | D79: 514848 | E79: 375064 | F79: =B79-B78 -> 1151 | G79: 0.11%
A80: 2018.4월 | B80: =SUM(C80:D80) -> 1027167 | C80: 511480 | D80: 515687 | E80: 375809 | F80: =B80-B79 -> 1384 | G80: 0.13%
A81: 2018.5월 | B81: 1028642 | C81: 512258 | D81: 516384 | E81: 376535 | F81: =B81-B80 -> 1475 | G81: 0.14%
A82: 2018.6월 | B82: 1029988 | C82: 513166 | D82: 516822 | E82: 377137 | F82: =B82-B81 -> 1346 | G82: 0.12%
A83: 2018.7월 | B83: 1035058 | C83: 515981 | D83: 519077 | E83: 379247 | F83: =B83-B82 -> 5070 | G83: 0.49%
A84: 2018.8월 | B84: 1039984 | C84: 518587 | D84: 521397 | E84: 381814 | F84: =B84-B83 -> 4926 | G84: 0.48%
A85: 2018.9월 | B85: 1044854 | C85: 520894 | D85: 523960 | E85: 384280 | F85: =B85-B84 -> 4870 | G85: 0.47%
A86: 2018.10월 | B86: 1049102 | C86: 522839 | D86: 526263 | E86: 386759 | F86: =B86-B85 -> 4248 | G86: 0.41%
A87: 2018.11월 | B87: 1051009 | C87: 523516 | D87: 527493 | E87: 388384 | F87: =B87-B86 -> 1907 | G87: 0.0018
A88: 2018.12월 | B88: 1053522 | C88: 524661 | D88: 528861 | E88: 390137 | F88: =B88-B87 -> 2513 | G88: =F88/B87 -> 0.0023910357
A89: 2019.1월 | B89: 1055369 | C89: 525652 | D89: 529717 | E89: 389975 | F89: =B89-B88 -> 1847 | G89: =F89/B88 -> 0.001753167
A90: 2019.2월 | B90: 1056567 | C90: 526184 | D90: 530383 | E90: 391361 | F90: =B90-B89 -> 1198 | G90: =F90/B89 -> 0.001135148
A91: 2019.3월 | B91: 1057756 | C91: 526601 | D91: 531155 | E91: 393857 | F91: =B91-B90 -> 1189 | G91: =F91/B90 -> 0.0011253427
A92: 2019.4월 | B92: 1060810 | C92: 528272 | D92: 532538 | E92: 395331 | F92: =B92-B91 -> 3054 | G92: =F92/B91 -> 0.0028872443
A93: 2019.5월 | B93: 1064683 | C93: 530408 | D93: 534275 | E93: 397197 | F93: =B93-B92 -> 3873 | G93: =F93/B92 -> 0.0036509837
A94: 2019.6월 | B94: 1067364 | C94: 531864 | D94: 535500 | E94: 398698 | F94: =B94-B93 -> 2681 | G94: =F94/B93 -> 0.0025181204
A95: 2019.7월 | B95: 1070879 | C95: 533711 | D95: 537168 | E95: 400454 | F95: =B95-B94 -> 3515 | G95: =F95/B94 -> 0.0032931596
A96: 2019.8월 | B96: 1073441 | C96: 535152 | D96: 538289 | E96: 402037 | F96: =B96-B95 -> 2562 | G96: =F96/B95 -> 0.0023924272
A97: 2019.9월 | B97: 1074531 | C97: 535460 | D97: 539071 | E97: 403083 | F97: =B97-B96 -> 1090 | G97: =F97/B96 -> 0.0010154261
A98: 2019.10월 | B98: 1076398 | C98: 536292 | D98: 540106 | E98: 404484 | F98: =B98-B97 -> 1867 | G98: =F98/B97 -> 0.0017375022
A99: 2019.11월 | B99: 1077239 | C99: 536298 | D99: 540941 | E99: 405560 | F99: =B99-B98 -> 841 | G99: =F99/B98 -> 0.00078130952
... A101: 2020.1월 | B101: 1080626 | C101: 537893 | D101: 542733 | E101: 408194 | F101: =B101-B100 -> 2035 | G101: =F101/B100 -> 0.0018867207
A102: 2020.2월 | B102: 1082737 | C102: 538830 | D102: 543907 | E102: 409892 | F102: 2111 | G102: =F102/B101 -> 0.0019534973
A103: 2020.3월 | B103: 1084544 | C103: 539671 | D103: 544873 | E103: 411186 | F103: 1807 | G103: =F103/B102 -> 0.0016689187
A104: 2020.4월 | B104: =C104+D104 -> 1087151 | C104: 541042 | D104: 546109 | E104: 412683 | F104: =B104-B102 -> 4414 | G104: =F104/B103 -> 0.0040699133
A105: 2020.5월 | B105: =C105+D105 -> 1089087 | C105: 542289 | D105: 546798 | E105: 414132 | F105: =B105-B104 -> 1936 | G105: =F105/B104 -> 0.0017808014
A106: 2020.6월 | B106: =C106+D106 -> 1091025 | C106: 543419 | D106: 547606 | E106: 415491 | F106: =B106-B105 -> 1938 | G106: =F106/B105 -> 0.0017794722
A107: 2020.7월 | B107: =C107+D107 -> 1092878 | C107: 544256 | D107: 548622 | E107: 416896 | F107: =B107-B106 -> 1853 | G107: =F107/B106 -> 0.0016984029
A108: 2020.8월 | B108: =C108+D108 -> 1093094 | C108: 544397 | D108: 548697 | E108: 417777 | F108: =B108-B107 -> 216 | G108: =F108/B107 -> 0.00019764329
A109: 2020.9월 | B109: =C109+D109 -> 1093100 | C109: 544368 | D109: 548732 | E109: 418471 | F109: =B109-B108 -> 6 | G109: =F109/B108 -> 5.4890064e-06
A110: 2020.10월 | B110: 1092802 | C110: 544083 | D110: 548719 | E110: 418896 | F110: =B110-B109 -> -298 | G110: =F110/B109 -> -0.00027261916
A111: 2020.11월 | B111: 1091865 | C111: 543493 | D111: 548372 | E111: 419513 | F111: =B111-B110 -> -937 | G111: =F111/B110 -> -0.00085742888
A112: 2020.12월 | B112: 1090907 | C112: 542613 | D112: 548294 | E112: 420519 | F112: =B112-B111 -> -958 | G112: =F112/B111 -> -0.00087739785
A113: 2021.2월 | B113: 1092022 | C113: 543007 | D113: 549015 | E113: 422668 | F113: =B113-B112 -> 1115 | G113: =F113/B112 -> 0.0010220853
A114: 2021.3월 | B114: 1091362 | C114: 542633 | D114: 548729 | E114: 422961 | F114: =B114-B113 -> -660 | G114: =F114/B113 -> -0.00060438343
A115: 2021.4월 | B115: 1092895 | C115: 543554 | D115: 549341 | E115: 424024 | F115: =B115-B114 -> 1533 | G115: =F115/B114 -> 0.0014046668
A116: 2021.5월 | B116: 1093775 | C116: 544139 | D116: 549636 | E116: 424903 | F116: =B116-B115 -> 880 | G116: =F116/B115 -> 0.00080520087
A117: 2021.6월 | B117: 1093775 | C117: 544191 | D117: 549584 | E117: 425579 | F117: =B117-B116 -> 0 | G117: =F117/B116 -> 0
A118: 2021.7월 | B118: 1094953 | C118: 544708 | D118: 550245 | E118: 426688 | F118: =B118-B117 -> 1178 | G118: =F118/B117 -> 0.001077004
A119: 2021.8월 | B119: 1096046 | C119: 545300 | D119: 550746 | E119: 428163 | F119: =B119-B118 -> 1093 | G119: =F119/B118 -> 0.00099821636
A120: 2021.9월 | B120: 1095835 | C120: 544997 | D120: 550838 | E120: 428819 | F120: =B120-B119 -> -211 | G120: =F120/B119 -> -0.00019251017
A121: 2021.10월 | B121: 1095888 | C121: 544836 | D121: 551052 | E121: 429283 | F121: =B121-B120 -> 53 | G121: =F121/B120 -> 4.8364945e-05
A122: 2021.11월 | B122: 1094991 | C122: 544288 | D122: 550703 | E122: 429445 | F122: =B122-B121 -> -897 | G122: =F122/B121 -> -0.0008185143
A123: 2021.12월 | B123: 1093665 | C123: 543579 | D123: 550086 | E123: 429492 | F123: -1326 | G123: =F123/B122 -> -0.0012109689
A124: 2022.1월 | B124: 1092840 | C124: 543224 | D124: 549616 | E124: 429587 | F124: =B124-B123 -> -825 | G124: =F124/B123 -> -0.00075434434
A125: 2022.2월 | B125: 1092246 | C125: 542906 | D125: 549340 | E125: 430127 | F125: =B125-B124 -> -594 | G125: =F125/B124 -> -0.00054353794
A126: 2022.3월 | B126: 1091955 | C126: 542640 | D126: 549315 | E126: 430634 | F126: =B126-B125 -> -291 | G126: =F126/B125 -> -0.0002664235
A127: 2022.4월 | B127: 1092315 | C127: 542791 | D127: 549524 | E127: 430825 | F127: =B127-B126 -> 360 | G127: =F127/B126 -> 0.00032968392
A128: 2022.5월 | B128: 1092944 | C128: 543280 | D128: 549664 | E128: 431345 | F128: =B128-B127 -> 629 | G128: =F128/B127 -> 0.00057584122
A129: 2022.6월 | B129: 1093969 | C129: 543996 | D129: 549973 | E129: 432059 | F129: =B129-B128 -> 1025 | G129: =F129/B128 -> 0.00093783396
A130: 2022.7월 | B130: 1094687 | C130: 544552 | D130: 550135 | E130: 432610 | F130: =B130-B129 -> 718 | G130: =F130/B129 -> 0.00065632573
A131: 2022.8월 | B131: 1095039 | C131: 544841 | D131: 550198 | E131: 433144 | F131: =B131-B130 -> 352 | G131: =F131/B130 -> 0.0003215531
A132: 2022.9월 | B132: 1093496 | C132: 544030 | D132: 549466 | E132: 432572 | F132: -1543 | G132: -0.0014090822
...

Sheet Sheet1
